Workbook

Sheet ЛС-01-01-01
A1: =Source!B1 -> Smeta.RU (495) 974-1589
K2: Форма № 4б
A3: 25МГ-ДПР-2750 — Реконструкция газопровода низкого давления. Вырубка и пересадка зелёных насаждений, корчёвка пней | AP3: 25МГ-ДПР-2750 — Реконструкция газопровода низкого давления. Вырубка и пересадка зелёных насаждений, корчёвка пней
A4: (наименование стройки и/или объекта)
A6: =CONCATENATE( "ЛОКАЛЬНАЯ СМЕТА № " ,IF(Source!F12<>"Новый объект", Source!F12, "")) -> ЛОКАЛЬНАЯ СМЕТА № ЛС-01-01-01
A9: (наименование работ и затрат)
A11: =CONCATENATE( "Основание: чертежи № " , Source!J12) -> Основание: чертежи № Том 6.2 ООС2, Том 6.3 ООС3 (18.09)
I13: В базисном уровне цен | J13: В текущем уровне цен
E14: Сметная стоимость | I14: =I15+I16+I17+I18 -> 59.05 | J14: =J15+J16+J17+J18 -> 2770.06 | K14: тыс.руб.
E15: Строительные работы | I15: =ROUND((Source!F218)/1000, 2) -> 59.05 | J15: =ROUND((Source!P218)/1000, 2) -> 2770.06 | K15: тыс.руб.
E16: Работы по монтажу оборудования | I16: =ROUND((Source!F219)/1000, 2) -> 0 | J16: =ROUND((Source!P219)/1000, 2) -> 0 | K16: тыс.руб.
E17: Оборудование | I17: =ROUND((Source!F210)/1000, 2) -> 0 | J17: =ROUND((Source!P210)/1000, 2) -> 0 | K17: тыс.руб.
E18: Прочие работы и затраты | I18: =ROUND((Source!F220+Source!F221)/1000, 2) -> 0 | J18: =ROUND((Source!P220+Source!P221)/1000, 2) -> 0 | K18: тыс.руб.
E19: Средства на оплату труда | I19: =(Source!F216+ Source!F215)/1000 -> 18.04217 | J19: =((Source!P216 + Source!P215)/1000) -> 1042.1162 | K19: тыс.руб.
E20: Затраты труда | I20: =Source!F223 -> 1524.8653 | K20: чел.-ч.
E21: Кроме того:
E22: Возврат материалов | I22: =SUM(Y1:Y254)/1000 -> 0 | J22: =SUM(Z1:Z254)/1000 -> 0 | K22: тыс.руб.
A24: Составлен(а) по ТСН-2001 с учетом Дополнения №: 82
A25: № и период сборника коэффициентов (индексов) пересчета: Текущий уровень цен, III квартал 2026, выпуск 221 | AP25: № и период сборника коэффициентов (индексов) пересчета: Текущий уровень цен, III квартал 2026, выпуск 221
A26: № п/п | B26: Шифр расценки и коды ресурсов | C26: Наименование работ и затрат | D26: Ед. изм. | E26: Кол-во единиц | F26: Цена на ед. изм., руб. | G26: Попра- вочные коэффи- циенты | H26: Коэффи- циенты зимних удорожа- ний | I26: Всего в ценах на Январь 2000 года, руб. | J26: Коэффи- циенты (индек- сы) пере- счета, нормы НР и СП | K26: ВСЕГО затрат в текущем уровне цен, руб.
A27: 1 | B27: 2 | C27: 3 | D27: 4 | E27: 5 | F27: 6 | G27: 7 | H27: 8 | I27: 9 | J27: 10 | K27: 11
A29: =CONCATENATE("Локальная смета: ",IF(Source!G20<>"Новая локальная смета", Source!G20, "")) -> Локальная смета: Вырубка и пересадка зелёных насаждений, корчёвка пней
A31: =CONCATENATE("Раздел: ",IF(Source!G24<>"Новый раздел", Source!G24, "")) -> Раздел: Вырубка деревьев и кустарников
A32: 1 | B32: =Source!F28 -> 6.68-30-1 | C32: Валка и разделка деревьев вручную с последующей ручной переноской и складированием кряжей и сучьев диаметром 100 мм на расстояние до 50 м | D32: =Source!H28 -> 1 ДЕРЕВО | E32: =Source!I28 -> 24 | Q32: =Source!X28 -> 149.14 | R32: =Source!X29 -> 8614.57 | S32: =Source!Y28 -> 78.96 | T32: =Source!Y29 -> 4560.66 | U32: =ROUND((175/100)*ROUND(Source!R28, 2), 2) -> 0 | V32: =ROUND((0/100)*ROUND(Source!R29, 2), 2) -> 0 | AC32: 0
C33: ЗП | F33: =Source!AO28 -> 5.29 | G33: 1,1 | H33: =Source!AV29 -> 1.047 | I33: =Source!S28 -> 146.22 | J33: =IF(Source!BA29<> 0, Source!BA29, 1) -> 57.76 | K33: =Source!S29 -> 8445.66
C34: НР от ФОТ | D34: % | E34: =Source!DN29 -> 102 | I34: =SUM(Q32:Q33) -> 149.14 | J34: =Source!BZ29 -> 102 | K34: =SUM(R32:R33) -> 8614.57
C35: СП от ФОТ | D35: % | E35: =Source!DO29 -> 54 | I35: =SUM(S32:S34) -> 78.96 | J35: =Source!CA29 -> 54 | K35: =SUM(T32:T34) -> 4560.66
C36: ЗТР | D36: чел-ч | E36: =Source!AQ28 -> 0.49 | G36: 1,1 | H36: =Source!AV29 -> 1.047 | I36: =Source!U28 -> 13.543992
C37: ВСЕГО работ по позиции: | H37: =I33+I34+I35+0-0-0 -> 374.32 | J37: =K33+K34+K35+0-0-0 -> 21620.89
C38: ВСЕГО оборудование по позиции: | H38: =0+0 -> 0 | J38: =0+0 -> 0
C39: ВСЕГО по позиции: | H39: =I33+I34+I35+0 -> 374.32 | J39: =K33+K34+K35+0 -> 21620.89 | O39: =I33+I34+I35+0 -> 374.32 | P39: =K33+K34+K35+0 -> 21620.89
A41: 2 | B41: =Source!F30 -> 6.68-30-2 | C41: Валка и разделка деревьев вручную с последующей ручной переноской и складированием кряжей и сучьев диаметром 200 мм на расстояние до 50 м | D41: =Source!H30 -> 1 ДЕРЕВО | E41: =Source!I30 -> 11 | Q41: =Source!X30 -> 143.95 | R41: =Source!X31 -> 8314.66 | S41: =Source!Y30 -> 76.21 | T41: =Source!Y31 -> 4401.88 | U41: =ROUND((175/100)*ROUND(Source!R30, 2), 2) -> 0 | V41: =ROUND((0/100)*ROUND(Source!R31, 2), 2) -> 0 | AC41: 0
C42: ЗП | F42: =Source!AO30 -> 11.14 | G42: 1,1 | H42: =Source!AV31 -> 1.047 | I42: =Source!S30 -> 141.13 | J42: =IF(Source!BA31<> 0, Source!BA31, 1) -> 57.76 | K42: =Source!S31 -> 8151.63
C43: НР от ФОТ | D43: % | E43: =Source!DN31 -> 102 | I43: =SUM(Q41:Q42) -> 143.95 | J43: =Source!BZ31 -> 102 | K43: =SUM(R41:R42) -> 8314.66
C44: СП от ФОТ | D44: % | E44: =Source!DO31 -> 54 | I44: =SUM(S41:S43) -> 76.21 | J44: =Source!CA31 -> 54 | K44: =SUM(T41:T43) -> 4401.88
C45: ЗТР | D45: чел-ч | E45: =Source!AQ30 -> 1.07 | G45: 1,1 | H45: =Source!AV31 -> 1.047 | I45: =Source!U30 -> 13.555509
C46: ВСЕГО работ по позиции: | H46: =I42+I43+I44+0-0-0 -> 361.29 | J46: =K42+K43+K44+0-0-0 -> 20868.17
C47: ВСЕГО оборудование по позиции: | H47: =0+0 -> 0 | J47: =0+0 -> 0
C48: ВСЕГО по позиции: | H48: =I42+I43+I44+0 -> 361.29 | J48: =K42+K43+K44+0 -> 20868.17 | O48: =I42+I43+I44+0 -> 361.29 | P48: =K42+K43+K44+0 -> 20868.17
A50: 3 | B50: =Source!F32 -> 6.68-30-3 | C50: Валка и разделка деревьев вручную с последующей ручной переноской и складированием кряжей и сучьев диаметром 300 мм на расстояние до 50 м | D50: =Source!H32 -> 1 ДЕРЕВО | E50: =Source!I32 -> 9 | Q50: =Source!X32 -> 245.28 | R50: =Source!X33 -> 14167.63 | S50: =Source!Y32 -> 129.85 | T50: =Source!Y33 -> 7500.51 | U50: =ROUND((175/100)*ROUND(Source!R32, 2), 2) -> 0 | V50: =ROUND((0/100)*ROUND(Source!R33, 2), 2) -> 0 | AC50: 0
...

Sheet Source
A1: 0 | B1: Smeta.RU (495) 974-1589 | D1: _PS_ | F1: 0 | G1: 0 | H1: 0 | I1: Smeta.RU | K1: 1 | L1: 76812 | M1: 10 | N1: 12 | O1: 2 | P1: 0 | Q1: 1
A4: 8 | B4: 1 | C4: -1 | F4: 25МГ-ДПР-2750 | G4: 25МГ-ДПР-2750 — Реконструкция газопровода низкого давления | EC4: 0
A12: 1 | B12: 236 | C12: 0 | D12: =ROW(A201) -> 201 | E12: 0 | F12: ЛС-01-01-01 | G12: Вырубка и пересадка зелёных насаждений, корчёвка пней | I12: 0 | J12: Том 6.2 ООС2, Том 6.3 ООС3 (18.09) | K12: 0 | L12: 0 | M12: 2 | O12: 2026 | P12: 7 | Q12: 0 | R12: 0 | S12: 0 | T12: 1 | U12: Основание:Том 6.2 ООС2, Том 6.3 ООС3 (18.09) Уровень цен:3 кв 2026 Нормативные индексы ТСН:№ 221 III квартал 2026 Регион:ТСН-2001 г. Москвы (с доп.1-82) | V12: 1 | BB12: 0 | BH12: Сметные нормы списания | BI12: Коды ОКП для ТСН-2001 МГЭ | BJ12: 1 | BK12: 1 | BL12: 0 | BM12: 0 | BN12: 1 | BO12: 0 | BP12: -1 | BQ12: 2 | BR12: 1 | BS12: 0 | BT12: 0 | BU12: 0 | BV12: 0 | BW12: 0 | BX12: 0 | BZ12: Типовой расчет для ТСН-2001 МГЭ, Новая методика с выпуска доп. 43 (Строительство), Доп 64 | CA12: Территориальные сметные нормативы для Москвы ТСН-2001 (МГЭ) | CB12: Территориальные сметные нормативы для Москвы ТСН-2001 (МГЭ) | CC12: Территориальные сметные нормативы для Москвы ТСН-2001 (МГЭ) | CD12: Территориальные сметные нормативы для Москвы ТСН-2001 (МГЭ) | CE12: Поправки для ТСН-2001 от 15.07.2022 г. доп.65 | CF12: 0 | CG12: 0 | CH12: 524296 | CK12: 82 | CQ12: Территориальные сметные нормативы для Москвы (ТСН-2001) | CR12: ТЕР | CS12: 41660 | CT12: 1 | CU12: 72 | CY12: 0 | EC12: 0
A15: 15 | B15: 1
A18: 52 | B18: =B201 -> 236 | C18: =C201 -> 1 | D18: =D201 -> 12 | E18: =E201 -> 0 | F18: =F201 -> ЛС-01-01-01 | G18: =G201 -> Вырубка и пересадка зелёных насаждений, корчёвка пней | O18: =O201 -> 31168.39 | P18: =P201 -> 9076.2 | Q18: =Q201 -> 4470.07 | R18: =R201 -> 420.05 | S18: =S201 -> 17622.12 | T18: =T201 -> 0 | U18: =U201 -> 1524.8653 | V18: =V201 -> 0 | ... GX18: =GX201 -> 0
A20: 3 | B20: 1 | D20: =ROW(A171) -> 171 | F20: ЛС-01-01-01 | G20: Вырубка и пересадка зелёных насаждений, корчёвка пней | I20: 0 | K20: 0 | L20: ЛС-01-01-01 | S20: 0 | T20: 0 | U20: Вырубка и пересадка зелёных насаждений, корчёвка пней | V20: 1 | BX20: 0 | CF20: 0 | CG20: 0
A22: 52 | B22: =B171 -> 1 | C22: =C171 -> 3 | D22: =D171 -> 20 | E22: =E171 -> 0 | F22: =F171 -> ЛС-01-01-01 | G22: =G171 -> Вырубка и пересадка зелёных насаждений, корчёвка пней | O22: =O171 -> 31168.39 | P22: =P171 -> 9076.2 | Q22: =Q171 -> 4470.07 | R22: =R171 -> 420.05 | S22: =S171 -> 17622.12 | T22: =T171 -> 0 | U22: =U171 -> 1524.8653 | V22: =V171 -> 0 | ... GX22: =GX171 -> 0
A24: 4 | B24: 1 | D24: =ROW(A53) -> 53 | F24: 1 | G24: Вырубка деревьев и кустарников | I24: 0 | K24: -1 | S24: 0 | T24: 0 | V24: 1 | BX24: 0 | CJ24: 0
A26: 52 | B26: =B53 -> 1 | C26: =C53 -> 4 | D26: =D53 -> 24 | E26: =E53 -> 0 | F26: =F53 -> 1 | G26: =G53 -> Вырубка деревьев и кустарников | O26: =O53 -> 8293.09 | P26: =P53 -> 3407.72 | Q26: =Q53 -> 0 | R26: =R53 -> 0 | S26: =S53 -> 4885.37 | T26: =T53 -> 0 | U26: =U53 -> 490.35468 | V26: =V53 -> 0 | ... GX26: =GX53 -> 0
A28: 17 | B28: 1 | C28: =ROW(SmtRes!A1) -> 1 | D28: =ROW(EtalonRes!A1) -> 1 | E28: 1 | F28: 6.68-30-1 | G28: Валка и разделка деревьев вручную с последующей ручной переноской и складированием кряжей и сучьев диаметром 100 мм на расстояние до 50 м | H28: 1 ДЕРЕВО | I28: =ROUND(24,9) -> 24 | J28: 0 | K28: =ROUND(24,9) -> 24 | O28: =ROUND(CP28,2) -> 146.22 | P28: =ROUND(CQ28*I28,2) -> 0 | Q28: =ROUND(CR28*I28,2) -> 0 | R28: =ROUND(CS28*I28,2) -> 0 | S28: =ROUND(CT28*I28,2) -> 146.22 | T28: =ROUND(CU28*I28,2) -> 0 | U28: =CV28*I28 -> 13.543992 | V28: =CW28*I28 -> 0 | W28: =ROUND(CX28*I28,2) -> 0 | X28: =ROUND(CY28,2) -> 149.14 | Y28: =ROUND(CZ28,2) -> 78.96 | AA28: 86495194 | AB28: =(AC28+AD28+AF28) -> 5.819 | AC28: =(ES28) -> 0 | AD28: =((ET28*1.1)) -> 0 | AE28: =((EU28*1.1)) -> 0 | AF28: =((EV28*1.1)) -> 5.819 | AG28: =(AP28) -> 0 | AH28: =((EW28*1.1)) -> 0.539 | AI28: =((EX28*1.1)) -> 0 | AJ28: =(AS28) -> 0 | AK28: 0 | AL28: 0 | AM28: 0 | AN28: 0 | AO28: 5.29 | AP28: 0 | AQ28: 0.49 | AR28: 0 | AS28: 0 | AT28: 102 | AU28: 54 | AV28: 1.047 | AW28: 1 | AZ28: 1 | BA28: 1 | BB28: 1 | BC28: 1 | BH28: 0 | BI28: 1 | BJ28: 6.68-30-1 | BM28: 666 | BN28: 0 | BO28: 6.68-30-1 | BP28: 1 | BQ28: 60 | BR28: 0 | BS28: 1 | BT28: 1 | BU28: 1 | BV28: 1 | BW28: 1 | BX28: 1 | BZ28: 102 | CA28: 54 | CE28: 0 | CF28: 0 | CG28: 0 | CM28: 0 | CN28: Поправка:стеснённые условия, пп. "в" | CO28: 0 | CP28: =(P28+Q28+S28) -> 146.22 | CQ28: =(AC28*BC28*AW28) -> 0 | CR28: =(((ET28*1.1))*BB28*AV28) -> 0 | CS28: =(AE28*BS28*AV28) -> 0 | CT28: =(AF28*BA28*AV28) -> 6.092493 | CU28: =AG28 -> 0 | CV28: =(AH28*AV28) -> 0.564333 | CW28: =AI28 -> 0 | CX28: =AJ28 -> 0 | CY28: =(((S28+R28)*BZ28)/100) -> 149.1444 | CZ28: =(((S28+R28)*CA28)/100) -> 78.9588 | DE28: *1,1 | DF28: *1,1 | DG28: *1,1 | DI28: *1,1 | DJ28: *1,1 | DN28: 0 | DO28: 0 | DP28: 1 | DQ28: 1 | DU28: 1013 | DV28: 1 ДЕРЕВО | DW28: 1 ДЕРЕВО | DX28: 1 | EE28: 86331294 | EF28: 60 | EG28: Ремонтно-строительные работы | EH28: 0 | EJ28: 1 | EK28: 666 | EL28: ТСН-2001.6-68. 68-30...68-34 | EM28: ТСН-2001.6-68-13 | EO28: Попр.12.00.01.11.003 | EQ28: 0 | ER28: 0 | ES28: 0 | ET28: 0 | EU28: 0 | EV28: 5.29 | EW28: 0.49 | EX28: 0 | EY28: 0 | FQ28: 0 | FR28: 0 | FS28: 0 | FX28: 102 | FY28: 54 | GD28: 1 | GF28: -1639925576 | GG28: 2 | GH28: 0 | GI28: -2 | GJ28: 0 | GK28: 0 | GL28: =ROUND(IF(AND(BH28=3,BI28=3,FS28<>0),P28,0),2) -> 0 | GM28: =ROUND(O28+X28+Y28,2)+GX28 -> 374.32 | GN28: =IF(OR(BI28=0,BI28=1),GM28-GX28,0) -> 374.32 | GO28: =IF(BI28=2,GM28-GX28,0) -> 0 | GP28: =IF(BI28=4,GM28-GX28,0) -> 0 | GR28: 0 | GS28: 3 | GT28: 0 | GV28: =(GT28) -> 0 | GW28: 1 | GX28: =ROUND(HC28*I28,2) -> 0 | HA28: 0 | HB28: 0 | HC28: =GV28*GW28 -> 0 | HS28: 0 | IK28: 0
A29: 17 | B29: 1 | C29: =ROW(SmtRes!A2) -> 2 | D29: =ROW(EtalonRes!A2) -> 2 | E29: 1 | F29: 6.68-30-1 | G29: Валка и разделка деревьев вручную с последующей ручной переноской и складированием кряжей и сучьев диаметром 100 мм на расстояние до 50 м | H29: 1 ДЕРЕВО | I29: =ROUND(24,9) -> 24 | J29: 0 | K29: =ROUND(24,9) -> 24 | O29: =ROUND(CP29,2) -> 8445.66 | P29: =ROUND(CQ29*I29,2) -> 0 | Q29: =ROUND(CR29*I29,2) -> 0 | R29: =ROUND(CS29*I29,2) -> 0 | S29: =ROUND(CT29*I29,2) -> 8445.66 | T29: =ROUND(CU29*I29,2) -> 0 | U29: =CV29*I29 -> 13.543992 | V29: =CW29*I29 -> 0 | W29: =ROUND(CX29*I29,2) -> 0 | X29: =ROUND(CY29,2) -> 8614.57 | Y29: =ROUND(CZ29,2) -> 4560.66 | AA29: 86495195 | AB29: =(AC29+AD29+AF29) -> 5.819 | AC29: =(ES29) -> 0 | AD29: =((ET29*1.1)) -> 0 | AE29: =((EU29*1.1)) -> 0 | AF29: =((EV29*1.1)) -> 5.819 | AG29: =(AP29) -> 0 | AH29: =((EW29*1.1)) -> 0.539 | AI29: =((EX29*1.1)) -> 0 | AJ29: =(AS29) -> 0 | AK29: 0 | AL29: 0 | AM29: 0 | AN29: 0 | AO29: 5.29 | AP29: 0 | AQ29: 0.49 | AR29: 0 | AS29: 0 | AT29: 102 | AU29: 54 | AV29: 1.047 | AW29: 1 | AZ29: 1 | BA29: 57.76 | BB29: 1 | BC29: 1 | BH29: 0 | BI29: 1 | BJ29: 6.68-30-1 | BM29: 666 | BN29: 0 | BO29: 6.68-30-1 | BP29: 1 | BQ29: 60 | BR29: 0 | BS29: 57.76 | BT29: 1 | BU29: 1 | BV29: 1 | BW29: 1 | BX29: 1 | BZ29: 102 | CA29: 54 | CE29: 0 | CF29: 0 | CG29: 0 | CM29: 0 | CN29: Поправка:стеснённые условия, пп. "в" | CO29: 0 | CP29: =(P29+Q29+S29) -> 8445.66 | CQ29: =(AC29*BC29*AW29) -> 0 | CR29: =(((ET29*1.1))*BB29*AV29) -> 0 | CS29: =(AE29*BS29*AV29) -> 0 | CT29: =(AF29*BA29*AV29) -> 351.9024 | CU29: =AG29 -> 0 | CV29: =(AH29*AV29) -> 0.564333 | CW29: =AI29 -> 0 | CX29: =AJ29 -> 0 | CY29: =(S29+R29)*(BZ29/100) -> 8614.5732 | CZ29: =(S29+R29)*(CA29/100) -> 4560.6564 | DE29: *1,1 | DF29: *1,1 | DG29: *1,1 | DI29: *1,1 | DJ29: *1,1 | DN29: 102 | DO29: 54 | DP29: 1 | DQ29: 1 | DU29: 1013 | DV29: 1 ДЕРЕВО | DW29: 1 ДЕРЕВО | DX29: 1 | EE29: 86331294 | EF29: 60 | EG29: Ремонтно-строительные работы | EH29: 0 | EJ29: 1 | EK29: 666 | EL29: ТСН-2001.6-68. 68-30...68-34 | EM29: ТСН-2001.6-68-13 | EO29: Попр.12.00.01.11.003 | EQ29: 0 | ER29: 0 | ES29: 0 | ET29: 0 | EU29: 0 | EV29: 5.29 | EW29: 0.49 | EX29: 0 | EY29: 0 | FQ29: 0 | FR29: 0 | FS29: 0 | FX29: 102 | FY29: 54 | GD29: 1 | GF29: -1639925576 | GG29: 2 | GH29: 0 | GI29: -2 | GJ29: 0 | GK29: 0 | GL29: =ROUND(IF(AND(BH29=3,BI29=3,FS29<>0),P29,0),2) -> 0 | GM29: =ROUND(O29+X29+Y29,2)+GX29 -> 21620.89 | GN29: =IF(OR(BI29=0,BI29=1),GM29-GX29,0) -> 21620.89 | GO29: =IF(BI29=2,GM29-GX29,0) -> 0 | GP29: =IF(BI29=4,GM29-GX29,0) -> 0 | GR29: 0 | GS29: 3 | GT29: 0 | GV29: =(GT29) -> 0 | GW29: 1 | GX29: =ROUND(HC29*I29,2) -> 0 | HA29: 0 | HB29: 0 | HC29: =GV29*GW29 -> 0 | HS29: 0 | IK29: 0
A30: 17 | B30: 1 | C30: =ROW(SmtRes!A3) -> 3 | D30: =ROW(EtalonRes!A3) -> 3 | E30: 2 | F30: 6.68-30-2 | G30: Валка и разделка деревьев вручную с последующей ручной переноской и складированием кряжей и сучьев диаметром 200 мм на расстояние до 50 м | H30: 1 ДЕРЕВО | I30: =ROUND(11,9) -> 11 | J30: 0 | K30: =ROUND(11,9) -> 11 | O30: =ROUND(CP30,2) -> 141.13 | P30: =ROUND(CQ30*I30,2) -> 0 | Q30: =ROUND(CR30*I30,2) -> 0 | R30: =ROUND(CS30*I30,2) -> 0 | S30: =ROUND(CT30*I30,2) -> 141.13 | T30: =ROUND(CU30*I30,2) -> 0 | U30: =CV30*I30 -> 13.555509 | V30: =CW30*I30 -> 0 | W30: =ROUND(CX30*I30,2) -> 0 | X30: =ROUND(CY30,2) -> 143.95 | Y30: =ROUND(CZ30,2) -> 76.21 | AA30: 86495194 | AB30: =(AC30+AD30+AF30) -> 12.254 | AC30: =(ES30) -> 0 | AD30: =((ET30*1.1)) -> 0 | AE30: =((EU30*1.1)) -> 0 | AF30: =((EV30*1.1)) -> 12.254 | AG30: =(AP30) -> 0 | AH30: =((EW30*1.1)) -> 1.177 | AI30: =((EX30*1.1)) -> 0 | AJ30: =(AS30) -> 0 | AK30: 0 | AL30: 0 | AM30: 0 | AN30: 0 | AO30: 11.14 | AP30: 0 | AQ30: 1.07 | AR30: 0 | AS30: 0 | AT30: 102 | AU30: 54 | AV30: 1.047 | AW30: 1 | AZ30: 1 | BA30: 1 | BB30: 1 | BC30: 1 | BH30: 0 | BI30: 1 | BJ30: 6.68-30-2 | BM30: 666 | BN30: 0 | BO30: 6.68-30-2 | BP30: 1 | BQ30: 60 | BR30: 0 | BS30: 1 | BT30: 1 | BU30: 1 | BV30: 1 | BW30: 1 | BX30: 1 | BZ30: 102 | CA30: 54 | CE30: 0 | CF30: 0 | CG30: 0 | CM30: 0 | CN30: Поправка:стеснённые условия, пп. "в" | CO30: 0 | CP30: =(P30+Q30+S30) -> 141.13 | CQ30: =(AC30*BC30*AW30) -> 0 | CR30: =(((ET30*1.1))*BB30*AV30) -> 0 | CS30: =(AE30*BS30*AV30) -> 0 | CT30: =(AF30*BA30*AV30) -> 12.829938 | CU30: =AG30 -> 0 | CV30: =(AH30*AV30) -> 1.232319 | CW30: =AI30 -> 0 | CX30: =AJ30 -> 0 | CY30: =(((S30+R30)*BZ30)/100) -> 143.9526 | CZ30: =(((S30+R30)*CA30)/100) -> 76.2102 | DE30: *1,1 | DF30: *1,1 | DG30: *1,1 | DI30: *1,1 | DJ30: *1,1 | DN30: 0 | DO30: 0 | DP30: 1 | DQ30: 1 | DU30: 1013 | DV30: 1 ДЕРЕВО | DW30: 1 ДЕРЕВО | DX30: 1 | EE30: 86331294 | EF30: 60 | EG30: Ремонтно-строительные работы | EH30: 0 | EJ30: 1 | EK30: 666 | EL30: ТСН-2001.6-68. 68-30...68-34 | EM30: ТСН-2001.6-68-13 | EO30: Попр.12.00.01.11.003 | EQ30: 0 | ER30: 0 | ES30: 0 | ET30: 0 | EU30: 0 | EV30: 11.14 | EW30: 1.07 | EX30: 0 | EY30: 0 | FQ30: 0 | FR30: 0 | FS30: 0 | FX30: 102 | FY30: 54 | GD30: 1 | GF30: 2020855730 | GG30: 2 | GH30: 0 | GI30: -2 | GJ30: 0 | GK30: 0 | GL30: =ROUND(IF(AND(BH30=3,BI30=3,FS30<>0),P30,0),2) -> 0 | GM30: =ROUND(O30+X30+Y30,2)+GX30 -> 361.29 | GN30: =IF(OR(BI30=0,BI30=1),GM30-GX30,0) -> 361.29 | GO30: =IF(BI30=2,GM30-GX30,0) -> 0 | GP30: =IF(BI30=4,GM30-GX30,0) -> 0 | GR30: 0 | GS30: 3 | GT30: 0 | GV30: =(GT30) -> 0 | GW30: 1 | GX30: =ROUND(HC30*I30,2) -> 0 | HA30: 0 | HB30: 0 | HC30: =GV30*GW30 -> 0 | HS30: 0 | IK30: 0
A31: 17 | B31: 1 | C31: =ROW(SmtRes!A4) -> 4 | D31: =ROW(EtalonRes!A4) -> 4 | E31: 2 | F31: 6.68-30-2 | G31: Валка и разделка деревьев вручную с последующей ручной переноской и складированием кряжей и сучьев диаметром 200 мм на расстояние до 50 м | H31: 1 ДЕРЕВО | I31: =ROUND(11,9) -> 11 | J31: 0 | K31: =ROUND(11,9) -> 11 | O31: =ROUND(CP31,2) -> 8151.63 | P31: =ROUND(CQ31*I31,2) -> 0 | Q31: =ROUND(CR31*I31,2) -> 0 | R31: =ROUND(CS31*I31,2) -> 0 | S31: =ROUND(CT31*I31,2) -> 8151.63 | T31: =ROUND(CU31*I31,2) -> 0 | U31: =CV31*I31 -> 13.555509 | V31: =CW31*I31 -> 0 | W31: =ROUND(CX31*I31,2) -> 0 | X31: =ROUND(CY31,2) -> 8314.66 | Y31: =ROUND(CZ31,2) -> 4401.88 | AA31: 86495195 | AB31: =(AC31+AD31+AF31) -> 12.254 | AC31: =(ES31) -> 0 | AD31: =((ET31*1.1)) -> 0 | AE31: =((EU31*1.1)) -> 0 | AF31: =((EV31*1.1)) -> 12.254 | AG31: =(AP31) -> 0 | AH31: =((EW31*1.1)) -> 1.177 | AI31: =((EX31*1.1)) -> 0 | AJ31: =(AS31) -> 0 | AK31: 0 | AL31: 0 | AM31: 0 | AN31: 0 | AO31: 11.14 | AP31: 0 | AQ31: 1.07 | AR31: 0 | AS31: 0 | AT31: 102 | AU31: 54 | AV31: 1.047 | AW31: 1 | AZ31: 1 | BA31: 57.76 | BB31: 1 | BC31: 1 | BH31: 0 | BI31: 1 | BJ31: 6.68-30-2 | BM31: 666 | BN31: 0 | BO31: 6.68-30-2 | BP31: 1 | BQ31: 60 | BR31: 0 | BS31: 57.76 | BT31: 1 | BU31: 1 | BV31: 1 | BW31: 1 | BX31: 1 | BZ31: 102 | CA31: 54 | CE31: 0 | CF31: 0 | CG31: 0 | CM31: 0 | CN31: Поправка:стеснённые условия, пп. "в" | CO31: 0 | CP31: =(P31+Q31+S31) -> 8151.63 | CQ31: =(AC31*BC31*AW31) -> 0 | CR31: =(((ET31*1.1))*BB31*AV31) -> 0 | CS31: =(AE31*BS31*AV31) -> 0 | CT31: =(AF31*BA31*AV31) -> 741.05722 | CU31: =AG31 -> 0 | CV31: =(AH31*AV31) -> 1.232319 | CW31: =AI31 -> 0 | CX31: =AJ31 -> 0 | CY31: =(S31+R31)*(BZ31/100) -> 8314.6626 | CZ31: =(S31+R31)*(CA31/100) -> 4401.8802 | DE31: *1,1 | DF31: *1,1 | DG31: *1,1 | DI31: *1,1 | DJ31: *1,1 | DN31: 102 | DO31: 54 | DP31: 1 | DQ31: 1 | DU31: 1013 | DV31: 1 ДЕРЕВО | DW31: 1 ДЕРЕВО | DX31: 1 | EE31: 86331294 | EF31: 60 | EG31: Ремонтно-строительные работы | EH31: 0 | EJ31: 1 | EK31: 666 | EL31: ТСН-2001.6-68. 68-30...68-34 | EM31: ТСН-2001.6-68-13 | EO31: Попр.12.00.01.11.003 | EQ31: 0 | ER31: 0 | ES31: 0 | ET31: 0 | EU31: 0 | EV31: 11.14 | EW31: 1.07 | EX31: 0 | EY31: 0 | FQ31: 0 | FR31: 0 | FS31: 0 | FX31: 102 | FY31: 54 | GD31: 1 | GF31: 2020855730 | GG31: 2 | GH31: 0 | GI31: -2 | GJ31: 0 | GK31: 0 | GL31: =ROUND(IF(AND(BH31=3,BI31=3,FS31<>0),P31,0),2) -> 0 | GM31: =ROUND(O31+X31+Y31,2)+GX31 -> 20868.17 | GN31: =IF(OR(BI31=0,BI31=1),GM31-GX31,0) -> 20868.17 | GO31: =IF(BI31=2,GM31-GX31,0) -> 0 | GP31: =IF(BI31=4,GM31-GX31,0) -> 0 | GR31: 0 | GS31: 3 | GT31: 0 | GV31: =(GT31) -> 0 | GW31: 1 | GX31: =ROUND(HC31*I31,2) -> 0 | HA31: 0 | HB31: 0 | HC31: =GV31*GW31 -> 0 | HS31: 0 | IK31: 0
A32: 17 | B32: 1 | C32: =ROW(SmtRes!A5) -> 5 | D32: =ROW(EtalonRes!A5) -> 5 | E32: 3 | F32: 6.68-30-3 | G32: Валка и разделка деревьев вручную с последующей ручной переноской и складированием кряжей и сучьев диаметром 300 мм на расстояние до 50 м | H32: 1 ДЕРЕВО | I32: =ROUND(9,9) -> 9 | J32: 0 | K32: =ROUND(9,9) -> 9 | O32: =ROUND(CP32,2) -> 240.47 | P32: =ROUND(CQ32*I32,2) -> 0 | Q32: =ROUND(CR32*I32,2) -> 0 | R32: =ROUND(CS32*I32,2) -> 0 | S32: =ROUND(CT32*I32,2) -> 240.47 | T32: =ROUND(CU32*I32,2) -> 0 | U32: =CV32*I32 -> 23.736537 | V32: =CW32*I32 -> 0 | W32: =ROUND(CX32*I32,2) -> 0 | X32: =ROUND(CY32,2) -> 245.28 | Y32: =ROUND(CZ32,2) -> 129.85 | AA32: 86495194 | AB32: =(AC32+AD32+AF32) -> 25.52 | AC32: =(ES32) -> 0 | AD32: =((ET32*1.1)) -> 0 | AE32: =((EU32*1.1)) -> 0 | AF32: =((EV32*1.1)) -> 25.52 | AG32: =(AP32) -> 0 | AH32: =((EW32*1.1)) -> 2.519 | AI32: =((EX32*1.1)) -> 0 | AJ32: =(AS32) -> 0 | AK32: 0 | AL32: 0 | AM32: 0 | AN32: 0 | AO32: 23.2 | AP32: 0 | AQ32: 2.29 | AR32: 0 | AS32: 0 | AT32: 102 | AU32: 54 | AV32: 1.047 | AW32: 1 | AZ32: 1 | BA32: 1 | BB32: 1 | BC32: 1 | BH32: 0 | BI32: 1 | BJ32: 6.68-30-3 | BM32: 666 | BN32: 0 | BO32: 6.68-30-3 | BP32: 1 | BQ32: 60 | BR32: 0 | BS32: 1 | BT32: 1 | BU32: 1 | BV32: 1 | BW32: 1 | BX32: 1 | BZ32: 102 | CA32: 54 | CE32: 0 | CF32: 0 | CG32: 0 | CM32: 0 | CN32: Поправка:стеснённые условия, пп. "в" | CO32: 0 | CP32: =(P32+Q32+S32) -> 240.47 | CQ32: =(AC32*BC32*AW32) -> 0 | CR32: =(((ET32*1.1))*BB32*AV32) -> 0 | CS32: =(AE32*BS32*AV32) -> 0 | CT32: =(AF32*BA32*AV32) -> 26.71944 | CU32: =AG32 -> 0 | CV32: =(AH32*AV32) -> 2.637393 | CW32: =AI32 -> 0 | CX32: =AJ32 -> 0 | CY32: =(((S32+R32)*BZ32)/100) -> 245.2794 | CZ32: =(((S32+R32)*CA32)/100) -> 129.8538 | DE32: *1,1 | DF32: *1,1 | DG32: *1,1 | DI32: *1,1 | DJ32: *1,1 | DN32: 0 | DO32: 0 | DP32: 1 | DQ32: 1 | DU32: 1013 | DV32: 1 ДЕРЕВО | DW32: 1 ДЕРЕВО | DX32: 1 | EE32: 86331294 | EF32: 60 | EG32: Ремонтно-строительные работы | EH32: 0 | EJ32: 1 | EK32: 666 | EL32: ТСН-2001.6-68. 68-30...68-34 | EM32: ТСН-2001.6-68-13 | EO32: Попр.12.00.01.11.003 | EQ32: 0 | ER32: 0 | ES32: 0 | ET32: 0 | EU32: 0 | EV32: 23.2 | EW32: 2.29 | EX32: 0 | EY32: 0 | FQ32: 0 | FR32: 0 | FS32: 0 | FX32: 102 | FY32: 54 | GD32: 1 | GF32: 249946461 | GG32: 2 | GH32: 0 | GI32: -2 | GJ32: 0 | GK32: 0 | GL32: =ROUND(IF(AND(BH32=3,BI32=3,FS32<>0),P32,0),2) -> 0 | GM32: =ROUND(O32+X32+Y32,2)+GX32 -> 615.6 | GN32: =IF(OR(BI32=0,BI32=1),GM32-GX32,0) -> 615.6 | GO32: =IF(BI32=2,GM32-GX32,0) -> 0 | GP32: =IF(BI32=4,GM32-GX32,0) -> 0 | GR32: 0 | GS32: 3 | GT32: 0 | GV32: =(GT32) -> 0 | GW32: 1 | GX32: =ROUND(HC32*I32,2) -> 0 | HA32: 0 | HB32: 0 | HC32: =GV32*GW32 -> 0 | HS32: 0 | IK32: 0
A33: 17 | B33: 1 | C33: =ROW(SmtRes!A6) -> 6 | D33: =ROW(EtalonRes!A6) -> 6 | E33: 3 | F33: 6.68-30-3 | G33: Валка и разделка деревьев вручную с последующей ручной переноской и складированием кряжей и сучьев диаметром 300 мм на расстояние до 50 м | H33: 1 ДЕРЕВО | I33: =ROUND(9,9) -> 9 | J33: 0 | K33: =ROUND(9,9) -> 9 | O33: =ROUND(CP33,2) -> 13889.83 | P33: =ROUND(CQ33*I33,2) -> 0 | Q33: =ROUND(CR33*I33,2) -> 0 | R33: =ROUND(CS33*I33,2) -> 0 | S33: =ROUND(CT33*I33,2) -> 13889.83 | T33: =ROUND(CU33*I33,2) -> 0 | U33: =CV33*I33 -> 23.736537 | V33: =CW33*I33 -> 0 | W33: =ROUND(CX33*I33,2) -> 0 | X33: =ROUND(CY33,2) -> 14167.63 | Y33: =ROUND(CZ33,2) -> 7500.51 | AA33: 86495195 | AB33: =(AC33+AD33+AF33) -> 25.52 | AC33: =(ES33) -> 0 | AD33: =((ET33*1.1)) -> 0 | AE33: =((EU33*1.1)) -> 0 | AF33: =((EV33*1.1)) -> 25.52 | AG33: =(AP33) -> 0 | AH33: =((EW33*1.1)) -> 2.519 | AI33: =((EX33*1.1)) -> 0 | AJ33: =(AS33) -> 0 | AK33: 0 | AL33: 0 | AM33: 0 | AN33: 0 | AO33: 23.2 | AP33: 0 | AQ33: 2.29 | AR33: 0 | AS33: 0 | AT33: 102 | AU33: 54 | AV33: 1.047 | AW33: 1 | AZ33: 1 | BA33: 57.76 | BB33: 1 | BC33: 1 | BH33: 0 | BI33: 1 | BJ33: 6.68-30-3 | BM33: 666 | BN33: 0 | BO33: 6.68-30-3 | BP33: 1 | BQ33: 60 | BR33: 0 | BS33: 57.76 | BT33: 1 | BU33: 1 | BV33: 1 | BW33: 1 | BX33: 1 | BZ33: 102 | CA33: 54 | CE33: 0 | CF33: 0 | CG33: 0 | CM33: 0 | CN33: Поправка:стеснённые условия, пп. "в" | CO33: 0 | CP33: =(P33+Q33+S33) -> 13889.83 | CQ33: =(AC33*BC33*AW33) -> 0 | CR33: =(((ET33*1.1))*BB33*AV33) -> 0 | CS33: =(AE33*BS33*AV33) -> 0 | CT33: =(AF33*BA33*AV33) -> 1543.3149 | CU33: =AG33 -> 0 | CV33: =(AH33*AV33) -> 2.637393 | CW33: =AI33 -> 0 | CX33: =AJ33 -> 0 | CY33: =(S33+R33)*(BZ33/100) -> 14167.627 | CZ33: =(S33+R33)*(CA33/100) -> 7500.5082 | DE33: *1,1 | DF33: *1,1 | DG33: *1,1 | DI33: *1,1 | DJ33: *1,1 | DN33: 102 | DO33: 54 | DP33: 1 | DQ33: 1 | DU33: 1013 | DV33: 1 ДЕРЕВО | DW33: 1 ДЕРЕВО | DX33: 1 | EE33: 86331294 | EF33: 60 | EG33: Ремонтно-строительные работы | EH33: 0 | EJ33: 1 | EK33: 666 | EL33: ТСН-2001.6-68. 68-30...68-34 | EM33: ТСН-2001.6-68-13 | EO33: Попр.12.00.01.11.003 | EQ33: 0 | ER33: 0 | ES33: 0 | ET33: 0 | EU33: 0 | EV33: 23.2 | EW33: 2.29 | EX33: 0 | EY33: 0 | FQ33: 0 | FR33: 0 | FS33: 0 | FX33: 102 | FY33: 54 | GD33: 1 | GF33: 249946461 | GG33: 2 | GH33: 0 | GI33: -2 | GJ33: 0 | GK33: 0 | GL33: =ROUND(IF(AND(BH33=3,BI33=3,FS33<>0),P33,0),2) -> 0 | GM33: =ROUND(O33+X33+Y33,2)+GX33 -> 35557.97 | GN33: =IF(OR(BI33=0,BI33=1),GM33-GX33,0) -> 35557.97 | GO33: =IF(BI33=2,GM33-GX33,0) -> 0 | GP33: =IF(BI33=4,GM33-GX33,0) -> 0 | GR33: 0 | GS33: 3 | GT33: 0 | GV33: =(GT33) -> 0 | GW33: 1 | GX33: =ROUND(HC33*I33,2) -> 0 | HA33: 0 | HB33: 0 | HC33: =GV33*GW33 -> 0 | HS33: 0 | IK33: 0
A34: 17 | B34: 1 | C34: =ROW(SmtRes!A7) -> 7 | D34: =ROW(EtalonRes!A7) -> 7 | E34: 4 | F34: 6.68-30-4 | G34: Валка и разделка деревьев вручную с последующей ручной переноской и складированием кряжей и сучьев диаметром 400 мм на расстояние до 50 м | H34: 1 ДЕРЕВО | I34: =ROUND(10,9) -> 10 | J34: 0 | K34: =ROUND(10,9) -> 10 | O34: =ROUND(CP34,2) -> 397.68 | P34: =ROUND(CQ34*I34,2) -> 0 | Q34: =ROUND(CR34*I34,2) -> 0 | R34: =ROUND(CS34*I34,2) -> 0 | S34: =ROUND(CT34*I34,2) -> 397.68 | T34: =ROUND(CU34*I34,2) -> 0 | U34: =CV34*I34 -> 39.84882 | V34: =CW34*I34 -> 0 | W34: =ROUND(CX34*I34,2) -> 0 | X34: =ROUND(CY34,2) -> 405.63 | Y34: =ROUND(CZ34,2) -> 214.75 | AA34: 86495194 | AB34: =(AC34+AD34+AF34) -> 37.983 | AC34: =(ES34) -> 0 | AD34: =((ET34*1.1)) -> 0 | AE34: =((EU34*1.1)) -> 0 | AF34: =((EV34*1.1)) -> 37.983 | AG34: =(AP34) -> 0 | AH34: =((EW34*1.1)) -> 3.806 | AI34: =((EX34*1.1)) -> 0 | AJ34: =(AS34) -> 0 | AK34: 0 | AL34: 0 | AM34: 0 | AN34: 0 | AO34: 34.53 | AP34: 0 | AQ34: 3.46 | AR34: 0 | AS34: 0 | AT34: 102 | AU34: 54 | AV34: 1.047 | AW34: 1 | AZ34: 1 | BA34: 1 | BB34: 1 | BC34: 1 | BH34: 0 | BI34: 1 | BJ34: 6.68-30-4 | BM34: 666 | BN34: 0 | BO34: 6.68-30-4 | BP34: 1 | BQ34: 60 | BR34: 0 | BS34: 1 | BT34: 1 | BU34: 1 | BV34: 1 | BW34: 1 | BX34: 1 | BZ34: 102 | CA34: 54 | CE34: 0 | CF34: 0 | CG34: 0 | CM34: 0 | CN34: Поправка:стеснённые условия, пп. "в" | CO34: 0 | CP34: =(P34+Q34+S34) -> 397.68 | CQ34: =(AC34*BC34*AW34) -> 0 | CR34: =(((ET34*1.1))*BB34*AV34) -> 0 | CS34: =(AE34*BS34*AV34) -> 0 | CT34: =(AF34*BA34*AV34) -> 39.768201 | CU34: =AG34 -> 0 | CV34: =(AH34*AV34) -> 3.984882 | CW34: =AI34 -> 0 | CX34: =AJ34 -> 0 | CY34: =(((S34+R34)*BZ34)/100) -> 405.6336 | CZ34: =(((S34+R34)*CA34)/100) -> 214.7472 | DE34: *1,1 | DF34: *1,1 | DG34: *1,1 | DI34: *1,1 | DJ34: *1,1 | DN34: 0 | DO34: 0 | DP34: 1 | DQ34: 1 | DU34: 1013 | DV34: 1 ДЕРЕВО | DW34: 1 ДЕРЕВО | DX34: 1 | EE34: 86331294 | EF34: 60 | EG34: Ремонтно-строительные работы | EH34: 0 | EJ34: 1 | EK34: 666 | EL34: ТСН-2001.6-68. 68-30...68-34 | EM34: ТСН-2001.6-68-13 | EO34: Попр.12.00.01.11.003 | EQ34: 0 | ER34: 0 | ES34: 0 | ET34: 0 | EU34: 0 | EV34: 34.53 | EW34: 3.46 | EX34: 0 | EY34: 0 | FQ34: 0 | FR34: 0 | FS34: 0 | FX34: 102 | FY34: 54 | GD34: 1 | GF34: 862475385 | GG34: 2 | GH34: 0 | GI34: -2 | GJ34: 0 | GK34: 0 | GL34: =ROUND(IF(AND(BH34=3,BI34=3,FS34<>0),P34,0),2) -> 0 | GM34: =ROUND(O34+X34+Y34,2)+GX34 -> 1018.06 | GN34: =IF(OR(BI34=0,BI34=1),GM34-GX34,0) -> 1018.06 | GO34: =IF(BI34=2,GM34-GX34,0) -> 0 | GP34: =IF(BI34=4,GM34-GX34,0) -> 0 | GR34: 0 | GS34: 3 | GT34: 0 | GV34: =(GT34) -> 0 | GW34: 1 | GX34: =ROUND(HC34*I34,2) -> 0 | HA34: 0 | HB34: 0 | HC34: =GV34*GW34 -> 0 | HS34: 0 | IK34: 0
A35: 17 | B35: 1 | C35: =ROW(SmtRes!A8) -> 8 | D35: =ROW(EtalonRes!A8) -> 8 | E35: 4 | F35: 6.68-30-4 | G35: Валка и разделка деревьев вручную с последующей ручной переноской и складированием кряжей и сучьев диаметром 400 мм на расстояние до 50 м | H35: 1 ДЕРЕВО | I35: =ROUND(10,9) -> 10 | J35: 0 | K35: =ROUND(10,9) -> 10 | O35: =ROUND(CP35,2) -> 22970.11 | P35: =ROUND(CQ35*I35,2) -> 0 | Q35: =ROUND(CR35*I35,2) -> 0 | R35: =ROUND(CS35*I35,2) -> 0 | S35: =ROUND(CT35*I35,2) -> 22970.11 | T35: =ROUND(CU35*I35,2) -> 0 | U35: =CV35*I35 -> 39.84882 | V35: =CW35*I35 -> 0 | W35: =ROUND(CX35*I35,2) -> 0 | X35: =ROUND(CY35,2) -> 23429.51 | Y35: =ROUND(CZ35,2) -> 12403.86 | AA35: 86495195 | AB35: =(AC35+AD35+AF35) -> 37.983 | AC35: =(ES35) -> 0 | AD35: =((ET35*1.1)) -> 0 | AE35: =((EU35*1.1)) -> 0 | AF35: =((EV35*1.1)) -> 37.983 | AG35: =(AP35) -> 0 | AH35: =((EW35*1.1)) -> 3.806 | AI35: =((EX35*1.1)) -> 0 | AJ35: =(AS35) -> 0 | AK35: 0 | AL35: 0 | AM35: 0 | AN35: 0 | AO35: 34.53 | AP35: 0 | AQ35: 3.46 | AR35: 0 | AS35: 0 | AT35: 102 | AU35: 54 | AV35: 1.047 | AW35: 1 | AZ35: 1 | BA35: 57.76 | BB35: 1 | BC35: 1 | BH35: 0 | BI35: 1 | BJ35: 6.68-30-4 | BM35: 666 | BN35: 0 | BO35: 6.68-30-4 | BP35: 1 | BQ35: 60 | BR35: 0 | BS35: 57.76 | BT35: 1 | BU35: 1 | BV35: 1 | BW35: 1 | BX35: 1 | BZ35: 102 | CA35: 54 | CE35: 0 | CF35: 0 | CG35: 0 | CM35: 0 | CN35: Поправка:стеснённые условия, пп. "в" | CO35: 0 | CP35: =(P35+Q35+S35) -> 22970.11 | CQ35: =(AC35*BC35*AW35) -> 0 | CR35: =(((ET35*1.1))*BB35*AV35) -> 0 | CS35: =(AE35*BS35*AV35) -> 0 | CT35: =(AF35*BA35*AV35) -> 2297.0113 | CU35: =AG35 -> 0 | CV35: =(AH35*AV35) -> 3.984882 | CW35: =AI35 -> 0 | CX35: =AJ35 -> 0 | CY35: =(S35+R35)*(BZ35/100) -> 23429.512 | CZ35: =(S35+R35)*(CA35/100) -> 12403.859 | DE35: *1,1 | DF35: *1,1 | DG35: *1,1 | DI35: *1,1 | DJ35: *1,1 | DN35: 102 | DO35: 54 | DP35: 1 | DQ35: 1 | DU35: 1013 | DV35: 1 ДЕРЕВО | DW35: 1 ДЕРЕВО | DX35: 1 | EE35: 86331294 | EF35: 60 | EG35: Ремонтно-строительные работы | EH35: 0 | EJ35: 1 | EK35: 666 | EL35: ТСН-2001.6-68. 68-30...68-34 | EM35: ТСН-2001.6-68-13 | EO35: Попр.12.00.01.11.003 | EQ35: 0 | ER35: 0 | ES35: 0 | ET35: 0 | EU35: 0 | EV35: 34.53 | EW35: 3.46 | EX35: 0 | EY35: 0 | FQ35: 0 | FR35: 0 | FS35: 0 | FX35: 102 | FY35: 54 | GD35: 1 | GF35: 862475385 | GG35: 2 | GH35: 0 | GI35: -2 | GJ35: 0 | GK35: 0 | GL35: =ROUND(IF(AND(BH35=3,BI35=3,FS35<>0),P35,0),2) -> 0 | GM35: =ROUND(O35+X35+Y35,2)+GX35 -> 58803.48 | GN35: =IF(OR(BI35=0,BI35=1),GM35-GX35,0) -> 58803.48 | GO35: =IF(BI35=2,GM35-GX35,0) -> 0 | GP35: =IF(BI35=4,GM35-GX35,0) -> 0 | GR35: 0 | GS35: 3 | GT35: 0 | GV35: =(GT35) -> 0 | GW35: 1 | GX35: =ROUND(HC35*I35,2) -> 0 | HA35: 0 | HB35: 0 | HC35: =GV35*GW35 -> 0 | HS35: 0 | IK35: 0
A36: 17 | B36: 1 | C36: =ROW(SmtRes!A9) -> 9 | D36: =ROW(EtalonRes!A9) -> 9 | E36: 5 | F36: 6.68-30-5 | G36: Валка и разделка деревьев вручную с последующей ручной переноской и складированием кряжей и сучьев диаметром 500 мм на расстояние до 50 м | H36: 1 ДЕРЕВО | I36: =ROUND(3,9) -> 3 | J36: 0 | K36: =ROUND(3,9) -> 3 | O36: =ROUND(CP36,2) -> 189.3 | P36: =ROUND(CQ36*I36,2) -> 0 | Q36: =ROUND(CR36*I36,2) -> 0 | R36: =ROUND(CS36*I36,2) -> 0 | S36: =ROUND(CT36*I36,2) -> 189.3 | T36: =ROUND(CU36*I36,2) -> 0 | U36: =CV36*I36 -> 18.968499 | V36: =CW36*I36 -> 0 | W36: =ROUND(CX36*I36,2) -> 0 | X36: =ROUND(CY36,2) -> 193.09 | Y36: =ROUND(CZ36,2) -> 102.22 | AA36: 86495194 | AB36: =(AC36+AD36+AF36) -> 60.269 | AC36: =(ES36) -> 0 | AD36: =((ET36*1.1)) -> 0 | AE36: =((EU36*1.1)) -> 0 | AF36: =((EV36*1.1)) -> 60.269 | AG36: =(AP36) -> 0 | AH36: =((EW36*1.1)) -> 6.039 | AI36: =((EX36*1.1)) -> 0 | AJ36: =(AS36) -> 0 | AK36: 0 | AL36: 0 | AM36: 0 | AN36: 0 | AO36: 54.79 | AP36: 0 | AQ36: 5.49 | AR36: 0 | AS36: 0 | AT36: 102 | AU36: 54 | AV36: 1.047 | AW36: 1 | AZ36: 1 | BA36: 1 | BB36: 1 | BC36: 1 | BH36: 0 | BI36: 1 | BJ36: 6.68-30-5 | BM36: 666 | BN36: 0 | BO36: 6.68-30-5 | BP36: 1 | BQ36: 60 | BR36: 0 | BS36: 1 | BT36: 1 | BU36: 1 | BV36: 1 | BW36: 1 | BX36: 1 | BZ36: 102 | CA36: 54 | CE36: 0 | CF36: 0 | CG36: 0 | CM36: 0 | CN36: Поправка:стеснённые условия, пп. "в" | CO36: 0 | CP36: =(P36+Q36+S36) -> 189.3 | CQ36: =(AC36*BC36*AW36) -> 0 | CR36: =(((ET36*1.1))*BB36*AV36) -> 0 | CS36: =(AE36*BS36*AV36) -> 0 | CT36: =(AF36*BA36*AV36) -> 63.101643 | CU36: =AG36 -> 0 | CV36: =(AH36*AV36) -> 6.322833 | CW36: =AI36 -> 0 | CX36: =AJ36 -> 0 | CY36: =(((S36+R36)*BZ36)/100) -> 193.086 | CZ36: =(((S36+R36)*CA36)/100) -> 102.222 | DE36: *1,1 | DF36: *1,1 | DG36: *1,1 | DI36: *1,1 | DJ36: *1,1 | DN36: 0 | DO36: 0 | DP36: 1 | DQ36: 1 | DU36: 1013 | DV36: 1 ДЕРЕВО | DW36: 1 ДЕРЕВО | DX36: 1 | EE36: 86331294 | EF36: 60 | EG36: Ремонтно-строительные работы | EH36: 0 | EJ36: 1 | EK36: 666 | EL36: ТСН-2001.6-68. 68-30...68-34 | EM36: ТСН-2001.6-68-13 | EO36: Попр.12.00.01.11.003 | EQ36: 0 | ER36: 0 | ES36: 0 | ET36: 0 | EU36: 0 | EV36: 54.79 | EW36: 5.49 | EX36: 0 | EY36: 0 | FQ36: 0 | FR36: 0 | FS36: 0 | FX36: 102 | FY36: 54 | GD36: 1 | GF36: 681989222 | GG36: 2 | GH36: 0 | GI36: -2 | GJ36: 0 | GK36: 0 | GL36: =ROUND(IF(AND(BH36=3,BI36=3,FS36<>0),P36,0),2) -> 0 | GM36: =ROUND(O36+X36+Y36,2)+GX36 -> 484.61 | GN36: =IF(OR(BI36=0,BI36=1),GM36-GX36,0) -> 484.61 | GO36: =IF(BI36=2,GM36-GX36,0) -> 0 | GP36: =IF(BI36=4,GM36-GX36,0) -> 0 | GR36: 0 | GS36: 3 | GT36: 0 | GV36: =(GT36) -> 0 | GW36: 1 | GX36: =ROUND(HC36*I36,2) -> 0 | HA36: 0 | HB36: 0 | HC36: =GV36*GW36 -> 0 | HS36: 0 | IK36: 0
A37: 17 | B37: 1 | C37: =ROW(SmtRes!A10) -> 10 | D37: =ROW(EtalonRes!A10) -> 10 | E37: 5 | F37: 6.68-30-5 | G37: Валка и разделка деревьев вручную с последующей ручной переноской и складированием кряжей и сучьев диаметром 500 мм на расстояние до 50 м | H37: 1 ДЕРЕВО | I37: =ROUND(3,9) -> 3 | J37: 0 | K37: =ROUND(3,9) -> 3 | O37: =ROUND(CP37,2) -> 10934.25 | P37: =ROUND(CQ37*I37,2) -> 0 | Q37: =ROUND(CR37*I37,2) -> 0 | R37: =ROUND(CS37*I37,2) -> 0 | S37: =ROUND(CT37*I37,2) -> 10934.25 | T37: =ROUND(CU37*I37,2) -> 0 | U37: =CV37*I37 -> 18.968499 | V37: =CW37*I37 -> 0 | W37: =ROUND(CX37*I37,2) -> 0 | X37: =ROUND(CY37,2) -> 11152.94 | Y37: =ROUND(CZ37,2) -> 5904.5 | AA37: 86495195 | AB37: =(AC37+AD37+AF37) -> 60.269 | AC37: =(ES37) -> 0 | AD37: =((ET37*1.1)) -> 0 | AE37: =((EU37*1.1)) -> 0 | AF37: =((EV37*1.1)) -> 60.269 | AG37: =(AP37) -> 0 | AH37: =((EW37*1.1)) -> 6.039 | AI37: =((EX37*1.1)) -> 0 | AJ37: =(AS37) -> 0 | AK37: 0 | AL37: 0 | AM37: 0 | AN37: 0 | AO37: 54.79 | AP37: 0 | AQ37: 5.49 | AR37: 0 | AS37: 0 | AT37: 102 | AU37: 54 | AV37: 1.047 | AW37: 1 | AZ37: 1 | BA37: 57.76 | BB37: 1 | BC37: 1 | BH37: 0 | BI37: 1 | BJ37: 6.68-30-5 | BM37: 666 | BN37: 0 | BO37: 6.68-30-5 | BP37: 1 | BQ37: 60 | BR37: 0 | BS37: 57.76 | BT37: 1 | BU37: 1 | BV37: 1 | BW37: 1 | BX37: 1 | BZ37: 102 | CA37: 54 | CE37: 0 | CF37: 0 | CG37: 0 | CM37: 0 | CN37: Поправка:стеснённые условия, пп. "в" | CO37: 0 | CP37: =(P37+Q37+S37) -> 10934.25 | CQ37: =(AC37*BC37*AW37) -> 0 | CR37: =(((ET37*1.1))*BB37*AV37) -> 0 | CS37: =(AE37*BS37*AV37) -> 0 | CT37: =(AF37*BA37*AV37) -> 3644.7509 | CU37: =AG37 -> 0 | CV37: =(AH37*AV37) -> 6.322833 | CW37: =AI37 -> 0 | CX37: =AJ37 -> 0 | CY37: =(S37+R37)*(BZ37/100) -> 11152.935 | CZ37: =(S37+R37)*(CA37/100) -> 5904.495 | DE37: *1,1 | DF37: *1,1 | DG37: *1,1 | DI37: *1,1 | DJ37: *1,1 | DN37: 102 | DO37: 54 | DP37: 1 | DQ37: 1 | DU37: 1013 | DV37: 1 ДЕРЕВО | DW37: 1 ДЕРЕВО | DX37: 1 | EE37: 86331294 | EF37: 60 | EG37: Ремонтно-строительные работы | EH37: 0 | EJ37: 1 | EK37: 666 | EL37: ТСН-2001.6-68. 68-30...68-34 | EM37: ТСН-2001.6-68-13 | EO37: Попр.12.00.01.11.003 | EQ37: 0 | ER37: 0 | ES37: 0 | ET37: 0 | EU37: 0 | EV37: 54.79 | EW37: 5.49 | EX37: 0 | EY37: 0 | FQ37: 0 | FR37: 0 | FS37: 0 | FX37: 102 | FY37: 54 | GD37: 1 | GF37: 681989222 | GG37: 2 | GH37: 0 | GI37: -2 | GJ37: 0 | GK37: 0 | GL37: =ROUND(IF(AND(BH37=3,BI37=3,FS37<>0),P37,0),2) -> 0 | GM37: =ROUND(O37+X37+Y37,2)+GX37 -> 27991.69 | GN37: =IF(OR(BI37=0,BI37=1),GM37-GX37,0) -> 27991.69 | GO37: =IF(BI37=2,GM37-GX37,0) -> 0 | GP37: =IF(BI37=4,GM37-GX37,0) -> 0 | GR37: 0 | GS37: 3 | GT37: 0 | GV37: =(GT37) -> 0 | GW37: 1 | GX37: =ROUND(HC37*I37,2) -> 0 | HA37: 0 | HB37: 0 | HC37: =GV37*GW37 -> 0 | HS37: 0 | IK37: 0
A38: 17 | B38: 1 | C38: =ROW(SmtRes!A11) -> 11 | D38: =ROW(EtalonRes!A11) -> 11 | E38: 6 | F38: 6.68-34-3 | G38: Расчистка площадей от кустарников и мелколесья диаметром до 100 мм вручную с последующей переноской и складированием на расстояние до 50 м при густой заросли | H38: 1 ГА | I38: =ROUND(0.0418,9) -> 0.0418 | J38: 0 | K38: =ROUND(0.0418,9) -> 0.0418 | O38: =ROUND(CP38,2) -> 234.54 | P38: =ROUND(CQ38*I38,2) -> 0 | Q38: =ROUND(CR38*I38,2) -> 0 | R38: =ROUND(CS38*I38,2) -> 0 | S38: =ROUND(CT38*I38,2) -> 234.54 | T38: =ROUND(CU38*I38,2) -> 0 | U38: =CV38*I38 -> 21.716432 | V38: =CW38*I38 -> 0 | W38: =ROUND(CX38*I38,2) -> 0 | X38: =ROUND(CY38,2) -> 239.23 | Y38: =ROUND(CZ38,2) -> 126.65 | AA38: 86495194 | AB38: =(AC38+AD38+AF38) -> 5359.068 | AC38: =(ES38) -> 0 | AD38: =((ET38*1.1)) -> 0 | AE38: =((EU38*1.1)) -> 0 | AF38: =((EV38*1.1)) -> 5359.068 | AG38: =(AP38) -> 0 | AH38: =((EW38*1.1)) -> 496.21 | AI38: =((EX38*1.1)) -> 0 | AJ38: =(AS38) -> 0 | AK38: 0 | AL38: 0 | AM38: 0 | AN38: 0 | AO38: 4871.88 | AP38: 0 | AQ38: 451.1 | AR38: 0 | AS38: 0 | AT38: 102 | AU38: 54 | AV38: 1.047 | AW38: 1 | AZ38: 1 | BA38: 1 | BB38: 1 | BC38: 1 | BH38: 0 | BI38: 1 | BJ38: 6.68-34-3 | BM38: 666 | BN38: 0 | BO38: 6.68-34-3 | BP38: 1 | BQ38: 60 | BR38: 0 | BS38: 1 | BT38: 1 | BU38: 1 | BV38: 1 | BW38: 1 | BX38: 1 | BZ38: 102 | CA38: 54 | CE38: 0 | CF38: 0 | CG38: 0 | CM38: 0 | CN38: Поправка:стеснённые условия, пп. "в" | CO38: 0 | CP38: =(P38+Q38+S38) -> 234.54 | CQ38: =(AC38*BC38*AW38) -> 0 | CR38: =(((ET38*1.1))*BB38*AV38) -> 0 | CS38: =(AE38*BS38*AV38) -> 0 | CT38: =(AF38*BA38*AV38) -> 5610.9442 | CU38: =AG38 -> 0 | CV38: =(AH38*AV38) -> 519.53187 | CW38: =AI38 -> 0 | CX38: =AJ38 -> 0 | CY38: =(((S38+R38)*BZ38)/100) -> 239.2308 | CZ38: =(((S38+R38)*CA38)/100) -> 126.6516 | DE38: *1,1 | DF38: *1,1 | DG38: *1,1 | DI38: *1,1 | DJ38: *1,1 | DN38: 0 | DO38: 0 | DP38: 1 | DQ38: 1 | DU38: 1013 | DV38: 1 ГА | DW38: 1 ГА | DX38: 1 | EE38: 86331294 | EF38: 60 | EG38: Ремонтно-строительные работы | EH38: 0 | EJ38: 1 | EK38: 666 | EL38: ТСН-2001.6-68. 68-30...68-34 | EM38: ТСН-2001.6-68-13 | EO38: Попр.12.00.01.11.003 | EQ38: 0 | ER38: 0 | ES38: 0 | ET38: 0 | EU38: 0 | EV38: 4871.88 | EW38: 451.1 | EX38: 0 | EY38: 0 | FQ38: 0 | FR38: 0 | FS38: 0 | FX38: 102 | FY38: 54 | GD38: 1 | GF38: -2032985441 | GG38: 2 | GH38: 0 | GI38: -2 | GJ38: 0 | GK38: 0 | GL38: =ROUND(IF(AND(BH38=3,BI38=3,FS38<>0),P38,0),2) -> 0 | GM38: =ROUND(O38+X38+Y38,2)+GX38 -> 600.42 | GN38: =IF(OR(BI38=0,BI38=1),GM38-GX38,0) -> 600.42 | GO38: =IF(BI38=2,GM38-GX38,0) -> 0 | GP38: =IF(BI38=4,GM38-GX38,0) -> 0 | GR38: 0 | GS38: 3 | GT38: 0 | GV38: =(GT38) -> 0 | GW38: 1 | GX38: =ROUND(HC38*I38,2) -> 0 | HA38: 0 | HB38: 0 | HC38: =GV38*GW38 -> 0 | HS38: 0 | IK38: 0
A39: 17 | B39: 1 | C39: =ROW(SmtRes!A12) -> 12 | D39: =ROW(EtalonRes!A12) -> 12 | E39: 6 | F39: 6.68-34-3 | G39: Расчистка площадей от кустарников и мелколесья диаметром до 100 мм вручную с последующей переноской и складированием на расстояние до 50 м при густой заросли | H39: 1 ГА | I39: =ROUND(0.0418,9) -> 0.0418 | J39: 0 | K39: =ROUND(0.0418,9) -> 0.0418 | O39: =ROUND(CP39,2) -> 13546.88 | P39: =ROUND(CQ39*I39,2) -> 0 | Q39: =ROUND(CR39*I39,2) -> 0 | R39: =ROUND(CS39*I39,2) -> 0 | S39: =ROUND(CT39*I39,2) -> 13546.88 | T39: =ROUND(CU39*I39,2) -> 0 | U39: =CV39*I39 -> 21.716432 | V39: =CW39*I39 -> 0 | W39: =ROUND(CX39*I39,2) -> 0 | X39: =ROUND(CY39,2) -> 13817.82 | Y39: =ROUND(CZ39,2) -> 7315.32 | AA39: 86495195 | AB39: =(AC39+AD39+AF39) -> 5359.068 | AC39: =(ES39) -> 0 | AD39: =((ET39*1.1)) -> 0 | AE39: =((EU39*1.1)) -> 0 | AF39: =((EV39*1.1)) -> 5359.068 | AG39: =(AP39) -> 0 | AH39: =((EW39*1.1)) -> 496.21 | AI39: =((EX39*1.1)) -> 0 | AJ39: =(AS39) -> 0 | AK39: 0 | AL39: 0 | AM39: 0 | AN39: 0 | AO39: 4871.88 | AP39: 0 | AQ39: 451.1 | AR39: 0 | AS39: 0 | AT39: 102 | AU39: 54 | AV39: 1.047 | AW39: 1 | AZ39: 1 | BA39: 57.76 | BB39: 1 | BC39: 1 | BH39: 0 | BI39: 1 | BJ39: 6.68-34-3 | BM39: 666 | BN39: 0 | BO39: 6.68-34-3 | BP39: 1 | BQ39: 60 | BR39: 0 | BS39: 57.76 | BT39: 1 | BU39: 1 | BV39: 1 | BW39: 1 | BX39: 1 | BZ39: 102 | CA39: 54 | CE39: 0 | CF39: 0 | CG39: 0 | CM39: 0 | CN39: Поправка:стеснённые условия, пп. "в" | CO39: 0 | CP39: =(P39+Q39+S39) -> 13546.88 | CQ39: =(AC39*BC39*AW39) -> 0 | CR39: =(((ET39*1.1))*BB39*AV39) -> 0 | CS39: =(AE39*BS39*AV39) -> 0 | CT39: =(AF39*BA39*AV39) -> 324088.14 | CU39: =AG39 -> 0 | CV39: =(AH39*AV39) -> 519.53187 | CW39: =AI39 -> 0 | CX39: =AJ39 -> 0 | CY39: =(S39+R39)*(BZ39/100) -> 13817.818 | CZ39: =(S39+R39)*(CA39/100) -> 7315.3152 | DE39: *1,1 | DF39: *1,1 | DG39: *1,1 | DI39: *1,1 | DJ39: *1,1 | DN39: 102 | DO39: 54 | DP39: 1 | DQ39: 1 | DU39: 1013 | DV39: 1 ГА | DW39: 1 ГА | DX39: 1 | EE39: 86331294 | EF39: 60 | EG39: Ремонтно-строительные работы | EH39: 0 | EJ39: 1 | EK39: 666 | EL39: ТСН-2001.6-68. 68-30...68-34 | EM39: ТСН-2001.6-68-13 | EO39: Попр.12.00.01.11.003 | EQ39: 0 | ER39: 0 | ES39: 0 | ET39: 0 | EU39: 0 | EV39: 4871.88 | EW39: 451.1 | EX39: 0 | EY39: 0 | FQ39: 0 | FR39: 0 | FS39: 0 | FX39: 102 | FY39: 54 | GD39: 1 | GF39: -2032985441 | GG39: 2 | GH39: 0 | GI39: -2 | GJ39: 0 | GK39: 0 | GL39: =ROUND(IF(AND(BH39=3,BI39=3,FS39<>0),P39,0),2) -> 0 | GM39: =ROUND(O39+X39+Y39,2)+GX39 -> 34680.02 | GN39: =IF(OR(BI39=0,BI39=1),GM39-GX39,0) -> 34680.02 | GO39: =IF(BI39=2,GM39-GX39,0) -> 0 | GP39: =IF(BI39=4,GM39-GX39,0) -> 0 | GR39: 0 | GS39: 3 | GT39: 0 | GV39: =(GT39) -> 0 | GW39: 1 | GX39: =ROUND(HC39*I39,2) -> 0 | HA39: 0 | HB39: 0 | HC39: =GV39*GW39 -> 0 | HS39: 0 | IK39: 0
A40: 17 | B40: 1 | C40: =ROW(SmtRes!A14) -> 14 | D40: =ROW(EtalonRes!A14) -> 14 | E40: 7 | F40: 6.68-31-1 | G40: Корчевка и разделка пней диаметром 100 мм вручную с последующей ручной переноской и складированием на расстояние до 50 м, подноска и засыпка образующихся при корчевке ям, растительной земельной смесью | H40: 1 ПЕНЬ | I40: =ROUND(24,9) -> 24 | J40: 0 | K40: =ROUND(24,9) -> 24 | O40: =ROUND(CP40,2) -> 906.62 | P40: =ROUND(CQ40*I40,2) -> 0 | Q40: =ROUND(CR40*I40,2) -> 0 | R40: =ROUND(CS40*I40,2) -> 0 | S40: =ROUND(CT40*I40,2) -> 906.62 | T40: =ROUND(CU40*I40,2) -> 0 | U40: =CV40*I40 -> 92.320272 | V40: =CW40*I40 -> 0 | W40: =ROUND(CX40*I40,2) -> 0 | X40: =ROUND(CY40,2) -> 924.75 | Y40: =ROUND(CZ40,2) -> 489.57 | AA40: 86495194 | AB40: =(AC40+AD40+AF40) -> 36.08 | AC40: =(ES40) -> 0 | AD40: =((ET40*1.1)) -> 0 | AE40: =((EU40*1.1)) -> 0 | AF40: =((EV40*1.1)) -> 36.08 | AG40: =(AP40) -> 0 | AH40: =((EW40*1.1)) -> 3.674 | AI40: =((EX40*1.1)) -> 0 | AJ40: =(AS40) -> 0 | AK40: 0 | AL40: 0 | AM40: 0 | AN40: 0 | AO40: 32.8 | AP40: 0 | AQ40: 3.34 | AR40: 0 | AS40: 0 | AT40: 102 | AU40: 54 | AV40: 1.047 | AW40: 1 | AZ40: 1 | BA40: 1 | BB40: 1 | BC40: 1 | BH40: 0 | BI40: 1 | BJ40: 6.68-31-1 | BM40: 666 | BN40: 0 | BO40: 6.68-31-1 | BP40: 1 | BQ40: 60 | BR40: 0 | BS40: 1 | BT40: 1 | BU40: 1 | BV40: 1 | BW40: 1 | BX40: 1 | BZ40: 102 | CA40: 54 | CE40: 0 | CF40: 0 | CG40: 0 | CM40: 0 | CN40: Поправка:стеснённые условия, пп. "в" | CO40: 0 | CP40: =(P40+Q40+S40) -> 906.62 | CQ40: =(AC40*BC40*AW40) -> 0 | CR40: =(((ET40*1.1))*BB40*AV40) -> 0 | CS40: =(AE40*BS40*AV40) -> 0 | CT40: =(AF40*BA40*AV40) -> 37.77576 | CU40: =AG40 -> 0 | CV40: =(AH40*AV40) -> 3.846678 | CW40: =AI40 -> 0 | CX40: =AJ40 -> 0 | CY40: =(((S40+R40)*BZ40)/100) -> 924.7524 | CZ40: =(((S40+R40)*CA40)/100) -> 489.5748 | DE40: *1,1 | DF40: *1,1 | DG40: *1,1 | DI40: *1,1 | DJ40: *1,1 | DN40: 0 | DO40: 0 | DP40: 1 | DQ40: 1 | DU40: 1013 | DV40: 1 ПЕНЬ | DW40: 1 ПЕНЬ | DX40: 1 | EE40: 86331294 | EF40: 60 | EG40: Ремонтно-строительные работы | EH40: 0 | EJ40: 1 | EK40: 666 | EL40: ТСН-2001.6-68. 68-30...68-34 | EM40: ТСН-2001.6-68-13 | EO40: Попр.12.00.01.11.003 | EQ40: 0 | ER40: 0 | ES40: 0 | ET40: 0 | EU40: 0 | EV40: 32.8 | EW40: 3.34 | EX40: 0 | EY40: 0 | FQ40: 0 | FR40: 0 | FS40: 0 | FX40: 102 | FY40: 54 | GD40: 1 | GF40: 1376334070 | GG40: 2 | GH40: 0 | GI40: -2 | GJ40: 0 | GK40: 0 | GL40: =ROUND(IF(AND(BH40=3,BI40=3,FS40<>0),P40,0),2) -> 0 | GM40: =ROUND(O40+X40+Y40,2)+GX40 -> 2320.94 | GN40: =IF(OR(BI40=0,BI40=1),GM40-GX40,0) -> 2320.94 | GO40: =IF(BI40=2,GM40-GX40,0) -> 0 | GP40: =IF(BI40=4,GM40-GX40,0) -> 0 | GR40: 0 | GS40: 3 | GT40: 0 | GV40: =(GT40) -> 0 | GW40: 1 | GX40: =ROUND(HC40*I40,2) -> 0 | HA40: 0 | HB40: 0 | HC40: =GV40*GW40 -> 0 | HS40: 0 | IK40: 0
A41: 17 | B41: 1 | C41: =ROW(SmtRes!A16) -> 16 | D41: =ROW(EtalonRes!A16) -> 16 | E41: 7 | F41: 6.68-31-1 | G41: Корчевка и разделка пней диаметром 100 мм вручную с последующей ручной переноской и складированием на расстояние до 50 м, подноска и засыпка образующихся при корчевке ям, растительной земельной смесью | H41: 1 ПЕНЬ | I41: =ROUND(24,9) -> 24 | J41: 0 | K41: =ROUND(24,9) -> 24 | O41: =ROUND(CP41,2) -> 52366.27 | P41: =ROUND(CQ41*I41,2) -> 0 | Q41: =ROUND(CR41*I41,2) -> 0 | R41: =ROUND(CS41*I41,2) -> 0 | S41: =ROUND(CT41*I41,2) -> 52366.27 | T41: =ROUND(CU41*I41,2) -> 0 | U41: =CV41*I41 -> 92.320272 | V41: =CW41*I41 -> 0 | W41: =ROUND(CX41*I41,2) -> 0 | X41: =ROUND(CY41,2) -> 53413.6 | Y41: =ROUND(CZ41,2) -> 28277.79 | AA41: 86495195 | AB41: =(AC41+AD41+AF41) -> 36.08 | AC41: =(ES41) -> 0 | AD41: =((ET41*1.1)) -> 0 | AE41: =((EU41*1.1)) -> 0 | AF41: =((EV41*1.1)) -> 36.08 | AG41: =(AP41) -> 0 | AH41: =((EW41*1.1)) -> 3.674 | AI41: =((EX41*1.1)) -> 0 | AJ41: =(AS41) -> 0 | AK41: 0 | AL41: 0 | AM41: 0 | AN41: 0 | AO41: 32.8 | AP41: 0 | AQ41: 3.34 | AR41: 0 | AS41: 0 | AT41: 102 | AU41: 54 | AV41: 1.047 | AW41: 1 | AZ41: 1 | BA41: 57.76 | BB41: 1 | BC41: 1 | BH41: 0 | BI41: 1 | BJ41: 6.68-31-1 | BM41: 666 | BN41: 0 | BO41: 6.68-31-1 | BP41: 1 | BQ41: 60 | BR41: 0 | BS41: 57.76 | BT41: 1 | BU41: 1 | BV41: 1 | BW41: 1 | BX41: 1 | BZ41: 102 | CA41: 54 | CE41: 0 | CF41: 0 | CG41: 0 | CM41: 0 | CN41: Поправка:стеснённые условия, пп. "в" | CO41: 0 | CP41: =(P41+Q41+S41) -> 52366.27 | CQ41: =(AC41*BC41*AW41) -> 0 | CR41: =(((ET41*1.1))*BB41*AV41) -> 0 | CS41: =(AE41*BS41*AV41) -> 0 | CT41: =(AF41*BA41*AV41) -> 2181.9279 | CU41: =AG41 -> 0 | CV41: =(AH41*AV41) -> 3.846678 | CW41: =AI41 -> 0 | CX41: =AJ41 -> 0 | CY41: =(S41+R41)*(BZ41/100) -> 53413.595 | CZ41: =(S41+R41)*(CA41/100) -> 28277.786 | DE41: *1,1 | DF41: *1,1 | DG41: *1,1 | DI41: *1,1 | DJ41: *1,1 | DN41: 102 | DO41: 54 | DP41: 1 | DQ41: 1 | DU41: 1013 | DV41: 1 ПЕНЬ | DW41: 1 ПЕНЬ | DX41: 1 | EE41: 86331294 | EF41: 60 | EG41: Ремонтно-строительные работы | EH41: 0 | EJ41: 1 | EK41: 666 | EL41: ТСН-2001.6-68. 68-30...68-34 | EM41: ТСН-2001.6-68-13 | EO41: Попр.12.00.01.11.003 | EQ41: 0 | ER41: 0 | ES41: 0 | ET41: 0 | EU41: 0 | EV41: 32.8 | EW41: 3.34 | EX41: 0 | EY41: 0 | FQ41: 0 | FR41: 0 | FS41: 0 | FX41: 102 | FY41: 54 | GD41: 1 | GF41: 1376334070 | GG41: 2 | GH41: 0 | GI41: -2 | GJ41: 0 | GK41: 0 | GL41: =ROUND(IF(AND(BH41=3,BI41=3,FS41<>0),P41,0),2) -> 0 | GM41: =ROUND(O41+X41+Y41,2)+GX41 -> 134057.66 | GN41: =IF(OR(BI41=0,BI41=1),GM41-GX41,0) -> 134057.66 | GO41: =IF(BI41=2,GM41-GX41,0) -> 0 | GP41: =IF(BI41=4,GM41-GX41,0) -> 0 | GR41: 0 | GS41: 3 | GT41: 0 | GV41: =(GT41) -> 0 | GW41: 1 | GX41: =ROUND(HC41*I41,2) -> 0 | HA41: 0 | HB41: 0 | HC41: =GV41*GW41 -> 0 | HS41: 0 | IK41: 0
A42: 17 | B42: 1 | C42: =ROW(SmtRes!A18) -> 18 | D42: =ROW(EtalonRes!A18) -> 18 | E42: 8 | F42: 6.68-31-2 | G42: Корчевка и разделка пней диаметром 200 мм вручную с последующей ручной переноской и складированием на расстояние до 50 м, подноска и засыпка образующихся при корчевке ям, растительной земельной смесью | H42: 1 ПЕНЬ | I42: =ROUND(11,9) -> 11 | J42: 0 | K42: =ROUND(11,9) -> 11 | O42: =ROUND(CP42,2) -> 555.9 | P42: =ROUND(CQ42*I42,2) -> 0 | Q42: =ROUND(CR42*I42,2) -> 0 | R42: =ROUND(CS42*I42,2) -> 0 | S42: =ROUND(CT42*I42,2) -> 555.9 | T42: =ROUND(CU42*I42,2) -> 0 | U42: =CV42*I42 -> 57.00915 | V42: =CW42*I42 -> 0 | W42: =ROUND(CX42*I42,2) -> 0 | X42: =ROUND(CY42,2) -> 567.02 | Y42: =ROUND(CZ42,2) -> 300.19 | AA42: 86495194 | AB42: =(AC42+AD42+AF42) -> 48.268 | AC42: =(ES42) -> 0 | AD42: =((ET42*1.1)) -> 0 | AE42: =((EU42*1.1)) -> 0 | AF42: =((EV42*1.1)) -> 48.268 | AG42: =(AP42) -> 0 | AH42: =((EW42*1.1)) -> 4.95 | AI42: =((EX42*1.1)) -> 0 | AJ42: =(AS42) -> 0 | AK42: 0 | AL42: 0 | AM42: 0 | AN42: 0 | AO42: 43.88 | AP42: 0 | AQ42: 4.5 | AR42: 0 | AS42: 0 | AT42: 102 | AU42: 54 | AV42: 1.047 | AW42: 1 | AZ42: 1 | BA42: 1 | BB42: 1 | BC42: 1 | BH42: 0 | BI42: 1 | BJ42: 6.68-31-2 | BM42: 666 | BN42: 0 | BO42: 6.68-31-2 | BP42: 1 | BQ42: 60 | BR42: 0 | BS42: 1 | BT42: 1 | BU42: 1 | BV42: 1 | BW42: 1 | BX42: 1 | BZ42: 102 | CA42: 54 | CE42: 0 | CF42: 0 | CG42: 0 | CM42: 0 | CN42: Поправка:стеснённые условия, пп. "в" | CO42: 0 | CP42: =(P42+Q42+S42) -> 555.9 | CQ42: =(AC42*BC42*AW42) -> 0 | CR42: =(((ET42*1.1))*BB42*AV42) -> 0 | CS42: =(AE42*BS42*AV42) -> 0 | CT42: =(AF42*BA42*AV42) -> 50.536596 | CU42: =AG42 -> 0 | CV42: =(AH42*AV42) -> 5.18265 | CW42: =AI42 -> 0 | CX42: =AJ42 -> 0 | CY42: =(((S42+R42)*BZ42)/100) -> 567.018 | CZ42: =(((S42+R42)*CA42)/100) -> 300.186 | DE42: *1,1 | DF42: *1,1 | DG42: *1,1 | DI42: *1,1 | DJ42: *1,1 | DN42: 0 | DO42: 0 | DP42: 1 | DQ42: 1 | DU42: 1013 | DV42: 1 ПЕНЬ | DW42: 1 ПЕНЬ | DX42: 1 | EE42: 86331294 | EF42: 60 | EG42: Ремонтно-строительные работы | EH42: 0 | EJ42: 1 | EK42: 666 | EL42: ТСН-2001.6-68. 68-30...68-34 | EM42: ТСН-2001.6-68-13 | EO42: Попр.12.00.01.11.003 | EQ42: 0 | ER42: 0 | ES42: 0 | ET42: 0 | EU42: 0 | EV42: 43.88 | EW42: 4.5 | EX42: 0 | EY42: 0 | FQ42: 0 | FR42: 0 | FS42: 0 | FX42: 102 | FY42: 54 | GD42: 1 | GF42: 1810184959 | GG42: 2 | GH42: 0 | GI42: -2 | GJ42: 0 | GK42: 0 | GL42: =ROUND(IF(AND(BH42=3,BI42=3,FS42<>0),P42,0),2) -> 0 | GM42: =ROUND(O42+X42+Y42,2)+GX42 -> 1423.11 | GN42: =IF(OR(BI42=0,BI42=1),GM42-GX42,0) -> 1423.11 | GO42: =IF(BI42=2,GM42-GX42,0) -> 0 | GP42: =IF(BI42=4,GM42-GX42,0) -> 0 | GR42: 0 | GS42: 3 | GT42: 0 | GV42: =(GT42) -> 0 | GW42: 1 | GX42: =ROUND(HC42*I42,2) -> 0 | HA42: 0 | HB42: 0 | HC42: =GV42*GW42 -> 0 | HS42: 0 | IK42: 0
A43: 17 | B43: 1 | C43: =ROW(SmtRes!A20) -> 20 | D43: =ROW(EtalonRes!A20) -> 20 | E43: 8 | F43: 6.68-31-2 | G43: Корчевка и разделка пней диаметром 200 мм вручную с последующей ручной переноской и складированием на расстояние до 50 м, подноска и засыпка образующихся при корчевке ям, растительной земельной смесью | H43: 1 ПЕНЬ | I43: =ROUND(11,9) -> 11 | J43: 0 | K43: =ROUND(11,9) -> 11 | O43: =ROUND(CP43,2) -> 32108.93 | P43: =ROUND(CQ43*I43,2) -> 0 | Q43: =ROUND(CR43*I43,2) -> 0 | R43: =ROUND(CS43*I43,2) -> 0 | S43: =ROUND(CT43*I43,2) -> 32108.93 | T43: =ROUND(CU43*I43,2) -> 0 | U43: =CV43*I43 -> 57.00915 | V43: =CW43*I43 -> 0 | W43: =ROUND(CX43*I43,2) -> 0 | X43: =ROUND(CY43,2) -> 32751.11 | Y43: =ROUND(CZ43,2) -> 17338.82 | AA43: 86495195 | AB43: =(AC43+AD43+AF43) -> 48.268 | AC43: =(ES43) -> 0 | AD43: =((ET43*1.1)) -> 0 | AE43: =((EU43*1.1)) -> 0 | AF43: =((EV43*1.1)) -> 48.268 | AG43: =(AP43) -> 0 | AH43: =((EW43*1.1)) -> 4.95 | AI43: =((EX43*1.1)) -> 0 | AJ43: =(AS43) -> 0 | AK43: 0 | AL43: 0 | AM43: 0 | AN43: 0 | AO43: 43.88 | AP43: 0 | AQ43: 4.5 | AR43: 0 | AS43: 0 | AT43: 102 | AU43: 54 | AV43: 1.047 | AW43: 1 | AZ43: 1 | BA43: 57.76 | BB43: 1 | BC43: 1 | BH43: 0 | BI43: 1 | BJ43: 6.68-31-2 | BM43: 666 | BN43: 0 | BO43: 6.68-31-2 | BP43: 1 | BQ43: 60 | BR43: 0 | BS43: 57.76 | BT43: 1 | BU43: 1 | BV43: 1 | BW43: 1 | BX43: 1 | BZ43: 102 | CA43: 54 | CE43: 0 | CF43: 0 | CG43: 0 | CM43: 0 | CN43: Поправка:стеснённые условия, пп. "в" | CO43: 0 | CP43: =(P43+Q43+S43) -> 32108.93 | CQ43: =(AC43*BC43*AW43) -> 0 | CR43: =(((ET43*1.1))*BB43*AV43) -> 0 | CS43: =(AE43*BS43*AV43) -> 0 | CT43: =(AF43*BA43*AV43) -> 2918.9938 | CU43: =AG43 -> 0 | CV43: =(AH43*AV43) -> 5.18265 | CW43: =AI43 -> 0 | CX43: =AJ43 -> 0 | CY43: =(S43+R43)*(BZ43/100) -> 32751.109 | CZ43: =(S43+R43)*(CA43/100) -> 17338.822 | DE43: *1,1 | DF43: *1,1 | DG43: *1,1 | DI43: *1,1 | DJ43: *1,1 | DN43: 102 | DO43: 54 | DP43: 1 | DQ43: 1 | DU43: 1013 | DV43: 1 ПЕНЬ | DW43: 1 ПЕНЬ | DX43: 1 | EE43: 86331294 | EF43: 60 | EG43: Ремонтно-строительные работы | EH43: 0 | EJ43: 1 | EK43: 666 | EL43: ТСН-2001.6-68. 68-30...68-34 | EM43: ТСН-2001.6-68-13 | EO43: Попр.12.00.01.11.003 | EQ43: 0 | ER43: 0 | ES43: 0 | ET43: 0 | EU43: 0 | EV43: 43.88 | EW43: 4.5 | EX43: 0 | EY43: 0 | FQ43: 0 | FR43: 0 | FS43: 0 | FX43: 102 | FY43: 54 | GD43: 1 | GF43: 1810184959 | GG43: 2 | GH43: 0 | GI43: -2 | GJ43: 0 | GK43: 0 | GL43: =ROUND(IF(AND(BH43=3,BI43=3,FS43<>0),P43,0),2) -> 0 | GM43: =ROUND(O43+X43+Y43,2)+GX43 -> 82198.86 | GN43: =IF(OR(BI43=0,BI43=1),GM43-GX43,0) -> 82198.86 | GO43: =IF(BI43=2,GM43-GX43,0) -> 0 | GP43: =IF(BI43=4,GM43-GX43,0) -> 0 | GR43: 0 | GS43: 3 | GT43: 0 | GV43: =(GT43) -> 0 | GW43: 1 | GX43: =ROUND(HC43*I43,2) -> 0 | HA43: 0 | HB43: 0 | HC43: =GV43*GW43 -> 0 | HS43: 0 | IK43: 0
A44: 17 | B44: 1 | C44: =ROW(SmtRes!A22) -> 22 | D44: =ROW(EtalonRes!A22) -> 22 | E44: 9 | F44: 6.68-31-3 | G44: Корчевка и разделка пней диаметром 300 мм вручную с последующей ручной переноской и складированием на расстояние до 50 м, подноска и засыпка образующихся при корчевке ям, растительной земельной смесью | H44: 1 ПЕНЬ | I44: =ROUND(9,9) -> 9 | J44: 0 | K44: =ROUND(9,9) -> 9 | O44: =ROUND(CP44,2) -> 619.53 | P44: =ROUND(CQ44*I44,2) -> 0 | Q44: =ROUND(CR44*I44,2) -> 0 | R44: =ROUND(CS44*I44,2) -> 0 | S44: =ROUND(CT44*I44,2) -> 619.53 | T44: =ROUND(CU44*I44,2) -> 0 | U44: =CV44*I44 -> 63.539289 | V44: =CW44*I44 -> 0 | W44: =ROUND(CX44*I44,2) -> 0 | X44: =ROUND(CY44,2) -> 631.92 | Y44: =ROUND(CZ44,2) -> 334.55 | AA44: 86495194 | AB44: =(AC44+AD44+AF44) -> 65.747 | AC44: =(ES44) -> 0 | AD44: =((ET44*1.1)) -> 0 | AE44: =((EU44*1.1)) -> 0 | AF44: =((EV44*1.1)) -> 65.747 | AG44: =(AP44) -> 0 | AH44: =((EW44*1.1)) -> 6.743 | AI44: =((EX44*1.1)) -> 0 | AJ44: =(AS44) -> 0 | AK44: 0 | AL44: 0 | AM44: 0 | AN44: 0 | AO44: 59.77 | AP44: 0 | AQ44: 6.13 | AR44: 0 | AS44: 0 | AT44: 102 | AU44: 54 | AV44: 1.047 | AW44: 1 | AZ44: 1 | BA44: 1 | BB44: 1 | BC44: 1 | BH44: 0 | BI44: 1 | BJ44: 6.68-31-3 | BM44: 666 | BN44: 0 | BO44: 6.68-31-3 | BP44: 1 | BQ44: 60 | BR44: 0 | BS44: 1 | BT44: 1 | BU44: 1 | BV44: 1 | BW44: 1 | BX44: 1 | BZ44: 102 | CA44: 54 | CE44: 0 | CF44: 0 | CG44: 0 | CM44: 0 | CN44: Поправка:стеснённые условия, пп. "в" | CO44: 0 | CP44: =(P44+Q44+S44) -> 619.53 | CQ44: =(AC44*BC44*AW44) -> 0 | CR44: =(((ET44*1.1))*BB44*AV44) -> 0 | CS44: =(AE44*BS44*AV44) -> 0 | CT44: =(AF44*BA44*AV44) -> 68.837109 | CU44: =AG44 -> 0 | CV44: =(AH44*AV44) -> 7.059921 | CW44: =AI44 -> 0 | CX44: =AJ44 -> 0 | CY44: =(((S44+R44)*BZ44)/100) -> 631.9206 | CZ44: =(((S44+R44)*CA44)/100) -> 334.5462 | DE44: *1,1 | DF44: *1,1 | DG44: *1,1 | DI44: *1,1 | DJ44: *1,1 | DN44: 0 | DO44: 0 | DP44: 1 | DQ44: 1 | DU44: 1013 | DV44: 1 ПЕНЬ | DW44: 1 ПЕНЬ | DX44: 1 | EE44: 86331294 | EF44: 60 | EG44: Ремонтно-строительные работы | EH44: 0 | EJ44: 1 | EK44: 666 | EL44: ТСН-2001.6-68. 68-30...68-34 | EM44: ТСН-2001.6-68-13 | EO44: Попр.12.00.01.11.003 | EQ44: 0 | ER44: 0 | ES44: 0 | ET44: 0 | EU44: 0 | EV44: 59.77 | EW44: 6.13 | EX44: 0 | EY44: 0 | FQ44: 0 | FR44: 0 | FS44: 0 | FX44: 102 | FY44: 54 | GD44: 1 | GF44: -1331538383 | GG44: 2 | GH44: 0 | GI44: -2 | GJ44: 0 | GK44: 0 | GL44: =ROUND(IF(AND(BH44=3,BI44=3,FS44<>0),P44,0),2) -> 0 | GM44: =ROUND(O44+X44+Y44,2)+GX44 -> 1586 | GN44: =IF(OR(BI44=0,BI44=1),GM44-GX44,0) -> 1586 | GO44: =IF(BI44=2,GM44-GX44,0) -> 0 | GP44: =IF(BI44=4,GM44-GX44,0) -> 0 | GR44: 0 | GS44: 3 | GT44: 0 | GV44: =(GT44) -> 0 | GW44: 1 | GX44: =ROUND(HC44*I44,2) -> 0 | HA44: 0 | HB44: 0 | HC44: =GV44*GW44 -> 0 | HS44: 0 | IK44: 0
A45: 17 | B45: 1 | C45: =ROW(SmtRes!A24) -> 24 | D45: =ROW(EtalonRes!A24) -> 24 | E45: 9 | F45: 6.68-31-3 | G45: Корчевка и разделка пней диаметром 300 мм вручную с последующей ручной переноской и складированием на расстояние до 50 м, подноска и засыпка образующихся при корчевке ям, растительной земельной смесью | H45: 1 ПЕНЬ | I45: =ROUND(9,9) -> 9 | J45: 0 | K45: =ROUND(9,9) -> 9 | O45: =ROUND(CP45,2) -> 35784.28 | P45: =ROUND(CQ45*I45,2) -> 0 | Q45: =ROUND(CR45*I45,2) -> 0 | R45: =ROUND(CS45*I45,2) -> 0 | S45: =ROUND(CT45*I45,2) -> 35784.28 | T45: =ROUND(CU45*I45,2) -> 0 | U45: =CV45*I45 -> 63.539289 | V45: =CW45*I45 -> 0 | W45: =ROUND(CX45*I45,2) -> 0 | X45: =ROUND(CY45,2) -> 36499.97 | Y45: =ROUND(CZ45,2) -> 19323.51 | AA45: 86495195 | AB45: =(AC45+AD45+AF45) -> 65.747 | AC45: =(ES45) -> 0 | AD45: =((ET45*1.1)) -> 0 | AE45: =((EU45*1.1)) -> 0 | AF45: =((EV45*1.1)) -> 65.747 | AG45: =(AP45) -> 0 | AH45: =((EW45*1.1)) -> 6.743 | AI45: =((EX45*1.1)) -> 0 | AJ45: =(AS45) -> 0 | AK45: 0 | AL45: 0 | AM45: 0 | AN45: 0 | AO45: 59.77 | AP45: 0 | AQ45: 6.13 | AR45: 0 | AS45: 0 | AT45: 102 | AU45: 54 | AV45: 1.047 | AW45: 1 | AZ45: 1 | BA45: 57.76 | BB45: 1 | BC45: 1 | BH45: 0 | BI45: 1 | BJ45: 6.68-31-3 | BM45: 666 | BN45: 0 | BO45: 6.68-31-3 | BP45: 1 | BQ45: 60 | BR45: 0 | BS45: 57.76 | BT45: 1 | BU45: 1 | BV45: 1 | BW45: 1 | BX45: 1 | BZ45: 102 | CA45: 54 | CE45: 0 | CF45: 0 | CG45: 0 | CM45: 0 | CN45: Поправка:стеснённые условия, пп. "в" | CO45: 0 | CP45: =(P45+Q45+S45) -> 35784.28 | CQ45: =(AC45*BC45*AW45) -> 0 | CR45: =(((ET45*1.1))*BB45*AV45) -> 0 | CS45: =(AE45*BS45*AV45) -> 0 | CT45: =(AF45*BA45*AV45) -> 3976.0314 | CU45: =AG45 -> 0 | CV45: =(AH45*AV45) -> 7.059921 | CW45: =AI45 -> 0 | CX45: =AJ45 -> 0 | CY45: =(S45+R45)*(BZ45/100) -> 36499.966 | CZ45: =(S45+R45)*(CA45/100) -> 19323.511 | DE45: *1,1 | DF45: *1,1 | DG45: *1,1 | DI45: *1,1 | DJ45: *1,1 | DN45: 102 | DO45: 54 | DP45: 1 | DQ45: 1 | DU45: 1013 | DV45: 1 ПЕНЬ | DW45: 1 ПЕНЬ | DX45: 1 | EE45: 86331294 | EF45: 60 | EG45: Ремонтно-строительные работы | EH45: 0 | EJ45: 1 | EK45: 666 | EL45: ТСН-2001.6-68. 68-30...68-34 | EM45: ТСН-2001.6-68-13 | EO45: Попр.12.00.01.11.003 | EQ45: 0 | ER45: 0 | ES45: 0 | ET45: 0 | EU45: 0 | EV45: 59.77 | EW45: 6.13 | EX45: 0 | EY45: 0 | FQ45: 0 | FR45: 0 | FS45: 0 | FX45: 102 | FY45: 54 | GD45: 1 | GF45: -1331538383 | GG45: 2 | GH45: 0 | GI45: -2 | GJ45: 0 | GK45: 0 | GL45: =ROUND(IF(AND(BH45=3,BI45=3,FS45<>0),P45,0),2) -> 0 | GM45: =ROUND(O45+X45+Y45,2)+GX45 -> 91607.76 | GN45: =IF(OR(BI45=0,BI45=1),GM45-GX45,0) -> 91607.76 | GO45: =IF(BI45=2,GM45-GX45,0) -> 0 | GP45: =IF(BI45=4,GM45-GX45,0) -> 0 | GR45: 0 | GS45: 3 | GT45: 0 | GV45: =(GT45) -> 0 | GW45: 1 | GX45: =ROUND(HC45*I45,2) -> 0 | HA45: 0 | HB45: 0 | HC45: =GV45*GW45 -> 0 | HS45: 0 | IK45: 0
