Workbook

Sheet ЛС-02-01-02
A1: =Source!B1 -> Smeta.RU (495) 974-1589
K2: Форма № 4б
A3: 25МГ-ДПР-2750 — Реконструкция газопровода низкого давления. Электрохимическая защита
A4: (наименование стройки и/или объекта)
A6: =CONCATENATE( "ЛОКАЛЬНАЯ СМЕТА № " ,IF(Source!F12<>"Новый объект", Source!F12, "")) -> ЛОКАЛЬНАЯ СМЕТА № ЛС-02-01-02
A9: (наименование работ и затрат)
A11: =CONCATENATE( "Основание: чертежи № " , Source!J12) -> Основание: чертежи № Технический отчёт АЗ (ТКР.ТО), выписка "ЭХЗ для смет" (16.09), "Объемы ОПС"
I13: В базисном уровне цен | J13: В текущем уровне цен
E14: Сметная стоимость | I14: =I15+I16+I17+I18 -> 20.25 | J14: =J15+J16+J17+J18 -> 582.76 | K14: тыс.руб.
E15: Строительные работы | I15: =ROUND((Source!F271)/1000, 2) -> 20.13 | J15: =ROUND((Source!P271)/1000, 2) -> 579.37 | K15: тыс.руб.
E16: Работы по монтажу оборудования | I16: =ROUND((Source!F272)/1000, 2) -> 0.12 | J16: =ROUND((Source!P272)/1000, 2) -> 3.39 | K16: тыс.руб.
E17: Оборудование | I17: =ROUND((Source!F263)/1000, 2) -> 0 | J17: =ROUND((Source!P263)/1000, 2) -> 0 | K17: тыс.руб.
E18: Прочие работы и затраты | I18: =ROUND((Source!F273+Source!F274)/1000, 2) -> 0 | J18: =ROUND((Source!P273+Source!P274)/1000, 2) -> 0 | K18: тыс.руб.
E19: Средства на оплату труда | I19: =(Source!F269+ Source!F268)/1000 -> 2.91717 | J19: =((Source!P269 + Source!P268)/1000) -> 168.49667 | K19: тыс.руб.
E20: Затраты труда | I20: =Source!F276 -> 247.16528 | K20: чел.-ч.
E21: Кроме того:
E22: Возврат материалов | I22: =SUM(Y1:Y288)/1000 -> 0 | J22: =SUM(Z1:Z288)/1000 -> 0 | K22: тыс.руб.
A24: Составлен(а) по ТСН-2001 с учетом Дополнения №: 82
A25: № и период сборника коэффициентов (индексов) пересчета: Текущий уровень цен, III квартал 2026, выпуск 221 | AP25: № и период сборника коэффициентов (индексов) пересчета: Текущий уровень цен, III квартал 2026, выпуск 221
A26: № п/п | B26: Шифр расценки и коды ресурсов | C26: Наименование работ и затрат | D26: Ед. изм. | E26: Кол-во единиц | F26: Цена на ед. изм., руб. | G26: Попра- вочные коэффи- циенты | H26: Коэффи- циенты зимних удорожа- ний | I26: Всего в ценах на Январь 2000 года, руб. | J26: Коэффи- циенты (индек- сы) пере- счета, нормы НР и СП | K26: ВСЕГО затрат в текущем уровне цен, руб.
A27: 1 | B27: 2 | C27: 3 | D27: 4 | E27: 5 | F27: 6 | G27: 7 | H27: 8 | I27: 9 | J27: 10 | K27: 11
A29: =CONCATENATE("Локальная смета: ",IF(Source!G20<>"Новая локальная смета", Source!G20, "")) -> Локальная смета: Электрохимическая защита
A31: =CONCATENATE("Раздел: ",IF(Source!G24<>"Новый раздел", Source!G24, "")) -> Раздел: Демонтаж колодцев КУ и Гл.А.З (сборный железобетон)
A32: 1 | B32: =Source!F28 -> 3.22-36-1 | C32: Устройство круглых колодцев из сборного железобетона в грунтах сухих | D32: =Source!H28 -> 10 м3 железобетонных и бетонных конструкций колодцев | E32: =Source!I28 -> 0.15 | Q32: =Source!X28 -> 171.15 | R32: =Source!X29 -> 9885.63 | S32: =Source!Y28 -> 102.69 | T32: =Source!Y29 -> 5931.38 | U32: =ROUND((175/100)*ROUND(Source!R28, 2), 2) -> 34.77 | V32: =ROUND((0/100)*ROUND(Source!R29, 2), 2) -> 0 | AC32: 0
C33: ="Объем: "&Source!I28&"=1,5/"&"10" -> Объем: 0,15=1,5/10
C34: ЗП | F34: =Source!AO28 -> 1016.24 | G34: 1,1*0,8 | H34: =Source!AV29 -> 1.067 | I34: =Source!S28 -> 143.13 | J34: =IF(Source!BA29<> 0, Source!BA29, 1) -> 57.76 | K34: =Source!S29 -> 8267.26
C35: ЭМ | F35: =Source!AM28 -> 1135.97 | G35: 1,1*0,8 | H35: =Source!AV29 -> 1.067 | I35: =Source!Q28 -> 159.99 | J35: =IF(Source!BB29<> 0, Source!BB29, 1) -> 16.84 | K35: =Source!Q29 -> 2694.31
C36: в т.ч. ЗПМ | F36: =Source!AN28 -> 141.07 | G36: 1,1*0,8 | H36: =Source!AV29 -> 1.067 | I36: =Source!R28 -> 19.87 | J36: =IF(Source!BS29<> 0, Source!BS29, 1) -> 57.76 | K36: =Source!R29 -> 1147.63
C37: НР от ФОТ | D37: % | E37: =Source!DN29 -> 105 | I37: =SUM(Q32:Q36) -> 171.15 | J37: =Source!BZ29 -> 105 | K37: =SUM(R32:R36) -> 9885.63
C38: СП от ФОТ | D38: % | E38: =Source!DO29 -> 63 | I38: =SUM(S32:S37) -> 102.69 | J38: =Source!CA29 -> 63 | K38: =SUM(T32:T37) -> 5931.38
C39: ЗТР | D39: чел-ч | E39: =Source!AQ28 -> 88.6 | G39: 1,1*0,8 | H39: =Source!AV29 -> 1.067 | I39: =Source!U28 -> 12.478778
C40: ВСЕГО работ по позиции: | H40: =I34+I35+I37+I38+0-0-0 -> 576.96 | J40: =K34+K35+K37+K38+0-0-0 -> 26778.58
C41: ВСЕГО оборудование по позиции: | H41: =0+0 -> 0 | J41: =0+0 -> 0
C42: ВСЕГО по позиции: | H42: =I34+I35+I37+I38+0 -> 576.96 | J42: =K34+K35+K37+K38+0 -> 26778.58 | O42: =I34+I35+I37+I38+0 -> 576.96 | P42: =K34+K35+K37+K38+0 -> 26778.58
A44: 2 | B44: =Source!F30 -> 3.22-36-1 | C44: Устройство круглых колодцев из сборного железобетона в грунтах сухих | D44: =Source!H30 -> 10 м3 железобетонных и бетонных конструкций колодцев | E44: =Source!I30 -> 0.11 | Q44: =Source!X30 -> 125.51 | R44: =Source!X31 -> 7249.46 | S44: =Source!Y30 -> 75.3 | T44: =Source!Y31 -> 4349.68 | U44: =ROUND((175/100)*ROUND(Source!R30, 2), 2) -> 25.5 | V44: =ROUND((0/100)*ROUND(Source!R31, 2), 2) -> 0 | AC44: 0
C45: ЗП | F45: =Source!AO30 -> 1016.24 | G45: 1,1*0,8 | H45: =Source!AV31 -> 1.067 | I45: =Source!S30 -> 104.96 | J45: =IF(Source!BA31<> 0, Source!BA31, 1) -> 57.76 | K45: =Source!S31 -> 6062.66
C46: ЭМ | F46: =Source!AM30 -> 1135.97 | G46: 1,1*0,8 | H46: =Source!AV31 -> 1.067 | I46: =Source!Q30 -> 117.33 | J46: =IF(Source!BB31<> 0, Source!BB31, 1) -> 16.84 | K46: =Source!Q31 -> 1975.83
C47: в т.ч. ЗПМ | F47: =Source!AN30 -> 141.07 | G47: 1,1*0,8 | H47: =Source!AV31 -> 1.067 | I47: =Source!R30 -> 14.57 | J47: =IF(Source!BS31<> 0, Source!BS31, 1) -> 57.76 | K47: =Source!R31 -> 841.59
C48: НР от ФОТ | D48: % | E48: =Source!DN31 -> 105 | I48: =SUM(Q44:Q47) -> 125.51 | J48: =Source!BZ31 -> 105 | K48: =SUM(R44:R47) -> 7249.46
C49: СП от ФОТ | D49: % | E49: =Source!DO31 -> 63 | I49: =SUM(S44:S48) -> 75.3 | J49: =Source!CA31 -> 63 | K49: =SUM(T44:T48) -> 4349.68
...

Sheet Source
A1: 0 | B1: Smeta.RU (495) 974-1589 | D1: _PS_ | F1: 0 | G1: 0 | H1: 0 | I1: Smeta.RU | K1: 1 | L1: 76812 | M1: 10 | N1: 12 | O1: 2 | P1: 0 | Q1: 1
A4: 8 | B4: 1 | C4: -1 | F4: 25МГ-ДПР-2750 | G4: 25МГ-ДПР-2750 — Реконструкция газопровода низкого давления | EC4: 0
A12: 1 | B12: 289 | C12: 0 | D12: =ROW(A254) -> 254 | E12: 0 | F12: ЛС-02-01-02 | G12: Электрохимическая защита | I12: 0 | J12: Технический отчёт АЗ (ТКР.ТО), выписка "ЭХЗ для смет" (16.09), "Объемы ОПС" | K12: 0 | L12: 0 | M12: 2 | O12: 2026 | P12: 7 | Q12: 0 | R12: 0 | S12: 0 | T12: 1 | U12: Основание:Технический отчёт АЗ (ТКР.ТО), выписка "ЭХЗ для смет" (16.09), "Объемы ОПС" Уровень цен:3 кв 2026 Нормативные индексы ТСН:№ 221 III квартал 2026 Регион:ТСН-2001 г. Москвы (с доп.1-82) | V12: 2 | BB12: 0 | BH12: Сметные нормы списания | BI12: Коды ОКП для ТСН-2001 МГЭ | BJ12: 1 | BK12: 1 | BL12: 0 | BM12: 0 | BN12: 1 | BO12: 0 | BP12: -1 | BQ12: 2 | BR12: 1 | BS12: 0 | BT12: 0 | BU12: 0 | BV12: 0 | BW12: 0 | BX12: 0 | BZ12: Типовой расчет для ТСН-2001 МГЭ, Новая методика с выпуска доп. 43 (Строительство), Доп 64 | CA12: Территориальные сметные нормативы для Москвы ТСН-2001 (МГЭ) | CB12: Территориальные сметные нормативы для Москвы ТСН-2001 (МГЭ) | CC12: Территориальные сметные нормативы для Москвы ТСН-2001 (МГЭ) | CD12: Территориальные сметные нормативы для Москвы ТСН-2001 (МГЭ) | CE12: Поправки для ТСН-2001 от 15.07.2022 г. доп.65 | CF12: 0 | CG12: 0 | CH12: 524296 | CK12: 82 | CQ12: Территориальные сметные нормативы для Москвы (ТСН-2001) | CR12: ТЕР | CS12: 41660 | CT12: 1 | CU12: 72 | CY12: 0 | EC12: 0
A15: 15 | B15: 1
A18: 52 | B18: =B254 -> 289 | C18: =C254 -> 1 | D18: =D254 -> 12 | E18: =E254 -> 0 | F18: =F254 -> ЛС-02-01-02 | G18: =G254 -> Электрохимическая защита | O18: =O254 -> 15157.06 | P18: =P254 -> 9673 | Q18: =Q254 -> 2839.14 | R18: =R254 -> 272.25 | S18: =S254 -> 2644.92 | T18: =T254 -> 0 | U18: =U254 -> 247.16528 | V18: =V254 -> 0 | ... GX18: =GX254 -> 0
A20: 3 | B20: 1 | D20: =ROW(A224) -> 224 | F20: ЛС-02-01-02 | G20: Электрохимическая защита | I20: 0 | K20: 0 | L20: ЛС-02-01-02 | S20: 0 | T20: 0 | U20: Электрохимическая защита | V20: 2 | BX20: 0 | CF20: 0 | CG20: 0
A22: 52 | B22: =B224 -> 1 | C22: =C224 -> 3 | D22: =D224 -> 20 | E22: =E224 -> 0 | F22: =F224 -> ЛС-02-01-02 | G22: =G224 -> Электрохимическая защита | O22: =O224 -> 15157.06 | P22: =P224 -> 9673 | Q22: =Q224 -> 2839.14 | R22: =R224 -> 272.25 | S22: =S224 -> 2644.92 | T22: =T224 -> 0 | U22: =U224 -> 247.16528 | V22: =V224 -> 0 | ... GX22: =GX224 -> 0
A24: 4 | B24: 1 | D24: =ROW(A35) -> 35 | F24: 1 | G24: Демонтаж колодцев КУ и Гл.А.З (сборный железобетон) | I24: 0 | K24: -1 | S24: 0 | T24: 0 | V24: 2 | BX24: 0 | CJ24: 0
A26: 52 | B26: =B35 -> 1 | C26: =C35 -> 4 | D26: =D35 -> 24 | E26: =E35 -> 0 | F26: =F35 -> 1 | G26: =G35 -> Демонтаж колодцев КУ и Гл.А.З (сборный железобетон) | O26: =O35 -> 569.87 | P26: =P35 -> 0 | Q26: =Q35 -> 300.79 | R26: =R35 -> 37.35 | S26: =S35 -> 269.08 | T26: =T35 -> 0 | U26: =U35 -> 23.460103 | V26: =V35 -> 0 | ... GX26: =GX35 -> 0
A28: 17 | B28: 1 | C28: =ROW(SmtRes!A13) -> 13 | D28: =ROW(EtalonRes!A13) -> 13 | E28: 1 | F28: 3.22-36-1 | G28: Устройство круглых колодцев из сборного железобетона в грунтах сухих | H28: 10 м3 железобетонных и бетонных конструкций колодцев | I28: =ROUND(1.5/10,9) -> 0.15 | J28: 0 | K28: =ROUND(1.5/10,9) -> 0.15 | O28: =ROUND(CP28,2) -> 303.12 | P28: =ROUND(CQ28*I28,2) -> 0 | Q28: =ROUND(CR28*I28,2) -> 159.99 | R28: =ROUND(CS28*I28,2) -> 19.87 | S28: =ROUND(CT28*I28,2) -> 143.13 | T28: =ROUND(CU28*I28,2) -> 0 | U28: =CV28*I28 -> 12.478778 | V28: =CW28*I28 -> 0 | W28: =ROUND(CX28*I28,2) -> 0 | X28: =ROUND(CY28,2) -> 171.15 | Y28: =ROUND(CZ28,2) -> 102.69 | AA28: 86497921 | AB28: =(AC28+AD28+AF28) -> 1893.9448 | AC28: =((ES28*0)) -> 0 | AD28: =((ET28*1.1*0.8)) -> 999.6536 | AE28: =((EU28*1.1*0.8)) -> 124.1416 | AF28: =((EV28*1.1*0.8)) -> 894.2912 | AG28: =(AP28) -> 0 | AH28: =((EW28*1.1*0.8)) -> 77.968 | AI28: =((EX28*1.1*0.8)) -> 0 | AJ28: =(AS28) -> 0 | AK28: 0 | AL28: 4172.77 | AM28: 1135.97 | AN28: 141.07 | AO28: 1016.24 | AP28: 0 | AQ28: 88.6 | AR28: 0 | AS28: 0 | AT28: 105 | AU28: 63 | AV28: 1.067 | AW28: 1.003 | AZ28: 1 | BA28: 1 | BB28: 1 | BC28: 1 | BH28: 0 | BI28: 1 | BJ28: 3.22-36-1 | BM28: 140 | BN28: 0 | BO28: 3.22-36-1 | BP28: 1 | BQ28: 30 | BR28: 0 | BS28: 1 | BT28: 1 | BU28: 1 | BV28: 1 | BW28: 1 | BX28: 1 | BZ28: 105 | CA28: 63 | CE28: 0 | CF28: 0 | CG28: 0 | CM28: 0 | CN28: Поправка:стеснённые условия, пп. "в" Поправка:При демонтаже сборных железобетонных и бетонных конструкций | CO28: 0 | CP28: =(P28+Q28+S28) -> 303.12 | CQ28: =(AC28*BC28*AW28) -> 0 | CR28: =(((ET28*1.1*0.8))*BB28*AV28) -> 1066.6304 | CS28: =(AE28*BS28*AV28) -> 132.45909 | CT28: =(AF28*BA28*AV28) -> 954.20871 | CU28: =AG28 -> 0 | CV28: =(AH28*AV28) -> 83.191856 | CW28: =AI28 -> 0 | CX28: =AJ28 -> 0 | CY28: =(((S28+R28)*BZ28)/100) -> 171.15 | CZ28: =(((S28+R28)*CA28)/100) -> 102.69 | DD28: *0 | DE28: *1,1*0,8 | DF28: *1,1*0,8 | DG28: *1,1*0,8 | DI28: *1,1*0,8 | DJ28: *1,1*0,8 | DN28: 0 | DO28: 0 | DP28: 1 | DQ28: 1 | DU28: 1013 | DV28: 10 м3 железобетонных и бетонных конструкций колодцев | DW28: 10 м3 железобетонных и бетонных конструкций колодцев | DX28: 1 | EE28: 86330768 | EF28: 30 | EG28: Строительные работы | EH28: 0 | EJ28: 1 | EK28: 140 | EL28: ТСН-2001.3-22. 22-7...22-61 | EM28: ТСН-2001.3-22-1 | EO28: Попр.12.00.01.11.003 Попр.06.00.01.35.001 | EQ28: 0 | ER28: 0 | ES28: 4172.77 | ET28: 1135.97 | EU28: 141.07 | EV28: 1016.24 | EW28: 88.6 | EX28: 0 | EY28: 0 | FQ28: 0 | FR28: 0 | FS28: 0 | FX28: 105 | FY28: 63 | GD28: 1 | GF28: 1531655653 | GG28: 2 | GH28: 0 | GI28: -2 | GJ28: 0 | GK28: 0 | GL28: =ROUND(IF(AND(BH28=3,BI28=3,FS28<>0),P28,0),2) -> 0 | GM28: =ROUND(O28+X28+Y28,2)+GX28 -> 576.96 | GN28: =IF(OR(BI28=0,BI28=1),GM28-GX28,0) -> 576.96 | GO28: =IF(BI28=2,GM28-GX28,0) -> 0 | GP28: =IF(BI28=4,GM28-GX28,0) -> 0 | GR28: 0 | GS28: 3 | GT28: 0 | GV28: =(GT28) -> 0 | GW28: 1 | GX28: =ROUND(HC28*I28,2) -> 0 | HA28: 0 | HB28: 0 | HC28: =GV28*GW28 -> 0 | HS28: 0 | IK28: 0
A29: 17 | B29: 1 | C29: =ROW(SmtRes!A26) -> 26 | D29: =ROW(EtalonRes!A26) -> 26 | E29: 1 | F29: 3.22-36-1 | G29: Устройство круглых колодцев из сборного железобетона в грунтах сухих | H29: 10 м3 железобетонных и бетонных конструкций колодцев | I29: =ROUND(1.5/10,9) -> 0.15 | J29: 0 | K29: =ROUND(1.5/10,9) -> 0.15 | O29: =ROUND(CP29,2) -> 10961.57 | P29: =ROUND(CQ29*I29,2) -> 0 | Q29: =ROUND(CR29*I29,2) -> 2694.31 | R29: =ROUND(CS29*I29,2) -> 1147.63 | S29: =ROUND(CT29*I29,2) -> 8267.26 | T29: =ROUND(CU29*I29,2) -> 0 | U29: =CV29*I29 -> 12.478778 | V29: =CW29*I29 -> 0 | W29: =ROUND(CX29*I29,2) -> 0 | X29: =ROUND(CY29,2) -> 9885.63 | Y29: =ROUND(CZ29,2) -> 5931.38 | AA29: 86497922 | AB29: =(AC29+AD29+AF29) -> 1893.9448 | AC29: =((ES29*0)) -> 0 | AD29: =((ET29*1.1*0.8)) -> 999.6536 | AE29: =((EU29*1.1*0.8)) -> 124.1416 | AF29: =((EV29*1.1*0.8)) -> 894.2912 | AG29: =(AP29) -> 0 | AH29: =((EW29*1.1*0.8)) -> 77.968 | AI29: =((EX29*1.1*0.8)) -> 0 | AJ29: =(AS29) -> 0 | AK29: 0 | AL29: 4172.77 | AM29: 1135.97 | AN29: 141.07 | AO29: 1016.24 | AP29: 0 | AQ29: 88.6 | AR29: 0 | AS29: 0 | AT29: 105 | AU29: 63 | AV29: 1.067 | AW29: 1.003 | AZ29: 1 | BA29: 57.76 | BB29: 16.84 | BC29: 13.35 | BH29: 0 | BI29: 1 | BJ29: 3.22-36-1 | BM29: 140 | BN29: 0 | BO29: 3.22-36-1 | BP29: 1 | BQ29: 30 | BR29: 0 | BS29: 57.76 | BT29: 1 | BU29: 1 | BV29: 1 | BW29: 1 | BX29: 1 | BZ29: 105 | CA29: 63 | CE29: 0 | CF29: 0 | CG29: 0 | CM29: 0 | CN29: Поправка:стеснённые условия, пп. "в" Поправка:При демонтаже сборных железобетонных и бетонных конструкций | CO29: 0 | CP29: =(P29+Q29+S29) -> 10961.57 | CQ29: =(AC29*BC29*AW29) -> 0 | CR29: =(((ET29*1.1*0.8))*BB29*AV29) -> 17962.056 | CS29: =(AE29*BS29*AV29) -> 7650.8369 | CT29: =(AF29*BA29*AV29) -> 55115.095 | CU29: =AG29 -> 0 | CV29: =(AH29*AV29) -> 83.191856 | CW29: =AI29 -> 0 | CX29: =AJ29 -> 0 | CY29: =(S29+R29)*(BZ29/100) -> 9885.6345 | CZ29: =(S29+R29)*(CA29/100) -> 5931.3807 | DD29: *0 | DE29: *1,1*0,8 | DF29: *1,1*0,8 | DG29: *1,1*0,8 | DI29: *1,1*0,8 | DJ29: *1,1*0,8 | DN29: 105 | DO29: 63 | DP29: 1 | DQ29: 1 | DU29: 1013 | DV29: 10 м3 железобетонных и бетонных конструкций колодцев | DW29: 10 м3 железобетонных и бетонных конструкций колодцев | DX29: 1 | EE29: 86330768 | EF29: 30 | EG29: Строительные работы | EH29: 0 | EJ29: 1 | EK29: 140 | EL29: ТСН-2001.3-22. 22-7...22-61 | EM29: ТСН-2001.3-22-1 | EO29: Попр.12.00.01.11.003 Попр.06.00.01.35.001 | EQ29: 0 | ER29: 0 | ES29: 4172.77 | ET29: 1135.97 | EU29: 141.07 | EV29: 1016.24 | EW29: 88.6 | EX29: 0 | EY29: 0 | FQ29: 0 | FR29: 0 | FS29: 0 | FX29: 105 | FY29: 63 | GD29: 1 | GF29: 1531655653 | GG29: 2 | GH29: 0 | GI29: -2 | GJ29: 0 | GK29: 0 | GL29: =ROUND(IF(AND(BH29=3,BI29=3,FS29<>0),P29,0),2) -> 0 | GM29: =ROUND(O29+X29+Y29,2)+GX29 -> 26778.58 | GN29: =IF(OR(BI29=0,BI29=1),GM29-GX29,0) -> 26778.58 | GO29: =IF(BI29=2,GM29-GX29,0) -> 0 | GP29: =IF(BI29=4,GM29-GX29,0) -> 0 | GR29: 0 | GS29: 3 | GT29: 0 | GV29: =(GT29) -> 0 | GW29: 13.35 | GX29: =ROUND(HC29*I29,2) -> 0 | HA29: 0 | HB29: 0 | HC29: =GV29*GW29 -> 0 | HS29: 0 | IK29: 0
A30: 17 | B30: 1 | C30: =ROW(SmtRes!A39) -> 39 | D30: =ROW(EtalonRes!A39) -> 39 | E30: 2 | F30: 3.22-36-1 | G30: Устройство круглых колодцев из сборного железобетона в грунтах сухих | H30: 10 м3 железобетонных и бетонных конструкций колодцев | I30: =ROUND(0.11,9) -> 0.11 | J30: 0 | K30: =ROUND(0.11,9) -> 0.11 | O30: =ROUND(CP30,2) -> 222.29 | P30: =ROUND(CQ30*I30,2) -> 0 | Q30: =ROUND(CR30*I30,2) -> 117.33 | R30: =ROUND(CS30*I30,2) -> 14.57 | S30: =ROUND(CT30*I30,2) -> 104.96 | T30: =ROUND(CU30*I30,2) -> 0 | U30: =CV30*I30 -> 9.1511042 | V30: =CW30*I30 -> 0 | W30: =ROUND(CX30*I30,2) -> 0 | X30: =ROUND(CY30,2) -> 125.51 | Y30: =ROUND(CZ30,2) -> 75.3 | AA30: 86497921 | AB30: =(AC30+AD30+AF30) -> 1893.9448 | AC30: =((ES30*0)) -> 0 | AD30: =((ET30*1.1*0.8)) -> 999.6536 | AE30: =((EU30*1.1*0.8)) -> 124.1416 | AF30: =((EV30*1.1*0.8)) -> 894.2912 | AG30: =(AP30) -> 0 | AH30: =((EW30*1.1*0.8)) -> 77.968 | AI30: =((EX30*1.1*0.8)) -> 0 | AJ30: =(AS30) -> 0 | AK30: 0 | AL30: 4172.77 | AM30: 1135.97 | AN30: 141.07 | AO30: 1016.24 | AP30: 0 | AQ30: 88.6 | AR30: 0 | AS30: 0 | AT30: 105 | AU30: 63 | AV30: 1.067 | AW30: 1.003 | AZ30: 1 | BA30: 1 | BB30: 1 | BC30: 1 | BH30: 0 | BI30: 1 | BJ30: 3.22-36-1 | BM30: 140 | BN30: 0 | BO30: 3.22-36-1 | BP30: 1 | BQ30: 30 | BR30: 0 | BS30: 1 | BT30: 1 | BU30: 1 | BV30: 1 | BW30: 1 | BX30: 1 | BZ30: 105 | CA30: 63 | CE30: 0 | CF30: 0 | CG30: 0 | CM30: 0 | CN30: Поправка:стеснённые условия, пп. "в" Поправка:При демонтаже сборных железобетонных и бетонных конструкций | CO30: 0 | CP30: =(P30+Q30+S30) -> 222.29 | CQ30: =(AC30*BC30*AW30) -> 0 | CR30: =(((ET30*1.1*0.8))*BB30*AV30) -> 1066.6304 | CS30: =(AE30*BS30*AV30) -> 132.45909 | CT30: =(AF30*BA30*AV30) -> 954.20871 | CU30: =AG30 -> 0 | CV30: =(AH30*AV30) -> 83.191856 | CW30: =AI30 -> 0 | CX30: =AJ30 -> 0 | CY30: =(((S30+R30)*BZ30)/100) -> 125.5065 | CZ30: =(((S30+R30)*CA30)/100) -> 75.3039 | DD30: *0 | DE30: *1,1*0,8 | DF30: *1,1*0,8 | DG30: *1,1*0,8 | DI30: *1,1*0,8 | DJ30: *1,1*0,8 | DN30: 0 | DO30: 0 | DP30: 1 | DQ30: 1 | DU30: 1013 | DV30: 10 м3 железобетонных и бетонных конструкций колодцев | DW30: 10 м3 железобетонных и бетонных конструкций колодцев | DX30: 1 | EE30: 86330768 | EF30: 30 | EG30: Строительные работы | EH30: 0 | EJ30: 1 | EK30: 140 | EL30: ТСН-2001.3-22. 22-7...22-61 | EM30: ТСН-2001.3-22-1 | EO30: Попр.12.00.01.11.003 Попр.06.00.01.35.001 | EQ30: 0 | ER30: 0 | ES30: 4172.77 | ET30: 1135.97 | EU30: 141.07 | EV30: 1016.24 | EW30: 88.6 | EX30: 0 | EY30: 0 | FQ30: 0 | FR30: 0 | FS30: 0 | FX30: 105 | FY30: 63 | GD30: 1 | GF30: 1693447855 | GG30: 2 | GH30: 0 | GI30: -2 | GJ30: 0 | GK30: 0 | GL30: =ROUND(IF(AND(BH30=3,BI30=3,FS30<>0),P30,0),2) -> 0 | GM30: =ROUND(O30+X30+Y30,2)+GX30 -> 423.1 | GN30: =IF(OR(BI30=0,BI30=1),GM30-GX30,0) -> 423.1 | GO30: =IF(BI30=2,GM30-GX30,0) -> 0 | GP30: =IF(BI30=4,GM30-GX30,0) -> 0 | GR30: 0 | GS30: 3 | GT30: 0 | GV30: =(GT30) -> 0 | GW30: 1 | GX30: =ROUND(HC30*I30,2) -> 0 | HA30: 0 | HB30: 0 | HC30: =GV30*GW30 -> 0 | HS30: 0 | IK30: 0
A31: 17 | B31: 1 | C31: =ROW(SmtRes!A52) -> 52 | D31: =ROW(EtalonRes!A52) -> 52 | E31: 2 | F31: 3.22-36-1 | G31: Устройство круглых колодцев из сборного железобетона в грунтах сухих | H31: 10 м3 железобетонных и бетонных конструкций колодцев | I31: =ROUND(0.11,9) -> 0.11 | J31: 0 | K31: =ROUND(0.11,9) -> 0.11 | O31: =ROUND(CP31,2) -> 8038.49 | P31: =ROUND(CQ31*I31,2) -> 0 | Q31: =ROUND(CR31*I31,2) -> 1975.83 | R31: =ROUND(CS31*I31,2) -> 841.59 | S31: =ROUND(CT31*I31,2) -> 6062.66 | T31: =ROUND(CU31*I31,2) -> 0 | U31: =CV31*I31 -> 9.1511042 | V31: =CW31*I31 -> 0 | W31: =ROUND(CX31*I31,2) -> 0 | X31: =ROUND(CY31,2) -> 7249.46 | Y31: =ROUND(CZ31,2) -> 4349.68 | AA31: 86497922 | AB31: =(AC31+AD31+AF31) -> 1893.9448 | AC31: =((ES31*0)) -> 0 | AD31: =((ET31*1.1*0.8)) -> 999.6536 | AE31: =((EU31*1.1*0.8)) -> 124.1416 | AF31: =((EV31*1.1*0.8)) -> 894.2912 | AG31: =(AP31) -> 0 | AH31: =((EW31*1.1*0.8)) -> 77.968 | AI31: =((EX31*1.1*0.8)) -> 0 | AJ31: =(AS31) -> 0 | AK31: 0 | AL31: 4172.77 | AM31: 1135.97 | AN31: 141.07 | AO31: 1016.24 | AP31: 0 | AQ31: 88.6 | AR31: 0 | AS31: 0 | AT31: 105 | AU31: 63 | AV31: 1.067 | AW31: 1.003 | AZ31: 1 | BA31: 57.76 | BB31: 16.84 | BC31: 13.35 | BH31: 0 | BI31: 1 | BJ31: 3.22-36-1 | BM31: 140 | BN31: 0 | BO31: 3.22-36-1 | BP31: 1 | BQ31: 30 | BR31: 0 | BS31: 57.76 | BT31: 1 | BU31: 1 | BV31: 1 | BW31: 1 | BX31: 1 | BZ31: 105 | CA31: 63 | CE31: 0 | CF31: 0 | CG31: 0 | CM31: 0 | CN31: Поправка:стеснённые условия, пп. "в" Поправка:При демонтаже сборных железобетонных и бетонных конструкций | CO31: 0 | CP31: =(P31+Q31+S31) -> 8038.49 | CQ31: =(AC31*BC31*AW31) -> 0 | CR31: =(((ET31*1.1*0.8))*BB31*AV31) -> 17962.056 | CS31: =(AE31*BS31*AV31) -> 7650.8369 | CT31: =(AF31*BA31*AV31) -> 55115.095 | CU31: =AG31 -> 0 | CV31: =(AH31*AV31) -> 83.191856 | CW31: =AI31 -> 0 | CX31: =AJ31 -> 0 | CY31: =(S31+R31)*(BZ31/100) -> 7249.4625 | CZ31: =(S31+R31)*(CA31/100) -> 4349.6775 | DD31: *0 | DE31: *1,1*0,8 | DF31: *1,1*0,8 | DG31: *1,1*0,8 | DI31: *1,1*0,8 | DJ31: *1,1*0,8 | DN31: 105 | DO31: 63 | DP31: 1 | DQ31: 1 | DU31: 1013 | DV31: 10 м3 железобетонных и бетонных конструкций колодцев | DW31: 10 м3 железобетонных и бетонных конструкций колодцев | DX31: 1 | EE31: 86330768 | EF31: 30 | EG31: Строительные работы | EH31: 0 | EJ31: 1 | EK31: 140 | EL31: ТСН-2001.3-22. 22-7...22-61 | EM31: ТСН-2001.3-22-1 | EO31: Попр.12.00.01.11.003 Попр.06.00.01.35.001 | EQ31: 0 | ER31: 0 | ES31: 4172.77 | ET31: 1135.97 | EU31: 141.07 | EV31: 1016.24 | EW31: 88.6 | EX31: 0 | EY31: 0 | FQ31: 0 | FR31: 0 | FS31: 0 | FX31: 105 | FY31: 63 | GD31: 1 | GF31: 1693447855 | GG31: 2 | GH31: 0 | GI31: -2 | GJ31: 0 | GK31: 0 | GL31: =ROUND(IF(AND(BH31=3,BI31=3,FS31<>0),P31,0),2) -> 0 | GM31: =ROUND(O31+X31+Y31,2)+GX31 -> 19637.63 | GN31: =IF(OR(BI31=0,BI31=1),GM31-GX31,0) -> 19637.63 | GO31: =IF(BI31=2,GM31-GX31,0) -> 0 | GP31: =IF(BI31=4,GM31-GX31,0) -> 0 | GR31: 0 | GS31: 3 | GT31: 0 | GV31: =(GT31) -> 0 | GW31: 13.35 | GX31: =ROUND(HC31*I31,2) -> 0 | HA31: 0 | HB31: 0 | HC31: =GV31*GW31 -> 0 | HS31: 0 | IK31: 0
A32: 17 | B32: 1 | C32: =ROW(SmtRes!A65) -> 65 | D32: =ROW(EtalonRes!A65) -> 65 | E32: 3 | F32: 3.22-36-1 | G32: Устройство круглых колодцев из сборного железобетона в грунтах сухих | H32: 10 м3 железобетонных и бетонных конструкций колодцев | I32: =ROUND(0.22/10,9) -> 0.022 | J32: 0 | K32: =ROUND(0.22/10,9) -> 0.022 | O32: =ROUND(CP32,2) -> 44.46 | P32: =ROUND(CQ32*I32,2) -> 0 | Q32: =ROUND(CR32*I32,2) -> 23.47 | R32: =ROUND(CS32*I32,2) -> 2.91 | S32: =ROUND(CT32*I32,2) -> 20.99 | T32: =ROUND(CU32*I32,2) -> 0 | U32: =CV32*I32 -> 1.8302208 | V32: =CW32*I32 -> 0 | W32: =ROUND(CX32*I32,2) -> 0 | X32: =ROUND(CY32,2) -> 25.1 | Y32: =ROUND(CZ32,2) -> 15.06 | AA32: 86497921 | AB32: =(AC32+AD32+AF32) -> 1893.9448 | AC32: =((ES32*0)) -> 0 | AD32: =((ET32*1.1*0.8)) -> 999.6536 | AE32: =((EU32*1.1*0.8)) -> 124.1416 | AF32: =((EV32*1.1*0.8)) -> 894.2912 | AG32: =(AP32) -> 0 | AH32: =((EW32*1.1*0.8)) -> 77.968 | AI32: =((EX32*1.1*0.8)) -> 0 | AJ32: =(AS32) -> 0 | AK32: 0 | AL32: 4172.77 | AM32: 1135.97 | AN32: 141.07 | AO32: 1016.24 | AP32: 0 | AQ32: 88.6 | AR32: 0 | AS32: 0 | AT32: 105 | AU32: 63 | AV32: 1.067 | AW32: 1.003 | AZ32: 1 | BA32: 1 | BB32: 1 | BC32: 1 | BH32: 0 | BI32: 1 | BJ32: 3.22-36-1 | BM32: 140 | BN32: 0 | BO32: 3.22-36-1 | BP32: 1 | BQ32: 30 | BR32: 0 | BS32: 1 | BT32: 1 | BU32: 1 | BV32: 1 | BW32: 1 | BX32: 1 | BZ32: 105 | CA32: 63 | CE32: 0 | CF32: 0 | CG32: 0 | CM32: 0 | CN32: Поправка:стеснённые условия, пп. "в" Поправка:При демонтаже сборных железобетонных и бетонных конструкций | CO32: 0 | CP32: =(P32+Q32+S32) -> 44.46 | CQ32: =(AC32*BC32*AW32) -> 0 | CR32: =(((ET32*1.1*0.8))*BB32*AV32) -> 1066.6304 | CS32: =(AE32*BS32*AV32) -> 132.45909 | CT32: =(AF32*BA32*AV32) -> 954.20871 | CU32: =AG32 -> 0 | CV32: =(AH32*AV32) -> 83.191856 | CW32: =AI32 -> 0 | CX32: =AJ32 -> 0 | CY32: =(((S32+R32)*BZ32)/100) -> 25.095 | CZ32: =(((S32+R32)*CA32)/100) -> 15.057 | DD32: *0 | DE32: *1,1*0,8 | DF32: *1,1*0,8 | DG32: *1,1*0,8 | DI32: *1,1*0,8 | DJ32: *1,1*0,8 | DN32: 0 | DO32: 0 | DP32: 1 | DQ32: 1 | DU32: 1013 | DV32: 10 м3 железобетонных и бетонных конструкций колодцев | DW32: 10 м3 железобетонных и бетонных конструкций колодцев | DX32: 1 | EE32: 86330768 | EF32: 30 | EG32: Строительные работы | EH32: 0 | EJ32: 1 | EK32: 140 | EL32: ТСН-2001.3-22. 22-7...22-61 | EM32: ТСН-2001.3-22-1 | EO32: Попр.12.00.01.11.003 Попр.06.00.01.35.001 | EQ32: 0 | ER32: 0 | ES32: 4172.77 | ET32: 1135.97 | EU32: 141.07 | EV32: 1016.24 | EW32: 88.6 | EX32: 0 | EY32: 0 | FQ32: 0 | FR32: 0 | FS32: 0 | FX32: 105 | FY32: 63 | GD32: 1 | GF32: 2028648746 | GG32: 2 | GH32: 0 | GI32: -2 | GJ32: 0 | GK32: 0 | GL32: =ROUND(IF(AND(BH32=3,BI32=3,FS32<>0),P32,0),2) -> 0 | GM32: =ROUND(O32+X32+Y32,2)+GX32 -> 84.62 | GN32: =IF(OR(BI32=0,BI32=1),GM32-GX32,0) -> 84.62 | GO32: =IF(BI32=2,GM32-GX32,0) -> 0 | GP32: =IF(BI32=4,GM32-GX32,0) -> 0 | GR32: 0 | GS32: 3 | GT32: 0 | GV32: =(GT32) -> 0 | GW32: 1 | GX32: =ROUND(HC32*I32,2) -> 0 | HA32: 0 | HB32: 0 | HC32: =GV32*GW32 -> 0 | HS32: 0 | IK32: 0
A33: 17 | B33: 1 | C33: =ROW(SmtRes!A78) -> 78 | D33: =ROW(EtalonRes!A78) -> 78 | E33: 3 | F33: 3.22-36-1 | G33: Устройство круглых колодцев из сборного железобетона в грунтах сухих | H33: 10 м3 железобетонных и бетонных конструкций колодцев | I33: =ROUND(0.22/10,9) -> 0.022 | J33: 0 | K33: =ROUND(0.22/10,9) -> 0.022 | O33: =ROUND(CP33,2) -> 1607.7 | P33: =ROUND(CQ33*I33,2) -> 0 | Q33: =ROUND(CR33*I33,2) -> 395.17 | R33: =ROUND(CS33*I33,2) -> 168.32 | S33: =ROUND(CT33*I33,2) -> 1212.53 | T33: =ROUND(CU33*I33,2) -> 0 | U33: =CV33*I33 -> 1.8302208 | V33: =CW33*I33 -> 0 | W33: =ROUND(CX33*I33,2) -> 0 | X33: =ROUND(CY33,2) -> 1449.89 | Y33: =ROUND(CZ33,2) -> 869.94 | AA33: 86497922 | AB33: =(AC33+AD33+AF33) -> 1893.9448 | AC33: =((ES33*0)) -> 0 | AD33: =((ET33*1.1*0.8)) -> 999.6536 | AE33: =((EU33*1.1*0.8)) -> 124.1416 | AF33: =((EV33*1.1*0.8)) -> 894.2912 | AG33: =(AP33) -> 0 | AH33: =((EW33*1.1*0.8)) -> 77.968 | AI33: =((EX33*1.1*0.8)) -> 0 | AJ33: =(AS33) -> 0 | AK33: 0 | AL33: 4172.77 | AM33: 1135.97 | AN33: 141.07 | AO33: 1016.24 | AP33: 0 | AQ33: 88.6 | AR33: 0 | AS33: 0 | AT33: 105 | AU33: 63 | AV33: 1.067 | AW33: 1.003 | AZ33: 1 | BA33: 57.76 | BB33: 16.84 | BC33: 13.35 | BH33: 0 | BI33: 1 | BJ33: 3.22-36-1 | BM33: 140 | BN33: 0 | BO33: 3.22-36-1 | BP33: 1 | BQ33: 30 | BR33: 0 | BS33: 57.76 | BT33: 1 | BU33: 1 | BV33: 1 | BW33: 1 | BX33: 1 | BZ33: 105 | CA33: 63 | CE33: 0 | CF33: 0 | CG33: 0 | CM33: 0 | CN33: Поправка:стеснённые условия, пп. "в" Поправка:При демонтаже сборных железобетонных и бетонных конструкций | CO33: 0 | CP33: =(P33+Q33+S33) -> 1607.7 | CQ33: =(AC33*BC33*AW33) -> 0 | CR33: =(((ET33*1.1*0.8))*BB33*AV33) -> 17962.056 | CS33: =(AE33*BS33*AV33) -> 7650.8369 | CT33: =(AF33*BA33*AV33) -> 55115.095 | CU33: =AG33 -> 0 | CV33: =(AH33*AV33) -> 83.191856 | CW33: =AI33 -> 0 | CX33: =AJ33 -> 0 | CY33: =(S33+R33)*(BZ33/100) -> 1449.8925 | CZ33: =(S33+R33)*(CA33/100) -> 869.9355 | DD33: *0 | DE33: *1,1*0,8 | DF33: *1,1*0,8 | DG33: *1,1*0,8 | DI33: *1,1*0,8 | DJ33: *1,1*0,8 | DN33: 105 | DO33: 63 | DP33: 1 | DQ33: 1 | DU33: 1013 | DV33: 10 м3 железобетонных и бетонных конструкций колодцев | DW33: 10 м3 железобетонных и бетонных конструкций колодцев | DX33: 1 | EE33: 86330768 | EF33: 30 | EG33: Строительные работы | EH33: 0 | EJ33: 1 | EK33: 140 | EL33: ТСН-2001.3-22. 22-7...22-61 | EM33: ТСН-2001.3-22-1 | EO33: Попр.12.00.01.11.003 Попр.06.00.01.35.001 | EQ33: 0 | ER33: 0 | ES33: 4172.77 | ET33: 1135.97 | EU33: 141.07 | EV33: 1016.24 | EW33: 88.6 | EX33: 0 | EY33: 0 | FQ33: 0 | FR33: 0 | FS33: 0 | FX33: 105 | FY33: 63 | GD33: 1 | GF33: 2028648746 | GG33: 2 | GH33: 0 | GI33: -2 | GJ33: 0 | GK33: 0 | GL33: =ROUND(IF(AND(BH33=3,BI33=3,FS33<>0),P33,0),2) -> 0 | GM33: =ROUND(O33+X33+Y33,2)+GX33 -> 3927.53 | GN33: =IF(OR(BI33=0,BI33=1),GM33-GX33,0) -> 3927.53 | GO33: =IF(BI33=2,GM33-GX33,0) -> 0 | GP33: =IF(BI33=4,GM33-GX33,0) -> 0 | GR33: 0 | GS33: 3 | GT33: 0 | GV33: =(GT33) -> 0 | GW33: 13.35 | GX33: =ROUND(HC33*I33,2) -> 0 | HA33: 0 | HB33: 0 | HC33: =GV33*GW33 -> 0 | HS33: 0 | IK33: 0
A35: 51 | B35: =B24 -> 1 | C35: =A24 -> 4 | D35: =ROW(A24) -> 24 | F35: =IF(F24<>"",F24,"") -> 1 | G35: =IF(G24<>"",G24,"") -> Демонтаж колодцев КУ и Гл.А.З (сборный железобетон) | H35: 0 | O35: =ROUND(AB35,2) -> 569.87 | P35: =ROUND(AC35,2) -> 0 | Q35: =ROUND(AD35,2) -> 300.79 | R35: =ROUND(AE35,2) -> 37.35 | S35: =ROUND(AF35,2) -> 269.08 | T35: =ROUND(AG35,2) -> 0 | U35: =AH35 -> 23.460103 | V35: =AI35 -> 0 | W35: =ROUND(AJ35,2) -> 0 | X35: =ROUND(AK35,2) -> 321.76 | Y35: =ROUND(AL35,2) -> 193.05 | AB35: =ROUND(SUMIF(AA28:AA33,"=86497921",O28:O33),2) -> 569.87 | AC35: =ROUND(SUMIF(AA28:AA33,"=86497921",P28:P33),2) -> 0 | AD35: =ROUND(SUMIF(AA28:AA33,"=86497921",Q28:Q33),2) -> 300.79 | AE35: =ROUND(SUMIF(AA28:AA33,"=86497921",R28:R33),2) -> 37.35 | AF35: =ROUND(SUMIF(AA28:AA33,"=86497921",S28:S33),2) -> 269.08 | AG35: =ROUND(SUMIF(AA28:AA33,"=86497921",T28:T33),2) -> 0 | AH35: =SUMIF(AA28:AA33,"=86497921",U28:U33) -> 23.460103 | AI35: =SUMIF(AA28:AA33,"=86497921",V28:V33) -> 0 | AJ35: =ROUND(SUMIF(AA28:AA33,"=86497921",W28:W33),2) -> 0 | AK35: =ROUND(SUMIF(AA28:AA33,"=86497921",X28:X33),2) -> 321.76 | AL35: =ROUND(SUMIF(AA28:AA33,"=86497921",Y28:Y33),2) -> 193.05 | AO35: =ROUND(BX35,2) -> 0 | AP35: =ROUND(BY35,2) -> 0 | AQ35: =ROUND(BZ35,2) -> 0 | AR35: =ROUND(CA35,2) -> 1084.68 | AS35: =ROUND(CB35,2) -> 1084.68 | AT35: =ROUND(CC35,2) -> 0 | AU35: =ROUND(CD35,2) -> 0 | AV35: =ROUND(CE35,2) -> 0 | ... BD35: =ROUND(CM35,2) -> 0 | BX35: =ROUND(SUMIF(AA28:AA33,"=86497921",FQ28:FQ33),2) -> 0 | BY35: =ROUND(SUMIF(AA28:AA33,"=86497921",FR28:FR33),2) -> 0 | BZ35: =ROUND(SUMIF(AA28:AA33,"=86497921",GL28:GL33),2) -> 0 | CA35: =ROUND(SUMIF(AA28:AA33,"=86497921",GM28:GM33),2) -> 1084.68 | CB35: =ROUND(SUMIF(AA28:AA33,"=86497921",GN28:GN33),2) -> 1084.68 | CC35: =ROUND(SUMIF(AA28:AA33,"=86497921",GO28:GO33),2) -> 0 | CD35: =ROUND(SUMIF(AA28:AA33,"=86497921",GP28:GP33),2) -> 0 | CE35: =AC35-BX35 -> 0 | CF35: =AC35-BY35 -> 0 | CG35: =BX35-BZ35 -> 0 | CH35: =AC35-BX35-BY35+BZ35 -> 0 | CI35: =BY35-BZ35 -> 0 | CJ35: =ROUND(SUMIF(AA28:AA33,"=86497921",GX28:GX33),2) -> 0 | CK35: =ROUND(SUMIF(AA28:AA33,"=86497921",GY28:GY33),2) -> 0 | CL35: =ROUND(SUMIF(AA28:AA33,"=86497921",GZ28:GZ33),2) -> 0 | CM35: =ROUND(SUMIF(AA28:AA33,"=86497921",HD28:HD33),2) -> 0 | DG35: =ROUND(DT35,2) -> 20607.76 | DH35: =ROUND(DU35,2) -> 0 | DI35: =ROUND(DV35,2) -> 5065.31 | DJ35: =ROUND(DW35,2) -> 2157.54 | DK35: =ROUND(DX35,2) -> 15542.45 | DL35: =ROUND(DY35,2) -> 0 | DM35: =DZ35 -> 23.460103 | DN35: =EA35 -> 0 | DO35: =ROUND(EB35,2) -> 0 | DP35: =ROUND(EC35,2) -> 18584.98 | DQ35: =ROUND(ED35,2) -> 11151 | DT35: =ROUND(SUMIF(AA28:AA33,"=86497922",O28:O33),2) -> 20607.76 | DU35: =ROUND(SUMIF(AA28:AA33,"=86497922",P28:P33),2) -> 0 | DV35: =ROUND(SUMIF(AA28:AA33,"=86497922",Q28:Q33),2) -> 5065.31 | DW35: =ROUND(SUMIF(AA28:AA33,"=86497922",R28:R33),2) -> 2157.54 | DX35: =ROUND(SUMIF(AA28:AA33,"=86497922",S28:S33),2) -> 15542.45 | DY35: =ROUND(SUMIF(AA28:AA33,"=86497922",T28:T33),2) -> 0 | DZ35: =SUMIF(AA28:AA33,"=86497922",U28:U33) -> 23.460103 | EA35: =SUMIF(AA28:AA33,"=86497922",V28:V33) -> 0 | EB35: =ROUND(SUMIF(AA28:AA33,"=86497922",W28:W33),2) -> 0 | EC35: =ROUND(SUMIF(AA28:AA33,"=86497922",X28:X33),2) -> 18584.98 | ED35: =ROUND(SUMIF(AA28:AA33,"=86497922",Y28:Y33),2) -> 11151 | EG35: =ROUND(FP35,2) -> 0 | EH35: =ROUND(FQ35,2) -> 0 | EI35: =ROUND(FR35,2) -> 0 | EJ35: =ROUND(FS35,2) -> 50343.74 | EK35: =ROUND(FT35,2) -> 50343.74 | EL35: =ROUND(FU35,2) -> 0 | EM35: =ROUND(FV35,2) -> 0 | EN35: =ROUND(FW35,2) -> 0 | ... EV35: =ROUND(GE35,2) -> 0 | FP35: =ROUND(SUMIF(AA28:AA33,"=86497922",FQ28:FQ33),2) -> 0 | FQ35: =ROUND(SUMIF(AA28:AA33,"=86497922",FR28:FR33),2) -> 0 | FR35: =ROUND(SUMIF(AA28:AA33,"=86497922",GL28:GL33),2) -> 0 | FS35: =ROUND(SUMIF(AA28:AA33,"=86497922",GM28:GM33),2) -> 50343.74 | FT35: =ROUND(SUMIF(AA28:AA33,"=86497922",GN28:GN33),2) -> 50343.74 | FU35: =ROUND(SUMIF(AA28:AA33,"=86497922",GO28:GO33),2) -> 0 | FV35: =ROUND(SUMIF(AA28:AA33,"=86497922",GP28:GP33),2) -> 0 | FW35: =DU35-FP35 -> 0 | FX35: =DU35-FQ35 -> 0 | FY35: =FP35-FR35 -> 0 | FZ35: =DU35-FP35-FQ35+FR35 -> 0 | GA35: =FQ35-FR35 -> 0 | GB35: =ROUND(SUMIF(AA28:AA33,"=86497922",GX28:GX33),2) -> 0 | GC35: =ROUND(SUMIF(AA28:AA33,"=86497922",GY28:GY33),2) -> 0 | GD35: =ROUND(SUMIF(AA28:AA33,"=86497922",GZ28:GZ33),2) -> 0 | GE35: =ROUND(SUMIF(AA28:AA33,"=86497922",HD28:HD33),2) -> 0 | GX35: 0
A37: 50 | B37: 0 | C37: 0 | D37: 1 | E37: 201 | F37: =ROUND(Source!O35,O37) -> 569.87 | G37: ПЗ | H37: Прямые затраты | K37: 201 | L37: 1 | M37: 3 | O37: 2 | P37: =ROUND(Source!DG35,O37) -> 20607.76 | W37: 569.87 | X37: 1 | Y37: 569.87 | Z37: 20607.76 | AA37: 1 | AB37: 20607.76
A38: 50 | B38: 0 | C38: 0 | D38: 1 | E38: 202 | F38: =ROUND(Source!P35,O38) -> 0 | G38: СтМатОб | H38: Стоимость материальных ресурсов (всего) | K38: 202 | L38: 2 | M38: 3 | O38: 2 | P38: =ROUND(Source!DH35,O38) -> 0 | W38: 0 | X38: 1 | Y38: 0 | Z38: 0 | AA38: 1 | AB38: 0
A39: 50 | B39: 0 | C39: 0 | D39: 1 | E39: 222 | F39: =ROUND(Source!AO35,O39) -> 0 | G39: СтМатОбЗак | H39: Стоимость материалов и оборудования заказчика | K39: 222 | L39: 3 | M39: 3 | O39: 2 | P39: =ROUND(Source!EG35,O39) -> 0 | W39: 0 | X39: 1 | Y39: 0 | Z39: 0 | AA39: 1 | AB39: 0
A40: 50 | B40: 0 | C40: 0 | D40: 1 | E40: 225 | F40: =ROUND(Source!AV35,O40) -> 0 | G40: СтМатОбПод | H40: Стоимость материалов и оборудования подрядчика | K40: 225 | L40: 4 | M40: 3 | O40: 2 | P40: =ROUND(Source!EN35,O40) -> 0 | W40: 0 | X40: 1 | Y40: 0 | Z40: 0 | AA40: 1 | AB40: 0
A41: 50 | B41: 0 | C41: 0 | D41: 1 | E41: 226 | F41: =ROUND(Source!AW35,O41) -> 0 | G41: СтМат | H41: Стоимость материалов (всего) | K41: 226 | L41: 5 | M41: 3 | O41: 2 | P41: =ROUND(Source!EO35,O41) -> 0 | W41: 0 | X41: 1 | Y41: 0 | Z41: 0 | AA41: 1 | AB41: 0
A42: 50 | B42: 0 | C42: 0 | D42: 1 | E42: 227 | F42: =ROUND(Source!AX35,O42) -> 0 | G42: СтМатЗак | H42: Стоимость материалов заказчика | K42: 227 | L42: 6 | M42: 3 | O42: 2 | P42: =ROUND(Source!EP35,O42) -> 0 | W42: 0 | X42: 1 | Y42: 0 | Z42: 0 | AA42: 1 | AB42: 0
A43: 50 | B43: 0 | C43: 0 | D43: 1 | E43: 228 | F43: =ROUND(Source!AY35,O43) -> 0 | G43: СтМатПод | H43: Стоимость материалов подрядчика | K43: 228 | L43: 7 | M43: 3 | O43: 2 | P43: =ROUND(Source!EQ35,O43) -> 0 | W43: 0 | X43: 1 | Y43: 0 | Z43: 0 | AA43: 1 | AB43: 0
A44: 50 | B44: 0 | C44: 0 | D44: 1 | E44: 216 | F44: =ROUND(Source!AP35,O44) -> 0 | G44: Оборуд | H44: Стоимость оборудования (всего) | K44: 216 | L44: 8 | M44: 3 | O44: 2 | P44: =ROUND(Source!EH35,O44) -> 0 | W44: 0 | X44: 1 | Y44: 0 | Z44: 0 | AA44: 1 | AB44: 0
A45: 50 | B45: 0 | C45: 0 | D45: 1 | E45: 223 | F45: =ROUND(Source!AQ35,O45) -> 0 | G45: ОборудЗак | H45: Стоимость оборудования заказчика | K45: 223 | L45: 9 | M45: 3 | O45: 2 | P45: =ROUND(Source!EI35,O45) -> 0 | W45: 0 | X45: 1 | Y45: 0 | Z45: 0 | AA45: 1 | AB45: 0
A46: 50 | B46: 0 | C46: 0 | D46: 1 | E46: 229 | F46: =ROUND(Source!AZ35,O46) -> 0 | G46: ОборудПод | H46: Стоимость оборудования подрядчика | K46: 229 | L46: 10 | M46: 3 | O46: 2 | P46: =ROUND(Source!ER35,O46) -> 0 | W46: 0 | X46: 1 | Y46: 0 | Z46: 0 | AA46: 1 | AB46: 0
A47: 50 | B47: 0 | C47: 0 | D47: 1 | E47: 203 | F47: =ROUND(Source!Q35,O47) -> 300.79 | G47: ЭММ | H47: Эксплуатация машин | K47: 203 | L47: 11 | M47: 3 | O47: 2 | P47: =ROUND(Source!DI35,O47) -> 5065.31 | W47: 300.79 | X47: 1 | Y47: 300.79 | Z47: 5065.31 | AA47: 1 | AB47: 5065.31
A48: 50 | B48: 0 | C48: 0 | D48: 1 | E48: 231 | F48: =ROUND(Source!BB35,O48) -> 0 | G48: ЭММсНРиСП | H48: Эксплуатация машин по ТСН-2001.16 | K48: 231 | L48: 12 | M48: 3 | O48: 2 | P48: =ROUND(Source!ET35,O48) -> 0 | W48: 0 | X48: 1 | Y48: 0 | Z48: 0 | AA48: 1 | AB48: 0
A49: 50 | B49: 0 | C49: 0 | D49: 1 | E49: 204 | F49: =ROUND(Source!R35,O49) -> 37.35 | G49: ЗПМ | H49: ЗП машинистов | K49: 204 | L49: 13 | M49: 3 | O49: 2 | P49: =ROUND(Source!DJ35,O49) -> 2157.54 | W49: 37.35 | X49: 1 | Y49: 37.35 | Z49: 2157.54 | AA49: 1 | AB49: 2157.54
A50: 50 | B50: 0 | C50: 0 | D50: 1 | E50: 205 | F50: =ROUND(Source!S35,O50) -> 269.08 | G50: ОЗП | H50: Основная ЗП рабочих | K50: 205 | L50: 14 | M50: 3 | O50: 2 | P50: =ROUND(Source!DK35,O50) -> 15542.45 | W50: 269.08 | X50: 1 | Y50: 269.08 | Z50: 15542.45 | AA50: 1 | AB50: 15542.45
A51: 50 | B51: 0 | C51: 0 | D51: 1 | E51: 232 | F51: =ROUND(Source!BC35,O51) -> 0 | G51: ОЗПсНРиСП | H51: Основная ЗП рабочих по ТСН-2001.16 | K51: 232 | L51: 15 | M51: 3 | O51: 2 | P51: =ROUND(Source!EU35,O51) -> 0 | W51: 0 | X51: 1 | Y51: 0 | Z51: 0 | AA51: 1 | AB51: 0
A52: 50 | B52: 0 | C52: 0 | D52: 1 | E52: 214 | F52: =ROUND(Source!AS35,O52) -> 1084.68 | G52: Строит | H52: Строительные работы с НР и СП | K52: 214 | L52: 16 | M52: 3 | O52: 2 | P52: =ROUND(Source!EK35,O52) -> 50343.74 | W52: 1084.68 | X52: 1 | Y52: 1084.68 | Z52: 50343.74 | AA52: 1 | AB52: 50343.74
A53: 50 | B53: 0 | C53: 0 | D53: 1 | E53: 215 | F53: =ROUND(Source!AT35,O53) -> 0 | G53: Монтаж | H53: Монтажные работы с НР и СП | K53: 215 | L53: 17 | M53: 3 | O53: 2 | P53: =ROUND(Source!EL35,O53) -> 0 | W53: 0 | X53: 1 | Y53: 0 | Z53: 0 | AA53: 1 | AB53: 0
A54: 50 | B54: 0 | C54: 0 | D54: 1 | E54: 217 | F54: =ROUND(Source!AU35,O54) -> 0 | G54: Прочие | H54: Прочие работы с НР и СП | K54: 217 | L54: 18 | M54: 3 | O54: 2 | P54: =ROUND(Source!EM35,O54) -> 0 | W54: 0 | X54: 1 | Y54: 0 | Z54: 0 | AA54: 1 | AB54: 0
A55: 50 | B55: 0 | C55: 0 | D55: 1 | E55: 230 | F55: =ROUND(Source!BA35,O55) -> 0 | G55: ПрочиеЗатр | H55: Прочие затраты по ТСН-2001.16 | K55: 230 | L55: 19 | M55: 3 | O55: 2 | P55: =ROUND(Source!ES35,O55) -> 0 | W55: 0 | X55: 1 | Y55: 0 | Z55: 0 | AA55: 1 | AB55: 0
A56: 50 | B56: 0 | C56: 0 | D56: 1 | E56: 206 | F56: =ROUND(Source!T35,O56) -> 0 | G56: ВозврМат | H56: Возврат материалов | K56: 206 | L56: 20 | M56: 3 | O56: 2 | P56: =ROUND(Source!DL35,O56) -> 0 | W56: 0 | X56: 1 | Y56: 0 | Z56: 0 | AA56: 1 | AB56: 0
A57: 50 | B57: 0 | C57: 0 | D57: 1 | E57: 207 | F57: =Source!U35 -> 23.460103 | G57: ТрудСтр | H57: Трудозатраты строителей | K57: 207 | L57: 21 | M57: 3 | O57: -1 | P57: =Source!DM35 -> 23.460103 | W57: 23.460103 | X57: 1 | Y57: 23.460103 | Z57: 23.460103 | AA57: 1 | AB57: 23.460103
A58: 50 | B58: 0 | C58: 0 | D58: 1 | E58: 208 | F58: =Source!V35 -> 0 | G58: ТрудМаш | H58: Трудозатраты машинистов | K58: 208 | L58: 22 | M58: 3 | O58: -1 | P58: =Source!DN35 -> 0 | W58: 0 | X58: 1 | Y58: 0 | Z58: 0 | AA58: 1 | AB58: 0
A59: 50 | B59: 0 | C59: 0 | D59: 1 | E59: 209 | F59: =ROUND(Source!W35,O59) -> 0 | G59: ТранспМат | H59: Транспорт материалов | K59: 209 | L59: 23 | M59: 3 | O59: 2 | P59: =ROUND(Source!DO35,O59) -> 0 | W59: 0 | X59: 1 | Y59: 0 | Z59: 0 | AA59: 1 | AB59: 0
A60: 50 | B60: 0 | C60: 0 | D60: 1 | E60: 233 | F60: =ROUND(Source!BD35,O60) -> 0 | G60: Перевозка | H60: Перевозка грузов | K60: 233 | L60: 24 | M60: 3 | O60: 2 | P60: =ROUND(Source!EV35,O60) -> 0 | W60: 0 | X60: 1 | Y60: 0 | Z60: 0 | AA60: 1 | AB60: 0
...

Sheet SourceObSm
A1: 0 | B1: Smeta.RU (495) 974-1589 | D1: _OBSM_ | F1: 0 | G1: 0 | H1: 0 | I1: Smeta.RU | K1: 1 | L1: 76812 | M1: 10 | N1: 12 | O1: 2 | P1: 0 | Q1: 1
A4: 8 | B4: 1 | C4: -1 | F4: 25МГ-ДПР-2750 | G4: 25МГ-ДПР-2750 — Реконструкция газопровода низкого давления | EC4: 0
A12: 1 | B12: 51 | C12: 0 | E12: 0 | F12: ЛС-02-01-02 | G12: Электрохимическая защита | I12: 0 | J12: Технический отчёт АЗ (ТКР.ТО), выписка "ЭХЗ для смет" (16.09), "Объемы ОПС" | K12: 0 | L12: 0 | M12: 2 | O12: 2026 | P12: 7 | Q12: 0 | R12: 0 | S12: 0 | T12: 1 | U12: Основание:Технический отчёт АЗ (ТКР.ТО), выписка "ЭХЗ для смет" (16.09), "Объемы ОПС" Уровень цен:3 кв 2026 Нормативные индексы ТСН:№ 221 III квартал 2026 Регион:ТСН-2001 г. Москвы (с доп.1-82) | V12: 2 | BB12: 0 | BH12: Сметные нормы списания | BI12: Коды ОКП для ТСН-2001 МГЭ | BJ12: 1 | BK12: 1 | BL12: 0 | BM12: 0 | BN12: 1 | BO12: 0 | BP12: -1 | BQ12: 2 | BR12: 1 | BS12: 0 | BT12: 0 | BU12: 0 | BV12: 0 | BW12: 0 | BX12: 0 | BZ12: Типовой расчет для ТСН-2001 МГЭ, Новая методика с выпуска доп. 43 (Строительство), Доп 64 | CA12: Территориальные сметные нормативы для Москвы ТСН-2001 (МГЭ) | CB12: Территориальные сметные нормативы для Москвы ТСН-2001 (МГЭ) | CC12: Территориальные сметные нормативы для Москвы ТСН-2001 (МГЭ) | CD12: Территориальные сметные нормативы для Москвы ТСН-2001 (МГЭ) | CE12: Поправки для ТСН-2001 от 15.07.2022 г. доп.65 | CF12: 0 | CG12: 0 | CH12: 524296 | CK12: 82 | CQ12: Территориальные сметные нормативы для Москвы (ТСН-2001) | CR12: ТЕР | CS12: 41660 | CT12: 1 | CU12: 72 | CY12: 0 | EC12: 0
A14: 22 | B14: 1 | C14: 0 | D14: 86497921 | E14: 86497922 | F14: 2 | G14: 1
A16: 3 | B16: 1 | C16: ЛС-02-01-02 | D16: Электрохимическая защита | E16: =ROUND((Source!F240)/1000,2) -> 20.13 | F16: =ROUND((Source!F242)/1000,2) -> 0.12 | G16: =ROUND((Source!F233)/1000,2) -> 0 | H16: =ROUND((Source!F243)/1000+(Source!F244)/1000,2) -> 0 | I16: =E16+F16+G16+H16 -> 20.25 | J16: =ROUND((Source!F239+Source!F238)/1000,2) -> 2.92 | K16: 24.83 | L16: 0 | M16: 0 | N16: =I16+L16+M16 -> 20.25 | T16: =ROUND((Source!P240)/1000,2) -> 579.37 | U16: =ROUND((Source!P242)/1000,2) -> 3.39 | V16: =ROUND((Source!P233)/1000,2) -> 0 | W16: =ROUND((Source!P243)/1000+(Source!P244)/1000,2) -> 0 | X16: =T16+U16+V16+W16 -> 582.76 | Y16: =ROUND((Source!P239+Source!P238)/1000,2) -> 168.5 | Z16: 382.55 | AA16: 0 | AB16: 0 | AC16: =X16+AA16+AB16 -> 582.76 | AI16: 2 | AJ16: 0 | AK16: Электрохимическая защита | AN16: 0 | AT16: 15157.06 | AU16: 9673 | AV16: 0 | AW16: 0 | AX16: 0 | AY16: 2839.14 | AZ16: 272.25 | BA16: 2644.92 | BB16: 20127.14 | BC16: 116.12 | BD16: 0 | BE16: 0 | BF16: 247.16528 | BG16: 0 | BH16: 0 | BI16: 3160.14 | BJ16: 1926.06 | BK16: 20243.26 | BR16: 288973.81 | BS16: 93577.15 | BT16: 0 | BU16: 0 | BV16: 0 | BW16: 42625.6 | BX16: 15725.61 | BY16: 152771.06 | BZ16: 579369.31 | CA16: 3385.47 | CB16: 0 | CC16: 0 | CD16: 247.16528 | CE16: 0 | CF16: 0 | CG16: 182530.66 | CH16: 111250.31 | CI16: 582754.78
A18: 51 | E18: 20.13 | F18: 0.12 | G18: 0 | H18: 0 | I18: 20.25 | J18: 2.92 | K18: 24.83 | L18: 0 | M18: 0 | N18: 20.25 | T18: 579.37 | U18: 3.39 | V18: 0 | W18: 0 | X18: 582.76 | Y18: 168.5 | Z18: 382.55 | AA18: 0 | AB18: 0 | AC18: 582.76
A20: 50 | B20: 0 | C20: 0 | D20: 1 | E20: 201 | F20: 15157.06 | G20: ПЗ | H20: Прямые затраты | K20: 201 | L20: 1 | M20: 3 | O20: 2 | P20: 288973.81
A21: 50 | B21: 0 | C21: 0 | D21: 1 | E21: 202 | F21: 9673 | G21: СтМатОб | H21: Стоимость материальных ресурсов (всего) | K21: 202 | L21: 2 | M21: 3 | O21: 2 | P21: 93577.15
A22: 50 | B22: 0 | C22: 0 | D22: 1 | E22: 222 | F22: 0 | G22: СтМатОбЗак | H22: Стоимость материалов и оборудования заказчика | K22: 222 | L22: 3 | M22: 3 | O22: 2 | P22: 0
A23: 50 | B23: 0 | C23: 0 | D23: 1 | E23: 225 | F23: 9673 | G23: СтМатОбПод | H23: Стоимость материалов и оборудования подрядчика | K23: 225 | L23: 4 | M23: 3 | O23: 2 | P23: 93577.15
A24: 50 | B24: 0 | C24: 0 | D24: 1 | E24: 226 | F24: 9673 | G24: СтМат | H24: Стоимость материалов (всего) | K24: 226 | L24: 5 | M24: 3 | O24: 2 | P24: 93577.15
A25: 50 | B25: 0 | C25: 0 | D25: 1 | E25: 227 | F25: 0 | G25: СтМатЗак | H25: Стоимость материалов заказчика | K25: 227 | L25: 6 | M25: 3 | O25: 2 | P25: 0
A26: 50 | B26: 0 | C26: 0 | D26: 1 | E26: 228 | F26: 9673 | G26: СтМатПод | H26: Стоимость материалов подрядчика | K26: 228 | L26: 7 | M26: 3 | O26: 2 | P26: 93577.15
A27: 50 | B27: 0 | C27: 0 | D27: 1 | E27: 216 | F27: 0 | G27: Оборуд | H27: Стоимость оборудования (всего) | K27: 216 | L27: 8 | M27: 3 | O27: 2 | P27: 0
A28: 50 | B28: 0 | C28: 0 | D28: 1 | E28: 223 | F28: 0 | G28: ОборудЗак | H28: Стоимость оборудования заказчика | K28: 223 | L28: 9 | M28: 3 | O28: 2 | P28: 0
A29: 50 | B29: 0 | C29: 0 | D29: 1 | E29: 229 | F29: 0 | G29: ОборудПод | H29: Стоимость оборудования подрядчика | K29: 229 | L29: 10 | M29: 3 | O29: 2 | P29: 0
A30: 50 | B30: 0 | C30: 0 | D30: 1 | E30: 203 | F30: 2839.14 | G30: ЭММ | H30: Эксплуатация машин | K30: 203 | L30: 11 | M30: 3 | O30: 2 | P30: 42625.6
A31: 50 | B31: 0 | C31: 0 | D31: 1 | E31: 231 | F31: 0 | G31: ЭММсНРиСП | H31: Эксплуатация машин по ТСН-2001.16 | K31: 231 | L31: 12 | M31: 3 | O31: 2 | P31: 0
... A46: 50 | B46: 0 | C46: 0 | D46: 1 | E46: 224 | F46: 20243.26 | G46: Всего | H46: Всего с НР и СП | K46: 224 | L46: 27 | M46: 3 | O46: 2 | P46: 582754.78
A48: -1
A51: 75 | B51: Базовые уровень цен | C51: 2000 | D51: 0 | E51: 1 | G51: 0 | H51: 1 | I51: 1 | J51: 3 | K51: 0 | L51: 0 | M51: 0 | N51: 86497921 | O51: 1
A52: 75 | B52: Текущий уровень цен, III квартал 2026, выпуск 221 | C52: 2026 | D52: 0 | E52: 7 | G52: 0 | H52: 2 | I52: 1 | J52: 3 | K52: 0 | L52: 0 | M52: 1 | N52: 86497922 | O52: 2

Sheet SmtRes
A1: =ROW(Source!A28) -> 28 | B1: 86497921 | C1: 86497923 | D1: 0 | E1: 1 | F1: 1 | G1: 30515945 | H1: 1 | I1: 1 | K1: Затраты труда рабочих среднего разряда 1 | L1: 1369 | N1: 1013 | O1: чел.-ч | P1: чел.-ч | Q1: 1 | W1: 0 | X1: -2001970737 | Y1: =(AT1*1.1*0.8) -> 77.968 | AA1: 0 | AB1: 0 | AC1: 0 | AD1: 0 | AE1: 0 | AF1: 0 | AG1: 0 | AH1: 0 | AI1: 1 | AJ1: 1 | AK1: 1 | AL1: 1 | AM1: 0 | AN1: 0 | AO1: 1 | AP1: 0 | AQ1: 0 | AR1: 0 | AT1: 88.6 | AU1: *1,1*0,8 | AV1: 1 | AW1: 2 | AX1: 86497937 | AY1: 1 | AZ1: 6144 | BA1: 1 | BB1: 0 | BC1: 0 | BD1: 0 | BE1: 0 | BF1: 0 | BG1: 0 | BH1: 0 | BI1: 0 | BJ1: 0 | BK1: 0 | BL1: 0 | BM1: 0 | BN1: 0 | BO1: 0 | BP1: 0 | BQ1: 0 | BR1: 0 | BS1: 0 | BT1: 0 | BU1: 0 | BV1: 0 | BW1: 0 | CU1: =ROUND(AT1*Source!I28*AH1*AL1,2) -> 0 | CV1: =ROUND(Y1*Source!I28,9) -> 11.6952 | CW1: 0 | CX1: =ROUND(Y1*Source!I28,9) -> 11.6952 | CY1: =AD1 -> 0 | CZ1: =AH1 -> 0 | DA1: =AL1 -> 1 | DB1: =(ROUND(AT1*CZ1,2)*1.1*0.8) -> 0 | DC1: =(ROUND(AT1*AG1,2)*1.1*0.8) -> 0 | DF1: =ROUND(ROUND(AE1,2)*CX1,2) -> 0 | DG1: =ROUND(ROUND(AF1,2)*CX1,2) -> 0 | DH1: =ROUND(ROUND(AG1,2)*ROUND((AT1*Source!I28*1.1*0.8),9),2) -> 0 | DI1: =ROUND(ROUND(AH1,2)*CX1,2) -> 0 | DJ1: =DI1 -> 0 | DK1: 0 | DM1: 0 | DO1: 0 | DP1: *1,1*0,8
A2: =ROW(Source!A28) -> 28 | B2: 86497921 | C2: 86497923 | D2: 0 | E2: 1 | F2: 1 | G2: 30515945 | H2: 2 | I2: 2.1-17-224 | K2: Виброплиты для уплотнения песка, гравия и бетона, мощность до 1 кВт | L2: 1368 | N2: 1011 | O2: маш.-ч | P2: маш.-ч | Q2: 1 | W2: 0 | X2: 475176377 | Y2: =AT2 -> 0.32 | AA2: 0 | AB2: 0.79 | AC2: 0 | AD2: 0 | AE2: 0 | AF2: 0.74 | AG2: 0 | AH2: 0 | AI2: 1 | AJ2: 1 | AK2: 1 | AL2: 1 | AM2: 0 | AN2: 0 | AO2: 1 | AP2: 0 | AQ2: 0 | AR2: 0 | AT2: 0.32 | AV2: 0 | AW2: 2 | AX2: 86497938 | AY2: 1 | AZ2: 6144 | BA2: 2 | BB2: 0 | BC2: 0 | BD2: 0 | BE2: 0 | BF2: 0 | BG2: 0 | BH2: 0 | BI2: 0 | BJ2: 0 | BK2: 0 | BL2: 0 | BM2: 0 | BN2: 0 | BO2: 0 | BP2: 0 | BQ2: 0 | BR2: 0 | BS2: 0 | BT2: 0 | BU2: 0 | BV2: 0 | BW2: 0 | CV2: 0 | CW2: =ROUND(AT2*Source!I28*DO2,9) -> 0 | CX2: =ROUND(Y2*Source!I28,9) -> 0.048 | CY2: =AB2 -> 0.79 | CZ2: =AF2 -> 0.74 | DA2: =AJ2 -> 1 | DB2: =ROUND(AT2*CZ2,2) -> 0.24 | DC2: =ROUND(AT2*AG2,2) -> 0 | DF2: =ROUND(ROUND(AE2,2)*CX2,2) -> 0 | DG2: =ROUND(ROUND(AF2,2)*CX2,2) -> 0.04 | DH2: =ROUND(ROUND(AG2,2)*ROUND(AT2*Source!I28,9),2) -> 0 | DI2: =ROUND(ROUND(AH2,2)*CX2,2) -> 0 | DJ2: =DG2 -> 0.04 | DK2: 0 | DM2: 0 | DO2: 0
A3: =ROW(Source!A28) -> 28 | B3: 86497921 | C3: 86497923 | D3: 0 | E3: 1 | F3: 1 | G3: 30515945 | H3: 2 | I3: 2.1-18-7 | K3: Автомобили грузовые бортовые, грузоподъемность до 5 т | L3: 1368 | N3: 1011 | O3: маш.-ч | P3: маш.-ч | Q3: 1 | W3: 0 | X3: -36453594 | Y3: =AT3 -> 7.13 | AA3: 0 | AB3: 78.03 | AC3: 11.85 | AD3: 0 | AE3: 0 | AF3: 73.13 | AG3: 11.11 | AH3: 0 | AI3: 1 | AJ3: 1 | AK3: 1 | AL3: 1 | AM3: 0 | AN3: 0 | AO3: 1 | AP3: 0 | AQ3: 0 | AR3: 0 | AT3: 7.13 | AV3: 0 | AW3: 2 | AX3: 86497939 | AY3: 1 | AZ3: 6144 | BA3: 3 | BB3: 0 | BC3: 0 | BD3: 0 | BE3: 0 | BF3: 0 | BG3: 0 | BH3: 0 | BI3: 0 | BJ3: 0 | BK3: 0 | BL3: 0 | BM3: 0 | BN3: 0 | BO3: 0 | BP3: 0 | BQ3: 0 | BR3: 0 | BS3: 0 | BT3: 0 | BU3: 0 | BV3: 0 | BW3: 0 | CV3: 0 | CW3: =ROUND(AT3*Source!I28*DO3,9) -> 0 | CX3: =ROUND(Y3*Source!I28,9) -> 1.0695 | CY3: =AB3 -> 78.03 | CZ3: =AF3 -> 73.13 | DA3: =AJ3 -> 1 | DB3: =ROUND(AT3*CZ3,2) -> 521.42 | DC3: =ROUND(AT3*AG3,2) -> 79.21 | DF3: =ROUND(ROUND(AE3,2)*CX3,2) -> 0 | DG3: =ROUND(ROUND(AF3,2)*CX3,2) -> 78.21 | DH3: =ROUND(ROUND(AG3,2)*ROUND(AT3*Source!I28,9),2) -> 11.88 | DI3: =ROUND(ROUND(AH3,2)*CX3,2) -> 0 | DJ3: =DG3 -> 78.21 | DK3: 0 | DM3: 0 | DO3: 0
A4: =ROW(Source!A28) -> 28 | B4: 86497921 | C4: 86497923 | D4: 0 | E4: 1 | F4: 1 | G4: 30515945 | H4: 2 | I4: 2.1-3-38 | K4: Краны на автомобильном ходу, грузоподъемность до 16 т | L4: 1368 | N4: 1011 | O4: маш.-ч | P4: маш.-ч | Q4: 1 | W4: 0 | X4: 783330151 | Y4: =AT4 -> 2.82 | AA4: 0 | AB4: 168.23 | AC4: 15.9 | AD4: 0 | AE4: 0 | AF4: 157.67 | AG4: 14.9 | AH4: 0 | AI4: 1 | AJ4: 1 | AK4: 1 | AL4: 1 | AM4: 0 | AN4: 0 | AO4: 1 | AP4: 0 | AQ4: 0 | AR4: 0 | AT4: 2.82 | AV4: 0 | AW4: 2 | AX4: 86497940 | AY4: 1 | AZ4: 6144 | BA4: 4 | BB4: 0 | BC4: 0 | BD4: 0 | BE4: 0 | BF4: 0 | BG4: 0 | BH4: 0 | BI4: 0 | BJ4: 0 | BK4: 0 | BL4: 0 | BM4: 0 | BN4: 0 | BO4: 0 | BP4: 0 | BQ4: 0 | BR4: 0 | BS4: 0 | BT4: 0 | BU4: 0 | BV4: 0 | BW4: 0 | CV4: 0 | CW4: =ROUND(AT4*Source!I28*DO4,9) -> 0 | CX4: =ROUND(Y4*Source!I28,9) -> 0.423 | CY4: =AB4 -> 168.23 | CZ4: =AF4 -> 157.67 | DA4: =AJ4 -> 1 | DB4: =ROUND(AT4*CZ4,2) -> 444.63 | DC4: =ROUND(AT4*AG4,2) -> 42.02 | DF4: =ROUND(ROUND(AE4,2)*CX4,2) -> 0 | DG4: =ROUND(ROUND(AF4,2)*CX4,2) -> 66.69 | DH4: =ROUND(ROUND(AG4,2)*ROUND(AT4*Source!I28,9),2) -> 6.3 | DI4: =ROUND(ROUND(AH4,2)*CX4,2) -> 0 | DJ4: =DG4 -> 66.69 | DK4: 0 | DM4: 0 | DO4: 0
A5: =ROW(Source!A28) -> 28 | B5: 86497921 | C5: 86497923 | D5: 0 | E5: 1 | F5: 1 | G5: 30515945 | H5: 2 | I5: 2.1-4-102 | K5: Погрузчики фронтальные одноковшовые, грузоподъемность до 5 т | L5: 1368 | N5: 1011 | O5: маш.-ч | P5: маш.-ч | Q5: 1 | W5: 0 | X5: 1354124625 | Y5: =AT5 -> 0.23 | AA5: 0 | AB5: 154.88 | AC5: 13.66 | AD5: 0 | AE5: 0 | AF5: 145.15 | AG5: 12.8 | AH5: 0 | AI5: 1 | AJ5: 1 | AK5: 1 | AL5: 1 | AM5: 0 | AN5: 0 | AO5: 1 | AP5: 0 | AQ5: 0 | AR5: 0 | AT5: 0.23 | AV5: 0 | AW5: 2 | AX5: 86497941 | AY5: 1 | AZ5: 6144 | BA5: 5 | BB5: 0 | BC5: 0 | BD5: 0 | BE5: 0 | BF5: 0 | BG5: 0 | BH5: 0 | BI5: 0 | BJ5: 0 | BK5: 0 | BL5: 0 | BM5: 0 | BN5: 0 | BO5: 0 | BP5: 0 | BQ5: 0 | BR5: 0 | BS5: 0 | BT5: 0 | BU5: 0 | BV5: 0 | BW5: 0 | CV5: 0 | CW5: =ROUND(AT5*Source!I28*DO5,9) -> 0 | CX5: =ROUND(Y5*Source!I28,9) -> 0.0345 | CY5: =AB5 -> 154.88 | CZ5: =AF5 -> 145.15 | DA5: =AJ5 -> 1 | DB5: =ROUND(AT5*CZ5,2) -> 33.38 | DC5: =ROUND(AT5*AG5,2) -> 2.94 | DF5: =ROUND(ROUND(AE5,2)*CX5,2) -> 0 | DG5: =ROUND(ROUND(AF5,2)*CX5,2) -> 5.01 | DH5: =ROUND(ROUND(AG5,2)*ROUND(AT5*Source!I28,9),2) -> 0.44 | DI5: =ROUND(ROUND(AH5,2)*CX5,2) -> 0 | DJ5: =DG5 -> 5.01 | DK5: 0 | DM5: 0 | DO5: 0
A6: =ROW(Source!A28) -> 28 | B6: 86497921 | C6: 86497923 | D6: 0 | E6: 1 | F6: 1 | G6: 30515945 | H6: 3 | I6: 1.1-1-1534 | K6: Щебень из плотных горных пород, марка 1400, фракция 10-20 мм | L6: 1339 | N6: 1007 | O6: м3 | P6: м3 | Q6: 1 | W6: 0 | X6: -1580317299 | Y6: =AT6 -> 2.26 | AA6: 0 | AB6: 0 | AC6: 0 | AD6: 0 | AE6: 0 | AF6: 0 | AG6: 0 | AH6: 0 | AI6: 1 | AJ6: 1 | AK6: 1 | AL6: 1 | AM6: 0 | AN6: 0 | AO6: 1 | AP6: 0 | AQ6: 0 | AR6: 0 | AT6: 2.26 | AV6: 0 | AW6: 2 | AX6: 86497942 | AY6: 1 | AZ6: 6144 | BA6: 6 | BB6: 0 | BC6: 0 | BD6: 0 | BE6: 0 | BF6: 0 | BG6: 0 | BH6: 0 | BI6: 0 | BJ6: 0 | BK6: 0 | BL6: 0 | BM6: 0 | BN6: 0 | BO6: 0 | BP6: 0 | BQ6: 0 | BR6: 0 | BS6: 0 | BT6: 0 | BU6: 0 | BV6: 0 | BW6: 0 | CV6: 0 | CW6: 0 | CX6: =ROUND(Y6*Source!I28,9) -> 0.339 | CY6: =AA6 -> 0 | CZ6: =AE6 -> 0 | DA6: =AI6 -> 1 | DB6: =ROUND(AT6*CZ6,2) -> 0 | DC6: =ROUND(AT6*AG6,2) -> 0 | DF6: =ROUND(ROUND(AE6,2)*CX6,2) -> 0 | DG6: =ROUND(ROUND(AF6,2)*CX6,2) -> 0 | DH6: =ROUND(ROUND(AG6,2)*ROUND(AT6*Source!I28,9),2) -> 0 | DI6: =ROUND(ROUND(AH6,2)*CX6,2) -> 0 | DJ6: =DF6 -> 0 | DK6: 0 | DM6: 0 | DO6: 0
A7: =ROW(Source!A28) -> 28 | B7: 86497921 | C7: 86497923 | D7: 0 | E7: 1 | F7: 1 | G7: 30515945 | H7: 3 | I7: 1.3-4-5 | K7: Арматурные заготовки (стержни, хомуты и т.п.), не собранные в каркасы или сетки, углеродистая сталь общего назначения и арматурная сталь гладкая, класс А-I, диаметр от 16 до 18 мм | L7: 1348 | N7: 1009 | O7: т | P7: т | Q7: 1000 | W7: 0 | X7: 202703549 | Y7: =AT7 -> 0.64 | AA7: 0 | AB7: 0 | AC7: 0 | AD7: 0 | AE7: 0 | AF7: 0 | AG7: 0 | AH7: 0 | AI7: 1 | AJ7: 1 | AK7: 1 | AL7: 1 | AM7: 0 | AN7: 0 | AO7: 1 | AP7: 0 | AQ7: 0 | AR7: 0 | AT7: 0.64 | AV7: 0 | AW7: 2 | AX7: 86497943 | AY7: 1 | AZ7: 6144 | BA7: 7 | BB7: 0 | BC7: 0 | BD7: 0 | BE7: 0 | BF7: 0 | BG7: 0 | BH7: 0 | BI7: 0 | BJ7: 0 | BK7: 0 | BL7: 0 | BM7: 0 | BN7: 0 | BO7: 0 | BP7: 0 | BQ7: 0 | BR7: 0 | BS7: 0 | BT7: 0 | BU7: 0 | BV7: 0 | BW7: 0 | CV7: 0 | CW7: 0 | CX7: =ROUND(Y7*Source!I28,9) -> 0.096 | CY7: =AA7 -> 0 | CZ7: =AE7 -> 0 | DA7: =AI7 -> 1 | DB7: =ROUND(AT7*CZ7,2) -> 0 | DC7: =ROUND(AT7*AG7,2) -> 0 | DF7: =ROUND(ROUND(AE7,2)*CX7,2) -> 0 | DG7: =ROUND(ROUND(AF7,2)*CX7,2) -> 0 | DH7: =ROUND(ROUND(AG7,2)*ROUND(AT7*Source!I28,9),2) -> 0 | DI7: =ROUND(ROUND(AH7,2)*CX7,2) -> 0 | DJ7: =DF7 -> 0 | DK7: 0 | DM7: 0 | DO7: 0
A8: =ROW(Source!A28) -> 28 | B8: 86497921 | C8: 86497923 | D8: 42194904 | E8: 1 | F8: 1 | G8: 30515945 | H8: 3 | I8: 5285920000 | K8: Лестницы стальные | L8: 1348 | N8: 1009 | O8: т | P8: т | Q8: 1000 | W8: 0 | X8: -664602634 | Y8: =AT8 -> 0 | AA8: 0 | AB8: 0 | AC8: 0 | AD8: 0 | AE8: 0 | AF8: 0 | AG8: 0 | AH8: 0 | AI8: 1 | AJ8: 1 | AK8: 1 | AL8: 1 | AM8: 0 | AN8: 0 | AO8: 0 | AP8: 0 | AQ8: 0 | AR8: 0 | AT8: 0 | AV8: 0 | AW8: 2 | AX8: 86497944 | AY8: 1 | AZ8: 0 | BA8: 8 | BB8: 0 | BC8: 0 | BD8: 0 | BE8: 0 | BF8: 0 | BG8: 0 | BH8: 0 | BI8: 0 | BJ8: 0 | BK8: 0 | BL8: 0 | BM8: 0 | BN8: 0 | BO8: 0 | BP8: 0 | BQ8: 0 | BR8: 0 | BS8: 0 | BT8: 0 | BU8: 0 | BV8: 0 | BW8: 0 | CV8: 0 | CW8: 0 | CX8: =ROUND(Y8*Source!I28,9) -> 0 | CY8: =AA8 -> 0 | CZ8: =AE8 -> 0 | DA8: =AI8 -> 1 | DB8: =ROUND(AT8*CZ8,2) -> 0 | DC8: =ROUND(AT8*AG8,2) -> 0 | DF8: =ROUND(ROUND(AE8,2)*CX8,2) -> 0 | DG8: =ROUND(ROUND(AF8,2)*CX8,2) -> 0 | DH8: =ROUND(ROUND(AG8,2)*ROUND(AT8*Source!I28,9),2) -> 0 | DI8: =ROUND(ROUND(AH8,2)*CX8,2) -> 0 | DJ8: =DF8 -> 0 | DK8: 0 | DM8: 0 | DO8: 0
A9: =ROW(Source!A28) -> 28 | B9: 86497921 | C9: 86497923 | D9: 30531790 | E9: 1 | F9: 1 | G9: 30515945 | H9: 3 | I9: 5296230000 | K9: Люки тяжелые | L9: 1354 | N9: 1010 | O9: шт. | P9: шт. | Q9: 1 | W9: 0 | X9: 2087865785 | Y9: =AT9 -> 0 | AA9: 0 | AB9: 0 | AC9: 0 | AD9: 0 | AE9: 0 | AF9: 0 | AG9: 0 | AH9: 0 | AI9: 1 | AJ9: 1 | AK9: 1 | AL9: 1 | AM9: 0 | AN9: 0 | AO9: 0 | AP9: 0 | AQ9: 0 | AR9: 0 | AT9: 0 | AV9: 0 | AW9: 2 | AX9: 86497945 | AY9: 1 | AZ9: 0 | BA9: 9 | BB9: 0 | BC9: 0 | BD9: 0 | BE9: 0 | BF9: 0 | BG9: 0 | BH9: 0 | BI9: 0 | BJ9: 0 | BK9: 0 | BL9: 0 | BM9: 0 | BN9: 0 | BO9: 0 | BP9: 0 | BQ9: 0 | BR9: 0 | BS9: 0 | BT9: 0 | BU9: 0 | BV9: 0 | BW9: 0 | CV9: 0 | CW9: 0 | CX9: =ROUND(Y9*Source!I28,9) -> 0 | CY9: =AA9 -> 0 | CZ9: =AE9 -> 0 | DA9: =AI9 -> 1 | DB9: =ROUND(AT9*CZ9,2) -> 0 | DC9: =ROUND(AT9*AG9,2) -> 0 | DF9: =ROUND(ROUND(AE9,2)*CX9,2) -> 0 | DG9: =ROUND(ROUND(AF9,2)*CX9,2) -> 0 | DH9: =ROUND(ROUND(AG9,2)*ROUND(AT9*Source!I28,9),2) -> 0 | DI9: =ROUND(ROUND(AH9,2)*CX9,2) -> 0 | DJ9: =DF9 -> 0 | DK9: 0 | DM9: 0 | DO9: 0
A10: =ROW(Source!A28) -> 28 | B10: 86497921 | C10: 86497923 | D10: 30531464 | E10: 1 | F10: 1 | G10: 30515945 | H10: 3 | I10: 5745010000 | K10: Смеси бетонные, БСГ, тяжелого бетона | L10: 1339 | N10: 1007 | O10: м3 | P10: м3 | Q10: 1 | W10: 0 | X10: 1930922274 | Y10: =AT10 -> 1.33 | AA10: 0 | AB10: 0 | AC10: 0 | AD10: 0 | AE10: 0 | AF10: 0 | AG10: 0 | AH10: 0 | AI10: 1 | AJ10: 1 | AK10: 1 | AL10: 1 | AM10: 0 | AN10: 0 | AO10: 0 | AP10: 0 | AQ10: 0 | AR10: 0 | AT10: 1.33 | AV10: 0 | AW10: 2 | AX10: 86497946 | AY10: 1 | AZ10: 6144 | BA10: 10 | BB10: 0 | BC10: 0 | BD10: 0 | BE10: 0 | BF10: 0 | BG10: 0 | BH10: 0 | BI10: 0 | BJ10: 0 | BK10: 0 | BL10: 0 | BM10: 0 | BN10: 0 | BO10: 0 | BP10: 0 | BQ10: 0 | BR10: 0 | BS10: 0 | BT10: 0 | BU10: 0 | BV10: 0 | BW10: 0 | CV10: 0 | CW10: 0 | CX10: =ROUND(Y10*Source!I28,9) -> 0.1995 | CY10: =AA10 -> 0 | CZ10: =AE10 -> 0 | DA10: =AI10 -> 1 | DB10: =ROUND(AT10*CZ10,2) -> 0 | DC10: =ROUND(AT10*AG10,2) -> 0 | DF10: =ROUND(ROUND(AE10,2)*CX10,2) -> 0 | DG10: =ROUND(ROUND(AF10,2)*CX10,2) -> 0 | DH10: =ROUND(ROUND(AG10,2)*ROUND(AT10*Source!I28,9),2) -> 0 | DI10: =ROUND(ROUND(AH10,2)*CX10,2) -> 0 | DJ10: =DF10 -> 0 | DK10: 0 | DM10: 0 | DO10: 0
A11: =ROW(Source!A28) -> 28 | B11: 86497921 | C11: 86497923 | D11: 30531602 | E11: 1 | F11: 1 | G11: 30515945 | H11: 3 | I11: 5858010000 | K11: Кольца для колодцев сборные железобетонные диаметром 1500 мм | L11: 1339 | N11: 1007 | O11: м3 | P11: м3 | Q11: 1 | W11: 0 | X11: -1299012478 | Y11: =AT11 -> 0 | AA11: 0 | AB11: 0 | AC11: 0 | AD11: 0 | AE11: 0 | AF11: 0 | AG11: 0 | AH11: 0 | AI11: 1 | AJ11: 1 | AK11: 1 | AL11: 1 | AM11: 0 | AN11: 0 | AO11: 0 | AP11: 0 | AQ11: 0 | AR11: 0 | AT11: 0 | AV11: 0 | AW11: 2 | AX11: 86497947 | AY11: 1 | AZ11: 0 | BA11: 11 | BB11: 0 | BC11: 0 | BD11: 0 | BE11: 0 | BF11: 0 | BG11: 0 | BH11: 0 | BI11: 0 | BJ11: 0 | BK11: 0 | BL11: 0 | BM11: 0 | BN11: 0 | BO11: 0 | BP11: 0 | BQ11: 0 | BR11: 0 | BS11: 0 | BT11: 0 | BU11: 0 | BV11: 0 | BW11: 0 | CV11: 0 | CW11: 0 | CX11: =ROUND(Y11*Source!I28,9) -> 0 | CY11: =AA11 -> 0 | CZ11: =AE11 -> 0 | DA11: =AI11 -> 1 | DB11: =ROUND(AT11*CZ11,2) -> 0 | DC11: =ROUND(AT11*AG11,2) -> 0 | DF11: =ROUND(ROUND(AE11,2)*CX11,2) -> 0 | DG11: =ROUND(ROUND(AF11,2)*CX11,2) -> 0 | DH11: =ROUND(ROUND(AG11,2)*ROUND(AT11*Source!I28,9),2) -> 0 | DI11: =ROUND(ROUND(AH11,2)*CX11,2) -> 0 | DJ11: =DF11 -> 0 | DK11: 0 | DM11: 0 | DO11: 0
A12: =ROW(Source!A28) -> 28 | B12: 86497921 | C12: 86497923 | D12: 30531602 | E12: 1 | F12: 1 | G12: 30515945 | H12: 3 | I12: 5858010000 | K12: Кольца для колодцев сборные железобетонные диаметром 700 мм | L12: 1339 | N12: 1007 | O12: м3 | P12: м3 | Q12: 1 | W12: 0 | X12: -1506672958 | Y12: =AT12 -> 0 | AA12: 0 | AB12: 0 | AC12: 0 | AD12: 0 | AE12: 0 | AF12: 0 | AG12: 0 | AH12: 0 | AI12: 1 | AJ12: 1 | AK12: 1 | AL12: 1 | AM12: 0 | AN12: 0 | AO12: 0 | AP12: 0 | AQ12: 0 | AR12: 0 | AT12: 0 | AV12: 0 | AW12: 2 | AX12: 86497948 | AY12: 1 | AZ12: 0 | BA12: 12 | BB12: 0 | BC12: 0 | BD12: 0 | BE12: 0 | BF12: 0 | BG12: 0 | BH12: 0 | BI12: 0 | BJ12: 0 | BK12: 0 | BL12: 0 | BM12: 0 | BN12: 0 | BO12: 0 | BP12: 0 | BQ12: 0 | BR12: 0 | BS12: 0 | BT12: 0 | BU12: 0 | BV12: 0 | BW12: 0 | CV12: 0 | CW12: 0 | CX12: =ROUND(Y12*Source!I28,9) -> 0 | CY12: =AA12 -> 0 | CZ12: =AE12 -> 0 | DA12: =AI12 -> 1 | DB12: =ROUND(AT12*CZ12,2) -> 0 | DC12: =ROUND(AT12*AG12,2) -> 0 | DF12: =ROUND(ROUND(AE12,2)*CX12,2) -> 0 | DG12: =ROUND(ROUND(AF12,2)*CX12,2) -> 0 | DH12: =ROUND(ROUND(AG12,2)*ROUND(AT12*Source!I28,9),2) -> 0 | DI12: =ROUND(ROUND(AH12,2)*CX12,2) -> 0 | DJ12: =DF12 -> 0 | DK12: 0 | DM12: 0 | DO12: 0
A13: =ROW(Source!A28) -> 28 | B13: 86497921 | C13: 86497923 | D13: 30531602 | E13: 1 | F13: 1 | G13: 30515945 | H13: 3 | I13: 5858010000 | K13: Плиты покрытий и днищ для колодцев сборные железобетонные круглые | L13: 1339 | N13: 1007 | O13: м3 | P13: м3 | Q13: 1 | W13: 0 | X13: 1455194175 | Y13: =AT13 -> 0 | AA13: 0 | AB13: 0 | AC13: 0 | AD13: 0 | AE13: 0 | AF13: 0 | AG13: 0 | AH13: 0 | AI13: 1 | AJ13: 1 | AK13: 1 | AL13: 1 | AM13: 0 | AN13: 0 | AO13: 0 | AP13: 0 | AQ13: 0 | AR13: 0 | AT13: 0 | AV13: 0 | AW13: 2 | AX13: 86497949 | AY13: 1 | AZ13: 0 | BA13: 13 | BB13: 0 | BC13: 0 | BD13: 0 | BE13: 0 | BF13: 0 | BG13: 0 | BH13: 0 | BI13: 0 | BJ13: 0 | BK13: 0 | BL13: 0 | BM13: 0 | BN13: 0 | BO13: 0 | BP13: 0 | BQ13: 0 | BR13: 0 | BS13: 0 | BT13: 0 | BU13: 0 | BV13: 0 | BW13: 0 | CV13: 0 | CW13: 0 | CX13: =ROUND(Y13*Source!I28,9) -> 0 | CY13: =AA13 -> 0 | CZ13: =AE13 -> 0 | DA13: =AI13 -> 1 | DB13: =ROUND(AT13*CZ13,2) -> 0 | DC13: =ROUND(AT13*AG13,2) -> 0 | DF13: =ROUND(ROUND(AE13,2)*CX13,2) -> 0 | DG13: =ROUND(ROUND(AF13,2)*CX13,2) -> 0 | DH13: =ROUND(ROUND(AG13,2)*ROUND(AT13*Source!I28,9),2) -> 0 | DI13: =ROUND(ROUND(AH13,2)*CX13,2) -> 0 | DJ13: =DF13 -> 0 | DK13: 0 | DM13: 0 | DO13: 0
