Workbook

Sheet СР-08-01
A1: =Source!B1 -> Smeta.RU (495) 974-1589
K2: Форма № 4б
A3: 25МГ-ДПР-2750 — Реконструкция газопровода низкого давления. Средства технического регулирования дорожного движения на период реконструкции | AP3: 25МГ-ДПР-2750 — Реконструкция газопровода низкого давления. Средства технического регулирования дорожного движения на период реконструкции
A4: (наименование стройки и/или объекта)
A6: =CONCATENATE( "ЛОКАЛЬНАЯ СМЕТА № " ,IF(Source!F12<>"Новый объект", Source!F12, "")) -> ЛОКАЛЬНАЯ СМЕТА № СР-08-01
A9: (наименование работ и затрат)
A11: =CONCATENATE( "Основание: чертежи № " , Source!J12) -> Основание: чертежи № 25МГ-ДПР-2750-ПОС2 (редакция 21.09), лист 5, таблица 1
I13: В базисном уровне цен | J13: В текущем уровне цен
E14: Сметная стоимость | I14: =I15+I16+I17+I18 -> 144.92 | J14: =J15+J16+J17+J18 -> 7152.92 | K14: тыс.руб.
E15: Строительные работы | I15: =ROUND((Source!F238)/1000, 2) -> 144.92 | J15: =ROUND((Source!P238)/1000, 2) -> 7152.92 | K15: тыс.руб.
E16: Работы по монтажу оборудования | I16: =ROUND((Source!F239)/1000, 2) -> 0 | J16: =ROUND((Source!P239)/1000, 2) -> 0 | K16: тыс.руб.
E17: Оборудование | I17: =ROUND((Source!F230)/1000, 2) -> 0 | J17: =ROUND((Source!P230)/1000, 2) -> 0 | K17: тыс.руб.
E18: Прочие работы и затраты | I18: =ROUND((Source!F240+Source!F241)/1000, 2) -> 0 | J18: =ROUND((Source!P240+Source!P241)/1000, 2) -> 0 | K18: тыс.руб.
E19: Средства на оплату труда | I19: =(Source!F236+ Source!F235)/1000 -> 39.72691 | J19: =((Source!P236 + Source!P235)/1000) -> 2294.6263 | K19: тыс.руб.
E20: Затраты труда | I20: =Source!F243 -> 3379.0588 | K20: чел.-ч.
E21: Кроме того:
E22: Возврат материалов | I22: =SUM(Y1:Y361)/1000 -> 0 | J22: =SUM(Z1:Z361)/1000 -> 0 | K22: тыс.руб.
A24: Составлен(а) по ТСН-2001 с учетом Дополнения №: 82
A25: № и период сборника коэффициентов (индексов) пересчета: Текущий уровень цен, III квартал 2026, выпуск 221 | AP25: № и период сборника коэффициентов (индексов) пересчета: Текущий уровень цен, III квартал 2026, выпуск 221
A26: № п/п | B26: Шифр расценки и коды ресурсов | C26: Наименование работ и затрат | D26: Ед. изм. | E26: Кол-во единиц | F26: Цена на ед. изм., руб. | G26: Попра- вочные коэффи- циенты | H26: Коэффи- циенты зимних удорожа- ний | I26: Всего в ценах на Январь 2000 года, руб. | J26: Коэффи- циенты (индек- сы) пере- счета, нормы НР и СП | K26: ВСЕГО затрат в текущем уровне цен, руб.
A27: 1 | B27: 2 | C27: 3 | D27: 4 | E27: 5 | F27: 6 | G27: 7 | H27: 8 | I27: 9 | J27: 10 | K27: 11
A29: =CONCATENATE("Локальная смета: ",IF(Source!G20<>"Новая локальная смета", Source!G20, "")) -> Локальная смета: Средства технического регулирования дорожного движения на период реконструкции
A31: =CONCATENATE("Раздел: ",IF(Source!G24<>"Новый раздел", Source!G24, "")) -> Раздел: Временные дорожные знаки: установка
A32: 1 | B32: =Source!F28 -> 3.27-72-1 | C32: Установка дополнительных щитков (применительно) | D32: =Source!H28 -> 100 знаков | E32: =Source!I28 -> 0.92 | Q32: =Source!X28 -> 1194.22 | R32: =Source!X29 -> 68978.22 | S32: =Source!Y28 -> 490.17 | T32: =Source!Y29 -> 28311.95 | U32: =ROUND((175/100)*ROUND(Source!R28, 2), 2) -> 0 | V32: =ROUND((0/100)*ROUND(Source!R29, 2), 2) -> 0 | AC32: 0
C33: ="Объем: "&Source!I28&"=92/"&"100" -> Объем: 0,92=92/100
C34: ЗП | F34: =Source!AO28 -> 841.11 | G34: 1,1 | H34: =Source!AV29 -> 1.047 | I34: =Source!S28 -> 891.21 | J34: =IF(Source!BA29<> 0, Source!BA29, 1) -> 57.76 | K34: =Source!S29 -> 51476.28
C35: НР от ФОТ | D35: % | E35: =Source!DN29 -> 134 | I35: =SUM(Q32:Q34) -> 1194.22 | J35: =Source!BZ29 -> 134 | K35: =SUM(R32:R34) -> 68978.22
C36: СП от ФОТ | D36: % | E36: =Source!DO29 -> 55 | I36: =SUM(S32:S35) -> 490.17 | J36: =Source!CA29 -> 55 | K36: =SUM(T32:T35) -> 28311.95
C37: ЗТР | D37: чел-ч | E37: =Source!AQ28 -> 69 | G37: 1,1 | H37: =Source!AV29 -> 1.047 | I37: =Source!U28 -> 73.109916
C38: ВСЕГО работ по позиции: | H38: =I34+I35+I36+0-0-0 -> 2575.6 | J38: =K34+K35+K36+0-0-0 -> 148766.45
C39: ВСЕГО оборудование по позиции: | H39: =0+0 -> 0 | J39: =0+0 -> 0
C40: ВСЕГО по позиции: | H40: =I34+I35+I36+0 -> 2575.6 | J40: =K34+K35+K36+0 -> 148766.45 | O40: =I34+I35+I36+0 -> 2575.6 | P40: =K34+K35+K36+0 -> 148766.45
A42: 2 | B42: =Source!F30 -> 3.27-72-1 | C42: Установка дополнительных щитков (применительно) | D42: =Source!H30 -> 100 знаков | E42: =Source!I30 -> 0.02 | Q42: =Source!X30 -> 25.96 | R42: =Source!X31 -> 1499.53 | S42: =Source!Y30 -> 10.65 | T42: =Source!Y31 -> 615.48 | U42: =ROUND((175/100)*ROUND(Source!R30, 2), 2) -> 0 | V42: =ROUND((0/100)*ROUND(Source!R31, 2), 2) -> 0 | AC42: 0
C43: ="Объем: "&Source!I30&"=2/"&"100" -> Объем: 0,02=2/100
C44: ЗП | F44: =Source!AO30 -> 841.11 | G44: 1,1 | H44: =Source!AV31 -> 1.047 | I44: =Source!S30 -> 19.37 | J44: =IF(Source!BA31<> 0, Source!BA31, 1) -> 57.76 | K44: =Source!S31 -> 1119.05
C45: НР от ФОТ | D45: % | E45: =Source!DN31 -> 134 | I45: =SUM(Q42:Q44) -> 25.96 | J45: =Source!BZ31 -> 134 | K45: =SUM(R42:R44) -> 1499.53
C46: СП от ФОТ | D46: % | E46: =Source!DO31 -> 55 | I46: =SUM(S42:S45) -> 10.65 | J46: =Source!CA31 -> 55 | K46: =SUM(T42:T45) -> 615.48
C47: ЗТР | D47: чел-ч | E47: =Source!AQ30 -> 69 | G47: 1,1 | H47: =Source!AV31 -> 1.047 | I47: =Source!U30 -> 1.589346
C48: ВСЕГО работ по позиции: | H48: =I44+I45+I46+0-0-0 -> 55.98 | J48: =K44+K45+K46+0-0-0 -> 3234.06
C49: ВСЕГО оборудование по позиции: | H49: =0+0 -> 0 | J49: =0+0 -> 0
...

Sheet Source
A1: 0 | B1: Smeta.RU (495) 974-1589 | D1: _PS_ | F1: 0 | G1: 0 | H1: 0 | I1: Smeta.RU | K1: 1 | L1: 76812 | M1: 10 | N1: 12 | O1: 2 | P1: 0 | Q1: 1
A4: 8 | B4: 1 | C4: -1 | F4: 25МГ-ДПР-2750 | G4: 25МГ-ДПР-2750 — Реконструкция газопровода низкого давления | EC4: 0
A12: 1 | B12: 256 | C12: 0 | D12: =ROW(A221) -> 221 | E12: 0 | F12: СР-08-01 | G12: Средства технического регулирования дорожного движения на период реконструкции | I12: 0 | J12: 25МГ-ДПР-2750-ПОС2 (редакция 21.09), лист 5, таблица 1 | K12: 0 | L12: 0 | M12: 2 | O12: 2026 | P12: 7 | Q12: 0 | R12: 0 | S12: 0 | T12: 1 | U12: Основание:25МГ-ДПР-2750-ПОС2 (редакция 21.09), лист 5, таблица 1 Уровень цен:3 кв 2026 Нормативные индексы ТСН:№ 221 III квартал 2026 Регион:ТСН-2001 г. Москвы (с доп.1-82) | V12: 8 | BB12: 0 | BH12: Сметные нормы списания | BI12: Коды ОКП для ТСН-2001 МГЭ | BJ12: 1 | BK12: 1 | BL12: 0 | BM12: 0 | BN12: 1 | BO12: 0 | BP12: -1 | BQ12: 2 | BR12: 1 | BS12: 0 | BT12: 0 | BU12: 0 | BV12: 0 | BW12: 0 | BX12: 0 | BZ12: Типовой расчет для ТСН-2001 МГЭ, Новая методика с выпуска доп. 43 (Строительство), Доп 64 | CA12: Территориальные сметные нормативы для Москвы ТСН-2001 (МГЭ) | CB12: Территориальные сметные нормативы для Москвы ТСН-2001 (МГЭ) | CC12: Территориальные сметные нормативы для Москвы ТСН-2001 (МГЭ) | CD12: Территориальные сметные нормативы для Москвы ТСН-2001 (МГЭ) | CE12: Поправки для ТСН-2001 от 15.07.2022 г. доп.65 | CF12: 0 | CG12: 0 | CH12: 524296 | CK12: 82 | CQ12: Территориальные сметные нормативы для Москвы (ТСН-2001) | CR12: ТЕР | CS12: 41660 | CT12: 1 | CU12: 72 | CY12: 0 | EC12: 0
A15: 15 | B15: 1
A18: 52 | B18: =B221 -> 256 | C18: =C221 -> 1 | D18: =D221 -> 12 | E18: =E221 -> 0 | F18: =F221 -> СР-08-01 | G18: =G221 -> Средства технического регулирования дорожного движения на период реконструкции | O18: =O221 -> 70137.85 | P18: =P221 -> 24082.97 | Q18: =Q221 -> 7272.62 | R18: =R221 -> 944.65 | S18: =S221 -> 38782.26 | T18: =T221 -> 0 | U18: =U221 -> 3379.0588 | V18: =V221 -> 0 | ... GX18: =GX221 -> 0
A20: 3 | B20: 1 | D20: =ROW(A191) -> 191 | F20: СР-08-01 | G20: Средства технического регулирования дорожного движения на период реконструкции | I20: 0 | K20: 0 | L20: СР-08-01 | S20: 0 | T20: 0 | U20: Средства технического регулирования дорожного движения на период реконструкции | V20: 8 | BX20: 0 | CF20: 0 | CG20: 0
A22: 52 | B22: =B191 -> 1 | C22: =C191 -> 3 | D22: =D191 -> 20 | E22: =E191 -> 0 | F22: =F191 -> СР-08-01 | G22: =G191 -> Средства технического регулирования дорожного движения на период реконструкции | O22: =O191 -> 70137.85 | P22: =P191 -> 24082.97 | Q22: =Q191 -> 7272.62 | R22: =R191 -> 944.65 | S22: =S191 -> 38782.26 | T22: =T191 -> 0 | U22: =U191 -> 3379.0588 | V22: =V191 -> 0 | ... GX22: =GX191 -> 0
A24: 4 | B24: 1 | D24: =ROW(A57) -> 57 | F24: 1 | G24: Временные дорожные знаки: установка | I24: 0 | K24: -1 | S24: 0 | T24: 0 | V24: 8 | BX24: 0 | CJ24: 0
A26: 52 | B26: =B57 -> 1 | C26: =C57 -> 4 | D26: =D57 -> 24 | E26: =E57 -> 0 | F26: =F57 -> 1 | G26: =G57 -> Временные дорожные знаки: установка | O26: =O57 -> 2431.45 | P26: =P57 -> 0 | Q26: =Q57 -> 0 | R26: =R57 -> 0 | S26: =S57 -> 2431.45 | T26: =T57 -> 0 | U26: =U57 -> 199.46292 | V26: =V57 -> 0 | ... GX26: =GX57 -> 0
A28: 17 | B28: 1 | C28: =ROW(SmtRes!A3) -> 3 | D28: =ROW(EtalonRes!A3) -> 3 | E28: 1 | F28: 3.27-72-1 | G28: Установка дополнительных щитков (применительно) | H28: 100 знаков | I28: =ROUND(92/100,9) -> 0.92 | J28: 0 | K28: =ROUND(92/100,9) -> 0.92 | O28: =ROUND(CP28,2) -> 891.21 | P28: =ROUND(CQ28*I28,2) -> 0 | Q28: =ROUND(CR28*I28,2) -> 0 | R28: =ROUND(CS28*I28,2) -> 0 | S28: =ROUND(CT28*I28,2) -> 891.21 | T28: =ROUND(CU28*I28,2) -> 0 | U28: =CV28*I28 -> 73.109916 | V28: =CW28*I28 -> 0 | W28: =ROUND(CX28*I28,2) -> 0 | X28: =ROUND(CY28,2) -> 1194.22 | Y28: =ROUND(CZ28,2) -> 490.17 | AA28: 86511347 | AB28: =(AC28+AD28+AF28) -> 925.221 | AC28: =(ES28) -> 0 | AD28: =((ET28*1.1)) -> 0 | AE28: =((EU28*1.1)) -> 0 | AF28: =((EV28*1.1)) -> 925.221 | AG28: =(AP28) -> 0 | AH28: =((EW28*1.1)) -> 75.9 | AI28: =((EX28*1.1)) -> 0 | AJ28: =(AS28) -> 0 | AK28: 0 | AL28: 0 | AM28: 0 | AN28: 0 | AO28: 841.11 | AP28: 0 | AQ28: 69 | AR28: 0 | AS28: 0 | AT28: 134 | AU28: 55 | AV28: 1.047 | AW28: 1 | AZ28: 1 | BA28: 1 | BB28: 1 | BC28: 1 | BH28: 0 | BI28: 1 | BJ28: 3.27-72-1 Применительно | BM28: 167 | BN28: 0 | BO28: 3.27-72-1 | BP28: 1 | BQ28: 30 | BR28: 0 | BS28: 1 | BT28: 1 | BU28: 1 | BV28: 1 | BW28: 1 | BX28: 1 | BZ28: 134 | CA28: 55 | CE28: 0 | CF28: 0 | CG28: 0 | CM28: 0 | CN28: Поправка:стеснённые условия, пп. "в" | CO28: 0 | CP28: =(P28+Q28+S28) -> 891.21 | CQ28: =(AC28*BC28*AW28) -> 0 | CR28: =(((ET28*1.1))*BB28*AV28) -> 0 | CS28: =(AE28*BS28*AV28) -> 0 | CT28: =(AF28*BA28*AV28) -> 968.70639 | CU28: =AG28 -> 0 | CV28: =(AH28*AV28) -> 79.4673 | CW28: =AI28 -> 0 | CX28: =AJ28 -> 0 | CY28: =(((S28+R28)*BZ28)/100) -> 1194.2214 | CZ28: =(((S28+R28)*CA28)/100) -> 490.1655 | DE28: *1,1 | DF28: *1,1 | DG28: *1,1 | DI28: *1,1 | DJ28: *1,1 | DN28: 0 | DO28: 0 | DP28: 1 | DQ28: 1 | DU28: 1013 | DV28: 100 знаков | DW28: 100 знаков | DX28: 1 | EE28: 86330795 | EF28: 30 | EG28: Строительные работы | EH28: 0 | EJ28: 1 | EK28: 167 | EL28: ТСН-2001.3-27. 27-71, 27-72 | EM28: ТСН-2001.3-27-22 | EO28: Попр.12.00.01.11.003 | EQ28: 0 | ER28: 0 | ES28: 0 | ET28: 0 | EU28: 0 | EV28: 841.11 | EW28: 69 | EX28: 0 | EY28: 0 | FQ28: 0 | FR28: 0 | FS28: 0 | FX28: 134 | FY28: 55 | GD28: 1 | GF28: -1542709812 | GG28: 2 | GH28: 0 | GI28: -2 | GJ28: 0 | GK28: 0 | GL28: =ROUND(IF(AND(BH28=3,BI28=3,FS28<>0),P28,0),2) -> 0 | GM28: =ROUND(O28+X28+Y28,2)+GX28 -> 2575.6 | GN28: =IF(OR(BI28=0,BI28=1),GM28-GX28,0) -> 2575.6 | GO28: =IF(BI28=2,GM28-GX28,0) -> 0 | GP28: =IF(BI28=4,GM28-GX28,0) -> 0 | GR28: 0 | GS28: 3 | GT28: 0 | GV28: =(GT28) -> 0 | GW28: 1 | GX28: =ROUND(HC28*I28,2) -> 0 | HA28: 0 | HB28: 0 | HC28: =GV28*GW28 -> 0 | HS28: 0 | IK28: 0
A29: 17 | B29: 1 | C29: =ROW(SmtRes!A6) -> 6 | D29: =ROW(EtalonRes!A6) -> 6 | E29: 1 | F29: 3.27-72-1 | G29: Установка дополнительных щитков (применительно) | H29: 100 знаков | I29: =ROUND(92/100,9) -> 0.92 | J29: 0 | K29: =ROUND(92/100,9) -> 0.92 | O29: =ROUND(CP29,2) -> 51476.28 | P29: =ROUND(CQ29*I29,2) -> 0 | Q29: =ROUND(CR29*I29,2) -> 0 | R29: =ROUND(CS29*I29,2) -> 0 | S29: =ROUND(CT29*I29,2) -> 51476.28 | T29: =ROUND(CU29*I29,2) -> 0 | U29: =CV29*I29 -> 73.109916 | V29: =CW29*I29 -> 0 | W29: =ROUND(CX29*I29,2) -> 0 | X29: =ROUND(CY29,2) -> 68978.22 | Y29: =ROUND(CZ29,2) -> 28311.95 | AA29: 86511348 | AB29: =(AC29+AD29+AF29) -> 925.221 | AC29: =(ES29) -> 0 | AD29: =((ET29*1.1)) -> 0 | AE29: =((EU29*1.1)) -> 0 | AF29: =((EV29*1.1)) -> 925.221 | AG29: =(AP29) -> 0 | AH29: =((EW29*1.1)) -> 75.9 | AI29: =((EX29*1.1)) -> 0 | AJ29: =(AS29) -> 0 | AK29: 0 | AL29: 0 | AM29: 0 | AN29: 0 | AO29: 841.11 | AP29: 0 | AQ29: 69 | AR29: 0 | AS29: 0 | AT29: 134 | AU29: 55 | AV29: 1.047 | AW29: 1 | AZ29: 1 | BA29: 57.76 | BB29: 1 | BC29: 1.33 | BH29: 0 | BI29: 1 | BJ29: 3.27-72-1 Применительно | BM29: 167 | BN29: 0 | BO29: 3.27-72-1 | BP29: 1 | BQ29: 30 | BR29: 0 | BS29: 57.76 | BT29: 1 | BU29: 1 | BV29: 1 | BW29: 1 | BX29: 1 | BZ29: 134 | CA29: 55 | CE29: 0 | CF29: 0 | CG29: 0 | CM29: 0 | CN29: Поправка:стеснённые условия, пп. "в" | CO29: 0 | CP29: =(P29+Q29+S29) -> 51476.28 | CQ29: =(AC29*BC29*AW29) -> 0 | CR29: =(((ET29*1.1))*BB29*AV29) -> 0 | CS29: =(AE29*BS29*AV29) -> 0 | CT29: =(AF29*BA29*AV29) -> 55952.481 | CU29: =AG29 -> 0 | CV29: =(AH29*AV29) -> 79.4673 | CW29: =AI29 -> 0 | CX29: =AJ29 -> 0 | CY29: =(S29+R29)*(BZ29/100) -> 68978.215 | CZ29: =(S29+R29)*(CA29/100) -> 28311.954 | DE29: *1,1 | DF29: *1,1 | DG29: *1,1 | DI29: *1,1 | DJ29: *1,1 | DN29: 134 | DO29: 55 | DP29: 1 | DQ29: 1 | DU29: 1013 | DV29: 100 знаков | DW29: 100 знаков | DX29: 1 | EE29: 86330795 | EF29: 30 | EG29: Строительные работы | EH29: 0 | EJ29: 1 | EK29: 167 | EL29: ТСН-2001.3-27. 27-71, 27-72 | EM29: ТСН-2001.3-27-22 | EO29: Попр.12.00.01.11.003 | EQ29: 0 | ER29: 0 | ES29: 0 | ET29: 0 | EU29: 0 | EV29: 841.11 | EW29: 69 | EX29: 0 | EY29: 0 | FQ29: 0 | FR29: 0 | FS29: 0 | FX29: 134 | FY29: 55 | GD29: 1 | GF29: -1542709812 | GG29: 2 | GH29: 0 | GI29: -2 | GJ29: 0 | GK29: 0 | GL29: =ROUND(IF(AND(BH29=3,BI29=3,FS29<>0),P29,0),2) -> 0 | GM29: =ROUND(O29+X29+Y29,2)+GX29 -> 148766.45 | GN29: =IF(OR(BI29=0,BI29=1),GM29-GX29,0) -> 148766.45 | GO29: =IF(BI29=2,GM29-GX29,0) -> 0 | GP29: =IF(BI29=4,GM29-GX29,0) -> 0 | GR29: 0 | GS29: 3 | GT29: 0 | GV29: =(GT29) -> 0 | GW29: 1.33 | GX29: =ROUND(HC29*I29,2) -> 0 | HA29: 0 | HB29: 0 | HC29: =GV29*GW29 -> 0 | HS29: 0 | IK29: 0
A30: 17 | B30: 1 | C30: =ROW(SmtRes!A9) -> 9 | D30: =ROW(EtalonRes!A9) -> 9 | E30: 2 | F30: 3.27-72-1 | G30: Установка дополнительных щитков (применительно) | H30: 100 знаков | I30: =ROUND(2/100,9) -> 0.02 | J30: 0 | K30: =ROUND(2/100,9) -> 0.02 | O30: =ROUND(CP30,2) -> 19.37 | P30: =ROUND(CQ30*I30,2) -> 0 | Q30: =ROUND(CR30*I30,2) -> 0 | R30: =ROUND(CS30*I30,2) -> 0 | S30: =ROUND(CT30*I30,2) -> 19.37 | T30: =ROUND(CU30*I30,2) -> 0 | U30: =CV30*I30 -> 1.589346 | V30: =CW30*I30 -> 0 | W30: =ROUND(CX30*I30,2) -> 0 | X30: =ROUND(CY30,2) -> 25.96 | Y30: =ROUND(CZ30,2) -> 10.65 | AA30: 86511347 | AB30: =(AC30+AD30+AF30) -> 925.221 | AC30: =(ES30) -> 0 | AD30: =((ET30*1.1)) -> 0 | AE30: =((EU30*1.1)) -> 0 | AF30: =((EV30*1.1)) -> 925.221 | AG30: =(AP30) -> 0 | AH30: =((EW30*1.1)) -> 75.9 | AI30: =((EX30*1.1)) -> 0 | AJ30: =(AS30) -> 0 | AK30: 0 | AL30: 0 | AM30: 0 | AN30: 0 | AO30: 841.11 | AP30: 0 | AQ30: 69 | AR30: 0 | AS30: 0 | AT30: 134 | AU30: 55 | AV30: 1.047 | AW30: 1 | AZ30: 1 | BA30: 1 | BB30: 1 | BC30: 1 | BH30: 0 | BI30: 1 | BJ30: 3.27-72-1 Применительно | BM30: 167 | BN30: 0 | BO30: 3.27-72-1 | BP30: 1 | BQ30: 30 | BR30: 0 | BS30: 1 | BT30: 1 | BU30: 1 | BV30: 1 | BW30: 1 | BX30: 1 | BZ30: 134 | CA30: 55 | CE30: 0 | CF30: 0 | CG30: 0 | CM30: 0 | CN30: Поправка:стеснённые условия, пп. "в" | CO30: 0 | CP30: =(P30+Q30+S30) -> 19.37 | CQ30: =(AC30*BC30*AW30) -> 0 | CR30: =(((ET30*1.1))*BB30*AV30) -> 0 | CS30: =(AE30*BS30*AV30) -> 0 | CT30: =(AF30*BA30*AV30) -> 968.70639 | CU30: =AG30 -> 0 | CV30: =(AH30*AV30) -> 79.4673 | CW30: =AI30 -> 0 | CX30: =AJ30 -> 0 | CY30: =(((S30+R30)*BZ30)/100) -> 25.9558 | CZ30: =(((S30+R30)*CA30)/100) -> 10.6535 | DE30: *1,1 | DF30: *1,1 | DG30: *1,1 | DI30: *1,1 | DJ30: *1,1 | DN30: 0 | DO30: 0 | DP30: 1 | DQ30: 1 | DU30: 1013 | DV30: 100 знаков | DW30: 100 знаков | DX30: 1 | EE30: 86330795 | EF30: 30 | EG30: Строительные работы | EH30: 0 | EJ30: 1 | EK30: 167 | EL30: ТСН-2001.3-27. 27-71, 27-72 | EM30: ТСН-2001.3-27-22 | EO30: Попр.12.00.01.11.003 | EQ30: 0 | ER30: 0 | ES30: 0 | ET30: 0 | EU30: 0 | EV30: 841.11 | EW30: 69 | EX30: 0 | EY30: 0 | FQ30: 0 | FR30: 0 | FS30: 0 | FX30: 134 | FY30: 55 | GD30: 1 | GF30: 2063775563 | GG30: 2 | GH30: 0 | GI30: -2 | GJ30: 0 | GK30: 0 | GL30: =ROUND(IF(AND(BH30=3,BI30=3,FS30<>0),P30,0),2) -> 0 | GM30: =ROUND(O30+X30+Y30,2)+GX30 -> 55.98 | GN30: =IF(OR(BI30=0,BI30=1),GM30-GX30,0) -> 55.98 | GO30: =IF(BI30=2,GM30-GX30,0) -> 0 | GP30: =IF(BI30=4,GM30-GX30,0) -> 0 | GR30: 0 | GS30: 3 | GT30: 0 | GV30: =(GT30) -> 0 | GW30: 1 | GX30: =ROUND(HC30*I30,2) -> 0 | HA30: 0 | HB30: 0 | HC30: =GV30*GW30 -> 0 | HS30: 0 | IK30: 0
A31: 17 | B31: 1 | C31: =ROW(SmtRes!A12) -> 12 | D31: =ROW(EtalonRes!A12) -> 12 | E31: 2 | F31: 3.27-72-1 | G31: Установка дополнительных щитков (применительно) | H31: 100 знаков | I31: =ROUND(2/100,9) -> 0.02 | J31: 0 | K31: =ROUND(2/100,9) -> 0.02 | O31: =ROUND(CP31,2) -> 1119.05 | P31: =ROUND(CQ31*I31,2) -> 0 | Q31: =ROUND(CR31*I31,2) -> 0 | R31: =ROUND(CS31*I31,2) -> 0 | S31: =ROUND(CT31*I31,2) -> 1119.05 | T31: =ROUND(CU31*I31,2) -> 0 | U31: =CV31*I31 -> 1.589346 | V31: =CW31*I31 -> 0 | W31: =ROUND(CX31*I31,2) -> 0 | X31: =ROUND(CY31,2) -> 1499.53 | Y31: =ROUND(CZ31,2) -> 615.48 | AA31: 86511348 | AB31: =(AC31+AD31+AF31) -> 925.221 | AC31: =(ES31) -> 0 | AD31: =((ET31*1.1)) -> 0 | AE31: =((EU31*1.1)) -> 0 | AF31: =((EV31*1.1)) -> 925.221 | AG31: =(AP31) -> 0 | AH31: =((EW31*1.1)) -> 75.9 | AI31: =((EX31*1.1)) -> 0 | AJ31: =(AS31) -> 0 | AK31: 0 | AL31: 0 | AM31: 0 | AN31: 0 | AO31: 841.11 | AP31: 0 | AQ31: 69 | AR31: 0 | AS31: 0 | AT31: 134 | AU31: 55 | AV31: 1.047 | AW31: 1 | AZ31: 1 | BA31: 57.76 | BB31: 1 | BC31: 1.33 | BH31: 0 | BI31: 1 | BJ31: 3.27-72-1 Применительно | BM31: 167 | BN31: 0 | BO31: 3.27-72-1 | BP31: 1 | BQ31: 30 | BR31: 0 | BS31: 57.76 | BT31: 1 | BU31: 1 | BV31: 1 | BW31: 1 | BX31: 1 | BZ31: 134 | CA31: 55 | CE31: 0 | CF31: 0 | CG31: 0 | CM31: 0 | CN31: Поправка:стеснённые условия, пп. "в" | CO31: 0 | CP31: =(P31+Q31+S31) -> 1119.05 | CQ31: =(AC31*BC31*AW31) -> 0 | CR31: =(((ET31*1.1))*BB31*AV31) -> 0 | CS31: =(AE31*BS31*AV31) -> 0 | CT31: =(AF31*BA31*AV31) -> 55952.481 | CU31: =AG31 -> 0 | CV31: =(AH31*AV31) -> 79.4673 | CW31: =AI31 -> 0 | CX31: =AJ31 -> 0 | CY31: =(S31+R31)*(BZ31/100) -> 1499.527 | CZ31: =(S31+R31)*(CA31/100) -> 615.4775 | DE31: *1,1 | DF31: *1,1 | DG31: *1,1 | DI31: *1,1 | DJ31: *1,1 | DN31: 134 | DO31: 55 | DP31: 1 | DQ31: 1 | DU31: 1013 | DV31: 100 знаков | DW31: 100 знаков | DX31: 1 | EE31: 86330795 | EF31: 30 | EG31: Строительные работы | EH31: 0 | EJ31: 1 | EK31: 167 | EL31: ТСН-2001.3-27. 27-71, 27-72 | EM31: ТСН-2001.3-27-22 | EO31: Попр.12.00.01.11.003 | EQ31: 0 | ER31: 0 | ES31: 0 | ET31: 0 | EU31: 0 | EV31: 841.11 | EW31: 69 | EX31: 0 | EY31: 0 | FQ31: 0 | FR31: 0 | FS31: 0 | FX31: 134 | FY31: 55 | GD31: 1 | GF31: 2063775563 | GG31: 2 | GH31: 0 | GI31: -2 | GJ31: 0 | GK31: 0 | GL31: =ROUND(IF(AND(BH31=3,BI31=3,FS31<>0),P31,0),2) -> 0 | GM31: =ROUND(O31+X31+Y31,2)+GX31 -> 3234.06 | GN31: =IF(OR(BI31=0,BI31=1),GM31-GX31,0) -> 3234.06 | GO31: =IF(BI31=2,GM31-GX31,0) -> 0 | GP31: =IF(BI31=4,GM31-GX31,0) -> 0 | GR31: 0 | GS31: 3 | GT31: 0 | GV31: =(GT31) -> 0 | GW31: 1.33 | GX31: =ROUND(HC31*I31,2) -> 0 | HA31: 0 | HB31: 0 | HC31: =GV31*GW31 -> 0 | HS31: 0 | IK31: 0
A32: 17 | B32: 1 | C32: =ROW(SmtRes!A15) -> 15 | D32: =ROW(EtalonRes!A15) -> 15 | E32: 3 | F32: 3.27-72-1 | G32: Установка дополнительных щитков (применительно) | H32: 100 знаков | I32: =ROUND(11/100,9) -> 0.11 | J32: 0 | K32: =ROUND(11/100,9) -> 0.11 | O32: =ROUND(CP32,2) -> 106.56 | P32: =ROUND(CQ32*I32,2) -> 0 | Q32: =ROUND(CR32*I32,2) -> 0 | R32: =ROUND(CS32*I32,2) -> 0 | S32: =ROUND(CT32*I32,2) -> 106.56 | T32: =ROUND(CU32*I32,2) -> 0 | U32: =CV32*I32 -> 8.741403 | V32: =CW32*I32 -> 0 | W32: =ROUND(CX32*I32,2) -> 0 | X32: =ROUND(CY32,2) -> 142.79 | Y32: =ROUND(CZ32,2) -> 58.61 | AA32: 86511347 | AB32: =(AC32+AD32+AF32) -> 925.221 | AC32: =(ES32) -> 0 | AD32: =((ET32*1.1)) -> 0 | AE32: =((EU32*1.1)) -> 0 | AF32: =((EV32*1.1)) -> 925.221 | AG32: =(AP32) -> 0 | AH32: =((EW32*1.1)) -> 75.9 | AI32: =((EX32*1.1)) -> 0 | AJ32: =(AS32) -> 0 | AK32: 0 | AL32: 0 | AM32: 0 | AN32: 0 | AO32: 841.11 | AP32: 0 | AQ32: 69 | AR32: 0 | AS32: 0 | AT32: 134 | AU32: 55 | AV32: 1.047 | AW32: 1 | AZ32: 1 | BA32: 1 | BB32: 1 | BC32: 1 | BH32: 0 | BI32: 1 | BJ32: 3.27-72-1 Применительно | BM32: 167 | BN32: 0 | BO32: 3.27-72-1 | BP32: 1 | BQ32: 30 | BR32: 0 | BS32: 1 | BT32: 1 | BU32: 1 | BV32: 1 | BW32: 1 | BX32: 1 | BZ32: 134 | CA32: 55 | CE32: 0 | CF32: 0 | CG32: 0 | CM32: 0 | CN32: Поправка:стеснённые условия, пп. "в" | CO32: 0 | CP32: =(P32+Q32+S32) -> 106.56 | CQ32: =(AC32*BC32*AW32) -> 0 | CR32: =(((ET32*1.1))*BB32*AV32) -> 0 | CS32: =(AE32*BS32*AV32) -> 0 | CT32: =(AF32*BA32*AV32) -> 968.70639 | CU32: =AG32 -> 0 | CV32: =(AH32*AV32) -> 79.4673 | CW32: =AI32 -> 0 | CX32: =AJ32 -> 0 | CY32: =(((S32+R32)*BZ32)/100) -> 142.7904 | CZ32: =(((S32+R32)*CA32)/100) -> 58.608 | DE32: *1,1 | DF32: *1,1 | DG32: *1,1 | DI32: *1,1 | DJ32: *1,1 | DN32: 0 | DO32: 0 | DP32: 1 | DQ32: 1 | DU32: 1013 | DV32: 100 знаков | DW32: 100 знаков | DX32: 1 | EE32: 86330795 | EF32: 30 | EG32: Строительные работы | EH32: 0 | EJ32: 1 | EK32: 167 | EL32: ТСН-2001.3-27. 27-71, 27-72 | EM32: ТСН-2001.3-27-22 | EO32: Попр.12.00.01.11.003 | EQ32: 0 | ER32: 0 | ES32: 0 | ET32: 0 | EU32: 0 | EV32: 841.11 | EW32: 69 | EX32: 0 | EY32: 0 | FQ32: 0 | FR32: 0 | FS32: 0 | FX32: 134 | FY32: 55 | GD32: 1 | GF32: 1646298055 | GG32: 2 | GH32: 0 | GI32: -2 | GJ32: 0 | GK32: 0 | GL32: =ROUND(IF(AND(BH32=3,BI32=3,FS32<>0),P32,0),2) -> 0 | GM32: =ROUND(O32+X32+Y32,2)+GX32 -> 307.96 | GN32: =IF(OR(BI32=0,BI32=1),GM32-GX32,0) -> 307.96 | GO32: =IF(BI32=2,GM32-GX32,0) -> 0 | GP32: =IF(BI32=4,GM32-GX32,0) -> 0 | GR32: 0 | GS32: 3 | GT32: 0 | GV32: =(GT32) -> 0 | GW32: 1 | GX32: =ROUND(HC32*I32,2) -> 0 | HA32: 0 | HB32: 0 | HC32: =GV32*GW32 -> 0 | HS32: 0 | IK32: 0
A33: 17 | B33: 1 | C33: =ROW(SmtRes!A18) -> 18 | D33: =ROW(EtalonRes!A18) -> 18 | E33: 3 | F33: 3.27-72-1 | G33: Установка дополнительных щитков (применительно) | H33: 100 знаков | I33: =ROUND(11/100,9) -> 0.11 | J33: 0 | K33: =ROUND(11/100,9) -> 0.11 | O33: =ROUND(CP33,2) -> 6154.77 | P33: =ROUND(CQ33*I33,2) -> 0 | Q33: =ROUND(CR33*I33,2) -> 0 | R33: =ROUND(CS33*I33,2) -> 0 | S33: =ROUND(CT33*I33,2) -> 6154.77 | T33: =ROUND(CU33*I33,2) -> 0 | U33: =CV33*I33 -> 8.741403 | V33: =CW33*I33 -> 0 | W33: =ROUND(CX33*I33,2) -> 0 | X33: =ROUND(CY33,2) -> 8247.39 | Y33: =ROUND(CZ33,2) -> 3385.12 | AA33: 86511348 | AB33: =(AC33+AD33+AF33) -> 925.221 | AC33: =(ES33) -> 0 | AD33: =((ET33*1.1)) -> 0 | AE33: =((EU33*1.1)) -> 0 | AF33: =((EV33*1.1)) -> 925.221 | AG33: =(AP33) -> 0 | AH33: =((EW33*1.1)) -> 75.9 | AI33: =((EX33*1.1)) -> 0 | AJ33: =(AS33) -> 0 | AK33: 0 | AL33: 0 | AM33: 0 | AN33: 0 | AO33: 841.11 | AP33: 0 | AQ33: 69 | AR33: 0 | AS33: 0 | AT33: 134 | AU33: 55 | AV33: 1.047 | AW33: 1 | AZ33: 1 | BA33: 57.76 | BB33: 1 | BC33: 1.33 | BH33: 0 | BI33: 1 | BJ33: 3.27-72-1 Применительно | BM33: 167 | BN33: 0 | BO33: 3.27-72-1 | BP33: 1 | BQ33: 30 | BR33: 0 | BS33: 57.76 | BT33: 1 | BU33: 1 | BV33: 1 | BW33: 1 | BX33: 1 | BZ33: 134 | CA33: 55 | CE33: 0 | CF33: 0 | CG33: 0 | CM33: 0 | CN33: Поправка:стеснённые условия, пп. "в" | CO33: 0 | CP33: =(P33+Q33+S33) -> 6154.77 | CQ33: =(AC33*BC33*AW33) -> 0 | CR33: =(((ET33*1.1))*BB33*AV33) -> 0 | CS33: =(AE33*BS33*AV33) -> 0 | CT33: =(AF33*BA33*AV33) -> 55952.481 | CU33: =AG33 -> 0 | CV33: =(AH33*AV33) -> 79.4673 | CW33: =AI33 -> 0 | CX33: =AJ33 -> 0 | CY33: =(S33+R33)*(BZ33/100) -> 8247.3918 | CZ33: =(S33+R33)*(CA33/100) -> 3385.1235 | DE33: *1,1 | DF33: *1,1 | DG33: *1,1 | DI33: *1,1 | DJ33: *1,1 | DN33: 134 | DO33: 55 | DP33: 1 | DQ33: 1 | DU33: 1013 | DV33: 100 знаков | DW33: 100 знаков | DX33: 1 | EE33: 86330795 | EF33: 30 | EG33: Строительные работы | EH33: 0 | EJ33: 1 | EK33: 167 | EL33: ТСН-2001.3-27. 27-71, 27-72 | EM33: ТСН-2001.3-27-22 | EO33: Попр.12.00.01.11.003 | EQ33: 0 | ER33: 0 | ES33: 0 | ET33: 0 | EU33: 0 | EV33: 841.11 | EW33: 69 | EX33: 0 | EY33: 0 | FQ33: 0 | FR33: 0 | FS33: 0 | FX33: 134 | FY33: 55 | GD33: 1 | GF33: 1646298055 | GG33: 2 | GH33: 0 | GI33: -2 | GJ33: 0 | GK33: 0 | GL33: =ROUND(IF(AND(BH33=3,BI33=3,FS33<>0),P33,0),2) -> 0 | GM33: =ROUND(O33+X33+Y33,2)+GX33 -> 17787.28 | GN33: =IF(OR(BI33=0,BI33=1),GM33-GX33,0) -> 17787.28 | GO33: =IF(BI33=2,GM33-GX33,0) -> 0 | GP33: =IF(BI33=4,GM33-GX33,0) -> 0 | GR33: 0 | GS33: 3 | GT33: 0 | GV33: =(GT33) -> 0 | GW33: 1.33 | GX33: =ROUND(HC33*I33,2) -> 0 | HA33: 0 | HB33: 0 | HC33: =GV33*GW33 -> 0 | HS33: 0 | IK33: 0
A34: 17 | B34: 1 | C34: =ROW(SmtRes!A21) -> 21 | D34: =ROW(EtalonRes!A21) -> 21 | E34: 4 | F34: 3.27-72-1 | G34: Установка дополнительных щитков (применительно) | H34: 100 знаков | I34: =ROUND(4/100,9) -> 0.04 | J34: 0 | K34: =ROUND(4/100,9) -> 0.04 | O34: =ROUND(CP34,2) -> 38.75 | P34: =ROUND(CQ34*I34,2) -> 0 | Q34: =ROUND(CR34*I34,2) -> 0 | R34: =ROUND(CS34*I34,2) -> 0 | S34: =ROUND(CT34*I34,2) -> 38.75 | T34: =ROUND(CU34*I34,2) -> 0 | U34: =CV34*I34 -> 3.178692 | V34: =CW34*I34 -> 0 | W34: =ROUND(CX34*I34,2) -> 0 | X34: =ROUND(CY34,2) -> 51.93 | Y34: =ROUND(CZ34,2) -> 21.31 | AA34: 86511347 | AB34: =(AC34+AD34+AF34) -> 925.221 | AC34: =(ES34) -> 0 | AD34: =((ET34*1.1)) -> 0 | AE34: =((EU34*1.1)) -> 0 | AF34: =((EV34*1.1)) -> 925.221 | AG34: =(AP34) -> 0 | AH34: =((EW34*1.1)) -> 75.9 | AI34: =((EX34*1.1)) -> 0 | AJ34: =(AS34) -> 0 | AK34: 0 | AL34: 0 | AM34: 0 | AN34: 0 | AO34: 841.11 | AP34: 0 | AQ34: 69 | AR34: 0 | AS34: 0 | AT34: 134 | AU34: 55 | AV34: 1.047 | AW34: 1 | AZ34: 1 | BA34: 1 | BB34: 1 | BC34: 1 | BH34: 0 | BI34: 1 | BJ34: 3.27-72-1 Применительно | BM34: 167 | BN34: 0 | BO34: 3.27-72-1 | BP34: 1 | BQ34: 30 | BR34: 0 | BS34: 1 | BT34: 1 | BU34: 1 | BV34: 1 | BW34: 1 | BX34: 1 | BZ34: 134 | CA34: 55 | CE34: 0 | CF34: 0 | CG34: 0 | CM34: 0 | CN34: Поправка:стеснённые условия, пп. "в" | CO34: 0 | CP34: =(P34+Q34+S34) -> 38.75 | CQ34: =(AC34*BC34*AW34) -> 0 | CR34: =(((ET34*1.1))*BB34*AV34) -> 0 | CS34: =(AE34*BS34*AV34) -> 0 | CT34: =(AF34*BA34*AV34) -> 968.70639 | CU34: =AG34 -> 0 | CV34: =(AH34*AV34) -> 79.4673 | CW34: =AI34 -> 0 | CX34: =AJ34 -> 0 | CY34: =(((S34+R34)*BZ34)/100) -> 51.925 | CZ34: =(((S34+R34)*CA34)/100) -> 21.3125 | DE34: *1,1 | DF34: *1,1 | DG34: *1,1 | DI34: *1,1 | DJ34: *1,1 | DN34: 0 | DO34: 0 | DP34: 1 | DQ34: 1 | DU34: 1013 | DV34: 100 знаков | DW34: 100 знаков | DX34: 1 | EE34: 86330795 | EF34: 30 | EG34: Строительные работы | EH34: 0 | EJ34: 1 | EK34: 167 | EL34: ТСН-2001.3-27. 27-71, 27-72 | EM34: ТСН-2001.3-27-22 | EO34: Попр.12.00.01.11.003 | EQ34: 0 | ER34: 0 | ES34: 0 | ET34: 0 | EU34: 0 | EV34: 841.11 | EW34: 69 | EX34: 0 | EY34: 0 | FQ34: 0 | FR34: 0 | FS34: 0 | FX34: 134 | FY34: 55 | GD34: 1 | GF34: -849169165 | GG34: 2 | GH34: 0 | GI34: -2 | GJ34: 0 | GK34: 0 | GL34: =ROUND(IF(AND(BH34=3,BI34=3,FS34<>0),P34,0),2) -> 0 | GM34: =ROUND(O34+X34+Y34,2)+GX34 -> 111.99 | GN34: =IF(OR(BI34=0,BI34=1),GM34-GX34,0) -> 111.99 | GO34: =IF(BI34=2,GM34-GX34,0) -> 0 | GP34: =IF(BI34=4,GM34-GX34,0) -> 0 | GR34: 0 | GS34: 3 | GT34: 0 | GV34: =(GT34) -> 0 | GW34: 1 | GX34: =ROUND(HC34*I34,2) -> 0 | HA34: 0 | HB34: 0 | HC34: =GV34*GW34 -> 0 | HS34: 0 | IK34: 0
A35: 17 | B35: 1 | C35: =ROW(SmtRes!A24) -> 24 | D35: =ROW(EtalonRes!A24) -> 24 | E35: 4 | F35: 3.27-72-1 | G35: Установка дополнительных щитков (применительно) | H35: 100 знаков | I35: =ROUND(4/100,9) -> 0.04 | J35: 0 | K35: =ROUND(4/100,9) -> 0.04 | O35: =ROUND(CP35,2) -> 2238.1 | P35: =ROUND(CQ35*I35,2) -> 0 | Q35: =ROUND(CR35*I35,2) -> 0 | R35: =ROUND(CS35*I35,2) -> 0 | S35: =ROUND(CT35*I35,2) -> 2238.1 | T35: =ROUND(CU35*I35,2) -> 0 | U35: =CV35*I35 -> 3.178692 | V35: =CW35*I35 -> 0 | W35: =ROUND(CX35*I35,2) -> 0 | X35: =ROUND(CY35,2) -> 2999.05 | Y35: =ROUND(CZ35,2) -> 1230.96 | AA35: 86511348 | AB35: =(AC35+AD35+AF35) -> 925.221 | AC35: =(ES35) -> 0 | AD35: =((ET35*1.1)) -> 0 | AE35: =((EU35*1.1)) -> 0 | AF35: =((EV35*1.1)) -> 925.221 | AG35: =(AP35) -> 0 | AH35: =((EW35*1.1)) -> 75.9 | AI35: =((EX35*1.1)) -> 0 | AJ35: =(AS35) -> 0 | AK35: 0 | AL35: 0 | AM35: 0 | AN35: 0 | AO35: 841.11 | AP35: 0 | AQ35: 69 | AR35: 0 | AS35: 0 | AT35: 134 | AU35: 55 | AV35: 1.047 | AW35: 1 | AZ35: 1 | BA35: 57.76 | BB35: 1 | BC35: 1.33 | BH35: 0 | BI35: 1 | BJ35: 3.27-72-1 Применительно | BM35: 167 | BN35: 0 | BO35: 3.27-72-1 | BP35: 1 | BQ35: 30 | BR35: 0 | BS35: 57.76 | BT35: 1 | BU35: 1 | BV35: 1 | BW35: 1 | BX35: 1 | BZ35: 134 | CA35: 55 | CE35: 0 | CF35: 0 | CG35: 0 | CM35: 0 | CN35: Поправка:стеснённые условия, пп. "в" | CO35: 0 | CP35: =(P35+Q35+S35) -> 2238.1 | CQ35: =(AC35*BC35*AW35) -> 0 | CR35: =(((ET35*1.1))*BB35*AV35) -> 0 | CS35: =(AE35*BS35*AV35) -> 0 | CT35: =(AF35*BA35*AV35) -> 55952.481 | CU35: =AG35 -> 0 | CV35: =(AH35*AV35) -> 79.4673 | CW35: =AI35 -> 0 | CX35: =AJ35 -> 0 | CY35: =(S35+R35)*(BZ35/100) -> 2999.054 | CZ35: =(S35+R35)*(CA35/100) -> 1230.955 | DE35: *1,1 | DF35: *1,1 | DG35: *1,1 | DI35: *1,1 | DJ35: *1,1 | DN35: 134 | DO35: 55 | DP35: 1 | DQ35: 1 | DU35: 1013 | DV35: 100 знаков | DW35: 100 знаков | DX35: 1 | EE35: 86330795 | EF35: 30 | EG35: Строительные работы | EH35: 0 | EJ35: 1 | EK35: 167 | EL35: ТСН-2001.3-27. 27-71, 27-72 | EM35: ТСН-2001.3-27-22 | EO35: Попр.12.00.01.11.003 | EQ35: 0 | ER35: 0 | ES35: 0 | ET35: 0 | EU35: 0 | EV35: 841.11 | EW35: 69 | EX35: 0 | EY35: 0 | FQ35: 0 | FR35: 0 | FS35: 0 | FX35: 134 | FY35: 55 | GD35: 1 | GF35: -849169165 | GG35: 2 | GH35: 0 | GI35: -2 | GJ35: 0 | GK35: 0 | GL35: =ROUND(IF(AND(BH35=3,BI35=3,FS35<>0),P35,0),2) -> 0 | GM35: =ROUND(O35+X35+Y35,2)+GX35 -> 6468.11 | GN35: =IF(OR(BI35=0,BI35=1),GM35-GX35,0) -> 6468.11 | GO35: =IF(BI35=2,GM35-GX35,0) -> 0 | GP35: =IF(BI35=4,GM35-GX35,0) -> 0 | GR35: 0 | GS35: 3 | GT35: 0 | GV35: =(GT35) -> 0 | GW35: 1.33 | GX35: =ROUND(HC35*I35,2) -> 0 | HA35: 0 | HB35: 0 | HC35: =GV35*GW35 -> 0 | HS35: 0 | IK35: 0
A36: 17 | B36: 1 | C36: =ROW(SmtRes!A27) -> 27 | D36: =ROW(EtalonRes!A27) -> 27 | E36: 5 | F36: 3.27-72-1 | G36: Установка дополнительных щитков (применительно) | H36: 100 знаков | I36: =ROUND(19/100,9) -> 0.19 | J36: 0 | K36: =ROUND(19/100,9) -> 0.19 | O36: =ROUND(CP36,2) -> 184.05 | P36: =ROUND(CQ36*I36,2) -> 0 | Q36: =ROUND(CR36*I36,2) -> 0 | R36: =ROUND(CS36*I36,2) -> 0 | S36: =ROUND(CT36*I36,2) -> 184.05 | T36: =ROUND(CU36*I36,2) -> 0 | U36: =CV36*I36 -> 15.098787 | V36: =CW36*I36 -> 0 | W36: =ROUND(CX36*I36,2) -> 0 | X36: =ROUND(CY36,2) -> 246.63 | Y36: =ROUND(CZ36,2) -> 101.23 | AA36: 86511347 | AB36: =(AC36+AD36+AF36) -> 925.221 | AC36: =(ES36) -> 0 | AD36: =((ET36*1.1)) -> 0 | AE36: =((EU36*1.1)) -> 0 | AF36: =((EV36*1.1)) -> 925.221 | AG36: =(AP36) -> 0 | AH36: =((EW36*1.1)) -> 75.9 | AI36: =((EX36*1.1)) -> 0 | AJ36: =(AS36) -> 0 | AK36: 0 | AL36: 0 | AM36: 0 | AN36: 0 | AO36: 841.11 | AP36: 0 | AQ36: 69 | AR36: 0 | AS36: 0 | AT36: 134 | AU36: 55 | AV36: 1.047 | AW36: 1 | AZ36: 1 | BA36: 1 | BB36: 1 | BC36: 1 | BH36: 0 | BI36: 1 | BJ36: 3.27-72-1 Применительно | BM36: 167 | BN36: 0 | BO36: 3.27-72-1 | BP36: 1 | BQ36: 30 | BR36: 0 | BS36: 1 | BT36: 1 | BU36: 1 | BV36: 1 | BW36: 1 | BX36: 1 | BZ36: 134 | CA36: 55 | CE36: 0 | CF36: 0 | CG36: 0 | CM36: 0 | CN36: Поправка:стеснённые условия, пп. "в" | CO36: 0 | CP36: =(P36+Q36+S36) -> 184.05 | CQ36: =(AC36*BC36*AW36) -> 0 | CR36: =(((ET36*1.1))*BB36*AV36) -> 0 | CS36: =(AE36*BS36*AV36) -> 0 | CT36: =(AF36*BA36*AV36) -> 968.70639 | CU36: =AG36 -> 0 | CV36: =(AH36*AV36) -> 79.4673 | CW36: =AI36 -> 0 | CX36: =AJ36 -> 0 | CY36: =(((S36+R36)*BZ36)/100) -> 246.627 | CZ36: =(((S36+R36)*CA36)/100) -> 101.2275 | DE36: *1,1 | DF36: *1,1 | DG36: *1,1 | DI36: *1,1 | DJ36: *1,1 | DN36: 0 | DO36: 0 | DP36: 1 | DQ36: 1 | DU36: 1013 | DV36: 100 знаков | DW36: 100 знаков | DX36: 1 | EE36: 86330795 | EF36: 30 | EG36: Строительные работы | EH36: 0 | EJ36: 1 | EK36: 167 | EL36: ТСН-2001.3-27. 27-71, 27-72 | EM36: ТСН-2001.3-27-22 | EO36: Попр.12.00.01.11.003 | EQ36: 0 | ER36: 0 | ES36: 0 | ET36: 0 | EU36: 0 | EV36: 841.11 | EW36: 69 | EX36: 0 | EY36: 0 | FQ36: 0 | FR36: 0 | FS36: 0 | FX36: 134 | FY36: 55 | GD36: 1 | GF36: 1211833497 | GG36: 2 | GH36: 0 | GI36: -2 | GJ36: 0 | GK36: 0 | GL36: =ROUND(IF(AND(BH36=3,BI36=3,FS36<>0),P36,0),2) -> 0 | GM36: =ROUND(O36+X36+Y36,2)+GX36 -> 531.91 | GN36: =IF(OR(BI36=0,BI36=1),GM36-GX36,0) -> 531.91 | GO36: =IF(BI36=2,GM36-GX36,0) -> 0 | GP36: =IF(BI36=4,GM36-GX36,0) -> 0 | GR36: 0 | GS36: 3 | GT36: 0 | GV36: =(GT36) -> 0 | GW36: 1 | GX36: =ROUND(HC36*I36,2) -> 0 | HA36: 0 | HB36: 0 | HC36: =GV36*GW36 -> 0 | HS36: 0 | IK36: 0
A37: 17 | B37: 1 | C37: =ROW(SmtRes!A30) -> 30 | D37: =ROW(EtalonRes!A30) -> 30 | E37: 5 | F37: 3.27-72-1 | G37: Установка дополнительных щитков (применительно) | H37: 100 знаков | I37: =ROUND(19/100,9) -> 0.19 | J37: 0 | K37: =ROUND(19/100,9) -> 0.19 | O37: =ROUND(CP37,2) -> 10630.97 | P37: =ROUND(CQ37*I37,2) -> 0 | Q37: =ROUND(CR37*I37,2) -> 0 | R37: =ROUND(CS37*I37,2) -> 0 | S37: =ROUND(CT37*I37,2) -> 10630.97 | T37: =ROUND(CU37*I37,2) -> 0 | U37: =CV37*I37 -> 15.098787 | V37: =CW37*I37 -> 0 | W37: =ROUND(CX37*I37,2) -> 0 | X37: =ROUND(CY37,2) -> 14245.5 | Y37: =ROUND(CZ37,2) -> 5847.03 | AA37: 86511348 | AB37: =(AC37+AD37+AF37) -> 925.221 | AC37: =(ES37) -> 0 | AD37: =((ET37*1.1)) -> 0 | AE37: =((EU37*1.1)) -> 0 | AF37: =((EV37*1.1)) -> 925.221 | AG37: =(AP37) -> 0 | AH37: =((EW37*1.1)) -> 75.9 | AI37: =((EX37*1.1)) -> 0 | AJ37: =(AS37) -> 0 | AK37: 0 | AL37: 0 | AM37: 0 | AN37: 0 | AO37: 841.11 | AP37: 0 | AQ37: 69 | AR37: 0 | AS37: 0 | AT37: 134 | AU37: 55 | AV37: 1.047 | AW37: 1 | AZ37: 1 | BA37: 57.76 | BB37: 1 | BC37: 1.33 | BH37: 0 | BI37: 1 | BJ37: 3.27-72-1 Применительно | BM37: 167 | BN37: 0 | BO37: 3.27-72-1 | BP37: 1 | BQ37: 30 | BR37: 0 | BS37: 57.76 | BT37: 1 | BU37: 1 | BV37: 1 | BW37: 1 | BX37: 1 | BZ37: 134 | CA37: 55 | CE37: 0 | CF37: 0 | CG37: 0 | CM37: 0 | CN37: Поправка:стеснённые условия, пп. "в" | CO37: 0 | CP37: =(P37+Q37+S37) -> 10630.97 | CQ37: =(AC37*BC37*AW37) -> 0 | CR37: =(((ET37*1.1))*BB37*AV37) -> 0 | CS37: =(AE37*BS37*AV37) -> 0 | CT37: =(AF37*BA37*AV37) -> 55952.481 | CU37: =AG37 -> 0 | CV37: =(AH37*AV37) -> 79.4673 | CW37: =AI37 -> 0 | CX37: =AJ37 -> 0 | CY37: =(S37+R37)*(BZ37/100) -> 14245.5 | CZ37: =(S37+R37)*(CA37/100) -> 5847.0335 | DE37: *1,1 | DF37: *1,1 | DG37: *1,1 | DI37: *1,1 | DJ37: *1,1 | DN37: 134 | DO37: 55 | DP37: 1 | DQ37: 1 | DU37: 1013 | DV37: 100 знаков | DW37: 100 знаков | DX37: 1 | EE37: 86330795 | EF37: 30 | EG37: Строительные работы | EH37: 0 | EJ37: 1 | EK37: 167 | EL37: ТСН-2001.3-27. 27-71, 27-72 | EM37: ТСН-2001.3-27-22 | EO37: Попр.12.00.01.11.003 | EQ37: 0 | ER37: 0 | ES37: 0 | ET37: 0 | EU37: 0 | EV37: 841.11 | EW37: 69 | EX37: 0 | EY37: 0 | FQ37: 0 | FR37: 0 | FS37: 0 | FX37: 134 | FY37: 55 | GD37: 1 | GF37: 1211833497 | GG37: 2 | GH37: 0 | GI37: -2 | GJ37: 0 | GK37: 0 | GL37: =ROUND(IF(AND(BH37=3,BI37=3,FS37<>0),P37,0),2) -> 0 | GM37: =ROUND(O37+X37+Y37,2)+GX37 -> 30723.5 | GN37: =IF(OR(BI37=0,BI37=1),GM37-GX37,0) -> 30723.5 | GO37: =IF(BI37=2,GM37-GX37,0) -> 0 | GP37: =IF(BI37=4,GM37-GX37,0) -> 0 | GR37: 0 | GS37: 3 | GT37: 0 | GV37: =(GT37) -> 0 | GW37: 1.33 | GX37: =ROUND(HC37*I37,2) -> 0 | HA37: 0 | HB37: 0 | HC37: =GV37*GW37 -> 0 | HS37: 0 | IK37: 0
A38: 17 | B38: 1 | C38: =ROW(SmtRes!A33) -> 33 | D38: =ROW(EtalonRes!A33) -> 33 | E38: 6 | F38: 3.27-72-1 | G38: Установка дополнительных щитков (применительно) | H38: 100 знаков | I38: =ROUND(48/100,9) -> 0.48 | J38: 0 | K38: =ROUND(48/100,9) -> 0.48 | O38: =ROUND(CP38,2) -> 464.98 | P38: =ROUND(CQ38*I38,2) -> 0 | Q38: =ROUND(CR38*I38,2) -> 0 | R38: =ROUND(CS38*I38,2) -> 0 | S38: =ROUND(CT38*I38,2) -> 464.98 | T38: =ROUND(CU38*I38,2) -> 0 | U38: =CV38*I38 -> 38.144304 | V38: =CW38*I38 -> 0 | W38: =ROUND(CX38*I38,2) -> 0 | X38: =ROUND(CY38,2) -> 623.07 | Y38: =ROUND(CZ38,2) -> 255.74 | AA38: 86511347 | AB38: =(AC38+AD38+AF38) -> 925.221 | AC38: =(ES38) -> 0 | AD38: =((ET38*1.1)) -> 0 | AE38: =((EU38*1.1)) -> 0 | AF38: =((EV38*1.1)) -> 925.221 | AG38: =(AP38) -> 0 | AH38: =((EW38*1.1)) -> 75.9 | AI38: =((EX38*1.1)) -> 0 | AJ38: =(AS38) -> 0 | AK38: 0 | AL38: 0 | AM38: 0 | AN38: 0 | AO38: 841.11 | AP38: 0 | AQ38: 69 | AR38: 0 | AS38: 0 | AT38: 134 | AU38: 55 | AV38: 1.047 | AW38: 1 | AZ38: 1 | BA38: 1 | BB38: 1 | BC38: 1 | BH38: 0 | BI38: 1 | BJ38: 3.27-72-1 Применительно | BM38: 167 | BN38: 0 | BO38: 3.27-72-1 | BP38: 1 | BQ38: 30 | BR38: 0 | BS38: 1 | BT38: 1 | BU38: 1 | BV38: 1 | BW38: 1 | BX38: 1 | BZ38: 134 | CA38: 55 | CE38: 0 | CF38: 0 | CG38: 0 | CM38: 0 | CN38: Поправка:стеснённые условия, пп. "в" | CO38: 0 | CP38: =(P38+Q38+S38) -> 464.98 | CQ38: =(AC38*BC38*AW38) -> 0 | CR38: =(((ET38*1.1))*BB38*AV38) -> 0 | CS38: =(AE38*BS38*AV38) -> 0 | CT38: =(AF38*BA38*AV38) -> 968.70639 | CU38: =AG38 -> 0 | CV38: =(AH38*AV38) -> 79.4673 | CW38: =AI38 -> 0 | CX38: =AJ38 -> 0 | CY38: =(((S38+R38)*BZ38)/100) -> 623.0732 | CZ38: =(((S38+R38)*CA38)/100) -> 255.739 | DE38: *1,1 | DF38: *1,1 | DG38: *1,1 | DI38: *1,1 | DJ38: *1,1 | DN38: 0 | DO38: 0 | DP38: 1 | DQ38: 1 | DU38: 1013 | DV38: 100 знаков | DW38: 100 знаков | DX38: 1 | EE38: 86330795 | EF38: 30 | EG38: Строительные работы | EH38: 0 | EJ38: 1 | EK38: 167 | EL38: ТСН-2001.3-27. 27-71, 27-72 | EM38: ТСН-2001.3-27-22 | EO38: Попр.12.00.01.11.003 | EQ38: 0 | ER38: 0 | ES38: 0 | ET38: 0 | EU38: 0 | EV38: 841.11 | EW38: 69 | EX38: 0 | EY38: 0 | FQ38: 0 | FR38: 0 | FS38: 0 | FX38: 134 | FY38: 55 | GD38: 1 | GF38: 405089037 | GG38: 2 | GH38: 0 | GI38: -2 | GJ38: 0 | GK38: 0 | GL38: =ROUND(IF(AND(BH38=3,BI38=3,FS38<>0),P38,0),2) -> 0 | GM38: =ROUND(O38+X38+Y38,2)+GX38 -> 1343.79 | GN38: =IF(OR(BI38=0,BI38=1),GM38-GX38,0) -> 1343.79 | GO38: =IF(BI38=2,GM38-GX38,0) -> 0 | GP38: =IF(BI38=4,GM38-GX38,0) -> 0 | GR38: 0 | GS38: 3 | GT38: 0 | GV38: =(GT38) -> 0 | GW38: 1 | GX38: =ROUND(HC38*I38,2) -> 0 | HA38: 0 | HB38: 0 | HC38: =GV38*GW38 -> 0 | HS38: 0 | IK38: 0
A39: 17 | B39: 1 | C39: =ROW(SmtRes!A36) -> 36 | D39: =ROW(EtalonRes!A36) -> 36 | E39: 6 | F39: 3.27-72-1 | G39: Установка дополнительных щитков (применительно) | H39: 100 знаков | I39: =ROUND(48/100,9) -> 0.48 | J39: 0 | K39: =ROUND(48/100,9) -> 0.48 | O39: =ROUND(CP39,2) -> 26857.19 | P39: =ROUND(CQ39*I39,2) -> 0 | Q39: =ROUND(CR39*I39,2) -> 0 | R39: =ROUND(CS39*I39,2) -> 0 | S39: =ROUND(CT39*I39,2) -> 26857.19 | T39: =ROUND(CU39*I39,2) -> 0 | U39: =CV39*I39 -> 38.144304 | V39: =CW39*I39 -> 0 | W39: =ROUND(CX39*I39,2) -> 0 | X39: =ROUND(CY39,2) -> 35988.63 | Y39: =ROUND(CZ39,2) -> 14771.45 | AA39: 86511348 | AB39: =(AC39+AD39+AF39) -> 925.221 | AC39: =(ES39) -> 0 | AD39: =((ET39*1.1)) -> 0 | AE39: =((EU39*1.1)) -> 0 | AF39: =((EV39*1.1)) -> 925.221 | AG39: =(AP39) -> 0 | AH39: =((EW39*1.1)) -> 75.9 | AI39: =((EX39*1.1)) -> 0 | AJ39: =(AS39) -> 0 | AK39: 0 | AL39: 0 | AM39: 0 | AN39: 0 | AO39: 841.11 | AP39: 0 | AQ39: 69 | AR39: 0 | AS39: 0 | AT39: 134 | AU39: 55 | AV39: 1.047 | AW39: 1 | AZ39: 1 | BA39: 57.76 | BB39: 1 | BC39: 1.33 | BH39: 0 | BI39: 1 | BJ39: 3.27-72-1 Применительно | BM39: 167 | BN39: 0 | BO39: 3.27-72-1 | BP39: 1 | BQ39: 30 | BR39: 0 | BS39: 57.76 | BT39: 1 | BU39: 1 | BV39: 1 | BW39: 1 | BX39: 1 | BZ39: 134 | CA39: 55 | CE39: 0 | CF39: 0 | CG39: 0 | CM39: 0 | CN39: Поправка:стеснённые условия, пп. "в" | CO39: 0 | CP39: =(P39+Q39+S39) -> 26857.19 | CQ39: =(AC39*BC39*AW39) -> 0 | CR39: =(((ET39*1.1))*BB39*AV39) -> 0 | CS39: =(AE39*BS39*AV39) -> 0 | CT39: =(AF39*BA39*AV39) -> 55952.481 | CU39: =AG39 -> 0 | CV39: =(AH39*AV39) -> 79.4673 | CW39: =AI39 -> 0 | CX39: =AJ39 -> 0 | CY39: =(S39+R39)*(BZ39/100) -> 35988.635 | CZ39: =(S39+R39)*(CA39/100) -> 14771.454 | DE39: *1,1 | DF39: *1,1 | DG39: *1,1 | DI39: *1,1 | DJ39: *1,1 | DN39: 134 | DO39: 55 | DP39: 1 | DQ39: 1 | DU39: 1013 | DV39: 100 знаков | DW39: 100 знаков | DX39: 1 | EE39: 86330795 | EF39: 30 | EG39: Строительные работы | EH39: 0 | EJ39: 1 | EK39: 167 | EL39: ТСН-2001.3-27. 27-71, 27-72 | EM39: ТСН-2001.3-27-22 | EO39: Попр.12.00.01.11.003 | EQ39: 0 | ER39: 0 | ES39: 0 | ET39: 0 | EU39: 0 | EV39: 841.11 | EW39: 69 | EX39: 0 | EY39: 0 | FQ39: 0 | FR39: 0 | FS39: 0 | FX39: 134 | FY39: 55 | GD39: 1 | GF39: 405089037 | GG39: 2 | GH39: 0 | GI39: -2 | GJ39: 0 | GK39: 0 | GL39: =ROUND(IF(AND(BH39=3,BI39=3,FS39<>0),P39,0),2) -> 0 | GM39: =ROUND(O39+X39+Y39,2)+GX39 -> 77617.27 | GN39: =IF(OR(BI39=0,BI39=1),GM39-GX39,0) -> 77617.27 | GO39: =IF(BI39=2,GM39-GX39,0) -> 0 | GP39: =IF(BI39=4,GM39-GX39,0) -> 0 | GR39: 0 | GS39: 3 | GT39: 0 | GV39: =(GT39) -> 0 | GW39: 1.33 | GX39: =ROUND(HC39*I39,2) -> 0 | HA39: 0 | HB39: 0 | HC39: =GV39*GW39 -> 0 | HS39: 0 | IK39: 0
A40: 17 | B40: 1 | C40: =ROW(SmtRes!A39) -> 39 | D40: =ROW(EtalonRes!A39) -> 39 | E40: 7 | F40: 3.27-72-1 | G40: Установка дополнительных щитков (применительно) | H40: 100 знаков | I40: =ROUND(7/100,9) -> 0.07 | J40: 0 | K40: =ROUND(7/100,9) -> 0.07 | O40: =ROUND(CP40,2) -> 67.81 | P40: =ROUND(CQ40*I40,2) -> 0 | Q40: =ROUND(CR40*I40,2) -> 0 | R40: =ROUND(CS40*I40,2) -> 0 | S40: =ROUND(CT40*I40,2) -> 67.81 | T40: =ROUND(CU40*I40,2) -> 0 | U40: =CV40*I40 -> 5.562711 | V40: =CW40*I40 -> 0 | W40: =ROUND(CX40*I40,2) -> 0 | X40: =ROUND(CY40,2) -> 90.87 | Y40: =ROUND(CZ40,2) -> 37.3 | AA40: 86511347 | AB40: =(AC40+AD40+AF40) -> 925.221 | AC40: =(ES40) -> 0 | AD40: =((ET40*1.1)) -> 0 | AE40: =((EU40*1.1)) -> 0 | AF40: =((EV40*1.1)) -> 925.221 | AG40: =(AP40) -> 0 | AH40: =((EW40*1.1)) -> 75.9 | AI40: =((EX40*1.1)) -> 0 | AJ40: =(AS40) -> 0 | AK40: 0 | AL40: 0 | AM40: 0 | AN40: 0 | AO40: 841.11 | AP40: 0 | AQ40: 69 | AR40: 0 | AS40: 0 | AT40: 134 | AU40: 55 | AV40: 1.047 | AW40: 1 | AZ40: 1 | BA40: 1 | BB40: 1 | BC40: 1 | BH40: 0 | BI40: 1 | BJ40: 3.27-72-1 Применительно | BM40: 167 | BN40: 0 | BO40: 3.27-72-1 | BP40: 1 | BQ40: 30 | BR40: 0 | BS40: 1 | BT40: 1 | BU40: 1 | BV40: 1 | BW40: 1 | BX40: 1 | BZ40: 134 | CA40: 55 | CE40: 0 | CF40: 0 | CG40: 0 | CM40: 0 | CN40: Поправка:стеснённые условия, пп. "в" | CO40: 0 | CP40: =(P40+Q40+S40) -> 67.81 | CQ40: =(AC40*BC40*AW40) -> 0 | CR40: =(((ET40*1.1))*BB40*AV40) -> 0 | CS40: =(AE40*BS40*AV40) -> 0 | CT40: =(AF40*BA40*AV40) -> 968.70639 | CU40: =AG40 -> 0 | CV40: =(AH40*AV40) -> 79.4673 | CW40: =AI40 -> 0 | CX40: =AJ40 -> 0 | CY40: =(((S40+R40)*BZ40)/100) -> 90.8654 | CZ40: =(((S40+R40)*CA40)/100) -> 37.2955 | DE40: *1,1 | DF40: *1,1 | DG40: *1,1 | DI40: *1,1 | DJ40: *1,1 | DN40: 0 | DO40: 0 | DP40: 1 | DQ40: 1 | DU40: 1013 | DV40: 100 знаков | DW40: 100 знаков | DX40: 1 | EE40: 86330795 | EF40: 30 | EG40: Строительные работы | EH40: 0 | EJ40: 1 | EK40: 167 | EL40: ТСН-2001.3-27. 27-71, 27-72 | EM40: ТСН-2001.3-27-22 | EO40: Попр.12.00.01.11.003 | EQ40: 0 | ER40: 0 | ES40: 0 | ET40: 0 | EU40: 0 | EV40: 841.11 | EW40: 69 | EX40: 0 | EY40: 0 | FQ40: 0 | FR40: 0 | FS40: 0 | FX40: 134 | FY40: 55 | GD40: 1 | GF40: 1866548898 | GG40: 2 | GH40: 0 | GI40: -2 | GJ40: 0 | GK40: 0 | GL40: =ROUND(IF(AND(BH40=3,BI40=3,FS40<>0),P40,0),2) -> 0 | GM40: =ROUND(O40+X40+Y40,2)+GX40 -> 195.98 | GN40: =IF(OR(BI40=0,BI40=1),GM40-GX40,0) -> 195.98 | GO40: =IF(BI40=2,GM40-GX40,0) -> 0 | GP40: =IF(BI40=4,GM40-GX40,0) -> 0 | GR40: 0 | GS40: 3 | GT40: 0 | GV40: =(GT40) -> 0 | GW40: 1 | GX40: =ROUND(HC40*I40,2) -> 0 | HA40: 0 | HB40: 0 | HC40: =GV40*GW40 -> 0 | HS40: 0 | IK40: 0
A41: 17 | B41: 1 | C41: =ROW(SmtRes!A42) -> 42 | D41: =ROW(EtalonRes!A42) -> 42 | E41: 7 | F41: 3.27-72-1 | G41: Установка дополнительных щитков (применительно) | H41: 100 знаков | I41: =ROUND(7/100,9) -> 0.07 | J41: 0 | K41: =ROUND(7/100,9) -> 0.07 | O41: =ROUND(CP41,2) -> 3916.67 | P41: =ROUND(CQ41*I41,2) -> 0 | Q41: =ROUND(CR41*I41,2) -> 0 | R41: =ROUND(CS41*I41,2) -> 0 | S41: =ROUND(CT41*I41,2) -> 3916.67 | T41: =ROUND(CU41*I41,2) -> 0 | U41: =CV41*I41 -> 5.562711 | V41: =CW41*I41 -> 0 | W41: =ROUND(CX41*I41,2) -> 0 | X41: =ROUND(CY41,2) -> 5248.34 | Y41: =ROUND(CZ41,2) -> 2154.17 | AA41: 86511348 | AB41: =(AC41+AD41+AF41) -> 925.221 | AC41: =(ES41) -> 0 | AD41: =((ET41*1.1)) -> 0 | AE41: =((EU41*1.1)) -> 0 | AF41: =((EV41*1.1)) -> 925.221 | AG41: =(AP41) -> 0 | AH41: =((EW41*1.1)) -> 75.9 | AI41: =((EX41*1.1)) -> 0 | AJ41: =(AS41) -> 0 | AK41: 0 | AL41: 0 | AM41: 0 | AN41: 0 | AO41: 841.11 | AP41: 0 | AQ41: 69 | AR41: 0 | AS41: 0 | AT41: 134 | AU41: 55 | AV41: 1.047 | AW41: 1 | AZ41: 1 | BA41: 57.76 | BB41: 1 | BC41: 1.33 | BH41: 0 | BI41: 1 | BJ41: 3.27-72-1 Применительно | BM41: 167 | BN41: 0 | BO41: 3.27-72-1 | BP41: 1 | BQ41: 30 | BR41: 0 | BS41: 57.76 | BT41: 1 | BU41: 1 | BV41: 1 | BW41: 1 | BX41: 1 | BZ41: 134 | CA41: 55 | CE41: 0 | CF41: 0 | CG41: 0 | CM41: 0 | CN41: Поправка:стеснённые условия, пп. "в" | CO41: 0 | CP41: =(P41+Q41+S41) -> 3916.67 | CQ41: =(AC41*BC41*AW41) -> 0 | CR41: =(((ET41*1.1))*BB41*AV41) -> 0 | CS41: =(AE41*BS41*AV41) -> 0 | CT41: =(AF41*BA41*AV41) -> 55952.481 | CU41: =AG41 -> 0 | CV41: =(AH41*AV41) -> 79.4673 | CW41: =AI41 -> 0 | CX41: =AJ41 -> 0 | CY41: =(S41+R41)*(BZ41/100) -> 5248.3378 | CZ41: =(S41+R41)*(CA41/100) -> 2154.1685 | DE41: *1,1 | DF41: *1,1 | DG41: *1,1 | DI41: *1,1 | DJ41: *1,1 | DN41: 134 | DO41: 55 | DP41: 1 | DQ41: 1 | DU41: 1013 | DV41: 100 знаков | DW41: 100 знаков | DX41: 1 | EE41: 86330795 | EF41: 30 | EG41: Строительные работы | EH41: 0 | EJ41: 1 | EK41: 167 | EL41: ТСН-2001.3-27. 27-71, 27-72 | EM41: ТСН-2001.3-27-22 | EO41: Попр.12.00.01.11.003 | EQ41: 0 | ER41: 0 | ES41: 0 | ET41: 0 | EU41: 0 | EV41: 841.11 | EW41: 69 | EX41: 0 | EY41: 0 | FQ41: 0 | FR41: 0 | FS41: 0 | FX41: 134 | FY41: 55 | GD41: 1 | GF41: 1866548898 | GG41: 2 | GH41: 0 | GI41: -2 | GJ41: 0 | GK41: 0 | GL41: =ROUND(IF(AND(BH41=3,BI41=3,FS41<>0),P41,0),2) -> 0 | GM41: =ROUND(O41+X41+Y41,2)+GX41 -> 11319.18 | GN41: =IF(OR(BI41=0,BI41=1),GM41-GX41,0) -> 11319.18 | GO41: =IF(BI41=2,GM41-GX41,0) -> 0 | GP41: =IF(BI41=4,GM41-GX41,0) -> 0 | GR41: 0 | GS41: 3 | GT41: 0 | GV41: =(GT41) -> 0 | GW41: 1.33 | GX41: =ROUND(HC41*I41,2) -> 0 | HA41: 0 | HB41: 0 | HC41: =GV41*GW41 -> 0 | HS41: 0 | IK41: 0
A42: 17 | B42: 1 | C42: =ROW(SmtRes!A45) -> 45 | D42: =ROW(EtalonRes!A45) -> 45 | E42: 8 | F42: 3.27-72-1 | G42: Установка дополнительных щитков (применительно) | H42: 100 знаков | I42: =ROUND(2/100,9) -> 0.02 | J42: 0 | K42: =ROUND(2/100,9) -> 0.02 | O42: =ROUND(CP42,2) -> 19.37 | P42: =ROUND(CQ42*I42,2) -> 0 | Q42: =ROUND(CR42*I42,2) -> 0 | R42: =ROUND(CS42*I42,2) -> 0 | S42: =ROUND(CT42*I42,2) -> 19.37 | T42: =ROUND(CU42*I42,2) -> 0 | U42: =CV42*I42 -> 1.589346 | V42: =CW42*I42 -> 0 | W42: =ROUND(CX42*I42,2) -> 0 | X42: =ROUND(CY42,2) -> 25.96 | Y42: =ROUND(CZ42,2) -> 10.65 | AA42: 86511347 | AB42: =(AC42+AD42+AF42) -> 925.221 | AC42: =(ES42) -> 0 | AD42: =((ET42*1.1)) -> 0 | AE42: =((EU42*1.1)) -> 0 | AF42: =((EV42*1.1)) -> 925.221 | AG42: =(AP42) -> 0 | AH42: =((EW42*1.1)) -> 75.9 | AI42: =((EX42*1.1)) -> 0 | AJ42: =(AS42) -> 0 | AK42: 0 | AL42: 0 | AM42: 0 | AN42: 0 | AO42: 841.11 | AP42: 0 | AQ42: 69 | AR42: 0 | AS42: 0 | AT42: 134 | AU42: 55 | AV42: 1.047 | AW42: 1 | AZ42: 1 | BA42: 1 | BB42: 1 | BC42: 1 | BH42: 0 | BI42: 1 | BJ42: 3.27-72-1 Применительно | BM42: 167 | BN42: 0 | BO42: 3.27-72-1 | BP42: 1 | BQ42: 30 | BR42: 0 | BS42: 1 | BT42: 1 | BU42: 1 | BV42: 1 | BW42: 1 | BX42: 1 | BZ42: 134 | CA42: 55 | CE42: 0 | CF42: 0 | CG42: 0 | CM42: 0 | CN42: Поправка:стеснённые условия, пп. "в" | CO42: 0 | CP42: =(P42+Q42+S42) -> 19.37 | CQ42: =(AC42*BC42*AW42) -> 0 | CR42: =(((ET42*1.1))*BB42*AV42) -> 0 | CS42: =(AE42*BS42*AV42) -> 0 | CT42: =(AF42*BA42*AV42) -> 968.70639 | CU42: =AG42 -> 0 | CV42: =(AH42*AV42) -> 79.4673 | CW42: =AI42 -> 0 | CX42: =AJ42 -> 0 | CY42: =(((S42+R42)*BZ42)/100) -> 25.9558 | CZ42: =(((S42+R42)*CA42)/100) -> 10.6535 | DE42: *1,1 | DF42: *1,1 | DG42: *1,1 | DI42: *1,1 | DJ42: *1,1 | DN42: 0 | DO42: 0 | DP42: 1 | DQ42: 1 | DU42: 1013 | DV42: 100 знаков | DW42: 100 знаков | DX42: 1 | EE42: 86330795 | EF42: 30 | EG42: Строительные работы | EH42: 0 | EJ42: 1 | EK42: 167 | EL42: ТСН-2001.3-27. 27-71, 27-72 | EM42: ТСН-2001.3-27-22 | EO42: Попр.12.00.01.11.003 | EQ42: 0 | ER42: 0 | ES42: 0 | ET42: 0 | EU42: 0 | EV42: 841.11 | EW42: 69 | EX42: 0 | EY42: 0 | FQ42: 0 | FR42: 0 | FS42: 0 | FX42: 134 | FY42: 55 | GD42: 1 | GF42: 771577698 | GG42: 2 | GH42: 0 | GI42: -2 | GJ42: 0 | GK42: 0 | GL42: =ROUND(IF(AND(BH42=3,BI42=3,FS42<>0),P42,0),2) -> 0 | GM42: =ROUND(O42+X42+Y42,2)+GX42 -> 55.98 | GN42: =IF(OR(BI42=0,BI42=1),GM42-GX42,0) -> 55.98 | GO42: =IF(BI42=2,GM42-GX42,0) -> 0 | GP42: =IF(BI42=4,GM42-GX42,0) -> 0 | GR42: 0 | GS42: 3 | GT42: 0 | GV42: =(GT42) -> 0 | GW42: 1 | GX42: =ROUND(HC42*I42,2) -> 0 | HA42: 0 | HB42: 0 | HC42: =GV42*GW42 -> 0 | HS42: 0 | IK42: 0
A43: 17 | B43: 1 | C43: =ROW(SmtRes!A48) -> 48 | D43: =ROW(EtalonRes!A48) -> 48 | E43: 8 | F43: 3.27-72-1 | G43: Установка дополнительных щитков (применительно) | H43: 100 знаков | I43: =ROUND(2/100,9) -> 0.02 | J43: 0 | K43: =ROUND(2/100,9) -> 0.02 | O43: =ROUND(CP43,2) -> 1119.05 | P43: =ROUND(CQ43*I43,2) -> 0 | Q43: =ROUND(CR43*I43,2) -> 0 | R43: =ROUND(CS43*I43,2) -> 0 | S43: =ROUND(CT43*I43,2) -> 1119.05 | T43: =ROUND(CU43*I43,2) -> 0 | U43: =CV43*I43 -> 1.589346 | V43: =CW43*I43 -> 0 | W43: =ROUND(CX43*I43,2) -> 0 | X43: =ROUND(CY43,2) -> 1499.53 | Y43: =ROUND(CZ43,2) -> 615.48 | AA43: 86511348 | AB43: =(AC43+AD43+AF43) -> 925.221 | AC43: =(ES43) -> 0 | AD43: =((ET43*1.1)) -> 0 | AE43: =((EU43*1.1)) -> 0 | AF43: =((EV43*1.1)) -> 925.221 | AG43: =(AP43) -> 0 | AH43: =((EW43*1.1)) -> 75.9 | AI43: =((EX43*1.1)) -> 0 | AJ43: =(AS43) -> 0 | AK43: 0 | AL43: 0 | AM43: 0 | AN43: 0 | AO43: 841.11 | AP43: 0 | AQ43: 69 | AR43: 0 | AS43: 0 | AT43: 134 | AU43: 55 | AV43: 1.047 | AW43: 1 | AZ43: 1 | BA43: 57.76 | BB43: 1 | BC43: 1.33 | BH43: 0 | BI43: 1 | BJ43: 3.27-72-1 Применительно | BM43: 167 | BN43: 0 | BO43: 3.27-72-1 | BP43: 1 | BQ43: 30 | BR43: 0 | BS43: 57.76 | BT43: 1 | BU43: 1 | BV43: 1 | BW43: 1 | BX43: 1 | BZ43: 134 | CA43: 55 | CE43: 0 | CF43: 0 | CG43: 0 | CM43: 0 | CN43: Поправка:стеснённые условия, пп. "в" | CO43: 0 | CP43: =(P43+Q43+S43) -> 1119.05 | CQ43: =(AC43*BC43*AW43) -> 0 | CR43: =(((ET43*1.1))*BB43*AV43) -> 0 | CS43: =(AE43*BS43*AV43) -> 0 | CT43: =(AF43*BA43*AV43) -> 55952.481 | CU43: =AG43 -> 0 | CV43: =(AH43*AV43) -> 79.4673 | CW43: =AI43 -> 0 | CX43: =AJ43 -> 0 | CY43: =(S43+R43)*(BZ43/100) -> 1499.527 | CZ43: =(S43+R43)*(CA43/100) -> 615.4775 | DE43: *1,1 | DF43: *1,1 | DG43: *1,1 | DI43: *1,1 | DJ43: *1,1 | DN43: 134 | DO43: 55 | DP43: 1 | DQ43: 1 | DU43: 1013 | DV43: 100 знаков | DW43: 100 знаков | DX43: 1 | EE43: 86330795 | EF43: 30 | EG43: Строительные работы | EH43: 0 | EJ43: 1 | EK43: 167 | EL43: ТСН-2001.3-27. 27-71, 27-72 | EM43: ТСН-2001.3-27-22 | EO43: Попр.12.00.01.11.003 | EQ43: 0 | ER43: 0 | ES43: 0 | ET43: 0 | EU43: 0 | EV43: 841.11 | EW43: 69 | EX43: 0 | EY43: 0 | FQ43: 0 | FR43: 0 | FS43: 0 | FX43: 134 | FY43: 55 | GD43: 1 | GF43: 771577698 | GG43: 2 | GH43: 0 | GI43: -2 | GJ43: 0 | GK43: 0 | GL43: =ROUND(IF(AND(BH43=3,BI43=3,FS43<>0),P43,0),2) -> 0 | GM43: =ROUND(O43+X43+Y43,2)+GX43 -> 3234.06 | GN43: =IF(OR(BI43=0,BI43=1),GM43-GX43,0) -> 3234.06 | GO43: =IF(BI43=2,GM43-GX43,0) -> 0 | GP43: =IF(BI43=4,GM43-GX43,0) -> 0 | GR43: 0 | GS43: 3 | GT43: 0 | GV43: =(GT43) -> 0 | GW43: 1.33 | GX43: =ROUND(HC43*I43,2) -> 0 | HA43: 0 | HB43: 0 | HC43: =GV43*GW43 -> 0 | HS43: 0 | IK43: 0
A44: 17 | B44: 1 | C44: =ROW(SmtRes!A51) -> 51 | D44: =ROW(EtalonRes!A51) -> 51 | E44: 9 | F44: 3.27-72-1 | G44: Установка дополнительных щитков (применительно) | H44: 100 знаков | I44: =ROUND(1/100,9) -> 0.01 | J44: 0 | K44: =ROUND(1/100,9) -> 0.01 | O44: =ROUND(CP44,2) -> 9.69 | P44: =ROUND(CQ44*I44,2) -> 0 | Q44: =ROUND(CR44*I44,2) -> 0 | R44: =ROUND(CS44*I44,2) -> 0 | S44: =ROUND(CT44*I44,2) -> 9.69 | T44: =ROUND(CU44*I44,2) -> 0 | U44: =CV44*I44 -> 0.794673 | V44: =CW44*I44 -> 0 | W44: =ROUND(CX44*I44,2) -> 0 | X44: =ROUND(CY44,2) -> 12.98 | Y44: =ROUND(CZ44,2) -> 5.33 | AA44: 86511347 | AB44: =(AC44+AD44+AF44) -> 925.221 | AC44: =(ES44) -> 0 | AD44: =((ET44*1.1)) -> 0 | AE44: =((EU44*1.1)) -> 0 | AF44: =((EV44*1.1)) -> 925.221 | AG44: =(AP44) -> 0 | AH44: =((EW44*1.1)) -> 75.9 | AI44: =((EX44*1.1)) -> 0 | AJ44: =(AS44) -> 0 | AK44: 0 | AL44: 0 | AM44: 0 | AN44: 0 | AO44: 841.11 | AP44: 0 | AQ44: 69 | AR44: 0 | AS44: 0 | AT44: 134 | AU44: 55 | AV44: 1.047 | AW44: 1 | AZ44: 1 | BA44: 1 | BB44: 1 | BC44: 1 | BH44: 0 | BI44: 1 | BJ44: 3.27-72-1 Применительно | BM44: 167 | BN44: 0 | BO44: 3.27-72-1 | BP44: 1 | BQ44: 30 | BR44: 0 | BS44: 1 | BT44: 1 | BU44: 1 | BV44: 1 | BW44: 1 | BX44: 1 | BZ44: 134 | CA44: 55 | CE44: 0 | CF44: 0 | CG44: 0 | CM44: 0 | CN44: Поправка:стеснённые условия, пп. "в" | CO44: 0 | CP44: =(P44+Q44+S44) -> 9.69 | CQ44: =(AC44*BC44*AW44) -> 0 | CR44: =(((ET44*1.1))*BB44*AV44) -> 0 | CS44: =(AE44*BS44*AV44) -> 0 | CT44: =(AF44*BA44*AV44) -> 968.70639 | CU44: =AG44 -> 0 | CV44: =(AH44*AV44) -> 79.4673 | CW44: =AI44 -> 0 | CX44: =AJ44 -> 0 | CY44: =(((S44+R44)*BZ44)/100) -> 12.9846 | CZ44: =(((S44+R44)*CA44)/100) -> 5.3295 | DE44: *1,1 | DF44: *1,1 | DG44: *1,1 | DI44: *1,1 | DJ44: *1,1 | DN44: 0 | DO44: 0 | DP44: 1 | DQ44: 1 | DU44: 1013 | DV44: 100 знаков | DW44: 100 знаков | DX44: 1 | EE44: 86330795 | EF44: 30 | EG44: Строительные работы | EH44: 0 | EJ44: 1 | EK44: 167 | EL44: ТСН-2001.3-27. 27-71, 27-72 | EM44: ТСН-2001.3-27-22 | EO44: Попр.12.00.01.11.003 | EQ44: 0 | ER44: 0 | ES44: 0 | ET44: 0 | EU44: 0 | EV44: 841.11 | EW44: 69 | EX44: 0 | EY44: 0 | FQ44: 0 | FR44: 0 | FS44: 0 | FX44: 134 | FY44: 55 | GD44: 1 | GF44: 1839706674 | GG44: 2 | GH44: 0 | GI44: -2 | GJ44: 0 | GK44: 0 | GL44: =ROUND(IF(AND(BH44=3,BI44=3,FS44<>0),P44,0),2) -> 0 | GM44: =ROUND(O44+X44+Y44,2)+GX44 -> 28 | GN44: =IF(OR(BI44=0,BI44=1),GM44-GX44,0) -> 28 | GO44: =IF(BI44=2,GM44-GX44,0) -> 0 | GP44: =IF(BI44=4,GM44-GX44,0) -> 0 | GR44: 0 | GS44: 3 | GT44: 0 | GV44: =(GT44) -> 0 | GW44: 1 | GX44: =ROUND(HC44*I44,2) -> 0 | HA44: 0 | HB44: 0 | HC44: =GV44*GW44 -> 0 | HS44: 0 | IK44: 0
A45: 17 | B45: 1 | C45: =ROW(SmtRes!A54) -> 54 | D45: =ROW(EtalonRes!A54) -> 54 | E45: 9 | F45: 3.27-72-1 | G45: Установка дополнительных щитков (применительно) | H45: 100 знаков | I45: =ROUND(1/100,9) -> 0.01 | J45: 0 | K45: =ROUND(1/100,9) -> 0.01 | O45: =ROUND(CP45,2) -> 559.52 | P45: =ROUND(CQ45*I45,2) -> 0 | Q45: =ROUND(CR45*I45,2) -> 0 | R45: =ROUND(CS45*I45,2) -> 0 | S45: =ROUND(CT45*I45,2) -> 559.52 | T45: =ROUND(CU45*I45,2) -> 0 | U45: =CV45*I45 -> 0.794673 | V45: =CW45*I45 -> 0 | W45: =ROUND(CX45*I45,2) -> 0 | X45: =ROUND(CY45,2) -> 749.76 | Y45: =ROUND(CZ45,2) -> 307.74 | AA45: 86511348 | AB45: =(AC45+AD45+AF45) -> 925.221 | AC45: =(ES45) -> 0 | AD45: =((ET45*1.1)) -> 0 | AE45: =((EU45*1.1)) -> 0 | AF45: =((EV45*1.1)) -> 925.221 | AG45: =(AP45) -> 0 | AH45: =((EW45*1.1)) -> 75.9 | AI45: =((EX45*1.1)) -> 0 | AJ45: =(AS45) -> 0 | AK45: 0 | AL45: 0 | AM45: 0 | AN45: 0 | AO45: 841.11 | AP45: 0 | AQ45: 69 | AR45: 0 | AS45: 0 | AT45: 134 | AU45: 55 | AV45: 1.047 | AW45: 1 | AZ45: 1 | BA45: 57.76 | BB45: 1 | BC45: 1.33 | BH45: 0 | BI45: 1 | BJ45: 3.27-72-1 Применительно | BM45: 167 | BN45: 0 | BO45: 3.27-72-1 | BP45: 1 | BQ45: 30 | BR45: 0 | BS45: 57.76 | BT45: 1 | BU45: 1 | BV45: 1 | BW45: 1 | BX45: 1 | BZ45: 134 | CA45: 55 | CE45: 0 | CF45: 0 | CG45: 0 | CM45: 0 | CN45: Поправка:стеснённые условия, пп. "в" | CO45: 0 | CP45: =(P45+Q45+S45) -> 559.52 | CQ45: =(AC45*BC45*AW45) -> 0 | CR45: =(((ET45*1.1))*BB45*AV45) -> 0 | CS45: =(AE45*BS45*AV45) -> 0 | CT45: =(AF45*BA45*AV45) -> 55952.481 | CU45: =AG45 -> 0 | CV45: =(AH45*AV45) -> 79.4673 | CW45: =AI45 -> 0 | CX45: =AJ45 -> 0 | CY45: =(S45+R45)*(BZ45/100) -> 749.7568 | CZ45: =(S45+R45)*(CA45/100) -> 307.736 | DE45: *1,1 | DF45: *1,1 | DG45: *1,1 | DI45: *1,1 | DJ45: *1,1 | DN45: 134 | DO45: 55 | DP45: 1 | DQ45: 1 | DU45: 1013 | DV45: 100 знаков | DW45: 100 знаков | DX45: 1 | EE45: 86330795 | EF45: 30 | EG45: Строительные работы | EH45: 0 | EJ45: 1 | EK45: 167 | EL45: ТСН-2001.3-27. 27-71, 27-72 | EM45: ТСН-2001.3-27-22 | EO45: Попр.12.00.01.11.003 | EQ45: 0 | ER45: 0 | ES45: 0 | ET45: 0 | EU45: 0 | EV45: 841.11 | EW45: 69 | EX45: 0 | EY45: 0 | FQ45: 0 | FR45: 0 | FS45: 0 | FX45: 134 | FY45: 55 | GD45: 1 | GF45: 1839706674 | GG45: 2 | GH45: 0 | GI45: -2 | GJ45: 0 | GK45: 0 | GL45: =ROUND(IF(AND(BH45=3,BI45=3,FS45<>0),P45,0),2) -> 0 | GM45: =ROUND(O45+X45+Y45,2)+GX45 -> 1617.02 | GN45: =IF(OR(BI45=0,BI45=1),GM45-GX45,0) -> 1617.02 | GO45: =IF(BI45=2,GM45-GX45,0) -> 0 | GP45: =IF(BI45=4,GM45-GX45,0) -> 0 | GR45: 0 | GS45: 3 | GT45: 0 | GV45: =(GT45) -> 0 | GW45: 1.33 | GX45: =ROUND(HC45*I45,2) -> 0 | HA45: 0 | HB45: 0 | HC45: =GV45*GW45 -> 0 | HS45: 0 | IK45: 0
A46: 17 | B46: 1 | C46: =ROW(SmtRes!A57) -> 57 | D46: =ROW(EtalonRes!A57) -> 57 | E46: 10 | F46: 3.27-72-1 | G46: Установка дополнительных щитков (применительно) | H46: 100 знаков | I46: =ROUND(9/100,9) -> 0.09 | J46: 0 | K46: =ROUND(9/100,9) -> 0.09 | O46: =ROUND(CP46,2) -> 87.18 | P46: =ROUND(CQ46*I46,2) -> 0 | Q46: =ROUND(CR46*I46,2) -> 0 | R46: =ROUND(CS46*I46,2) -> 0 | S46: =ROUND(CT46*I46,2) -> 87.18 | T46: =ROUND(CU46*I46,2) -> 0 | U46: =CV46*I46 -> 7.152057 | V46: =CW46*I46 -> 0 | W46: =ROUND(CX46*I46,2) -> 0 | X46: =ROUND(CY46,2) -> 116.82 | Y46: =ROUND(CZ46,2) -> 47.95 | AA46: 86511347 | AB46: =(AC46+AD46+AF46) -> 925.221 | AC46: =(ES46) -> 0 | AD46: =((ET46*1.1)) -> 0 | AE46: =((EU46*1.1)) -> 0 | AF46: =((EV46*1.1)) -> 925.221 | AG46: =(AP46) -> 0 | AH46: =((EW46*1.1)) -> 75.9 | AI46: =((EX46*1.1)) -> 0 | AJ46: =(AS46) -> 0 | AK46: 0 | AL46: 0 | AM46: 0 | AN46: 0 | AO46: 841.11 | AP46: 0 | AQ46: 69 | AR46: 0 | AS46: 0 | AT46: 134 | AU46: 55 | AV46: 1.047 | AW46: 1 | AZ46: 1 | BA46: 1 | BB46: 1 | BC46: 1 | BH46: 0 | BI46: 1 | BJ46: 3.27-72-1 Применительно | BM46: 167 | BN46: 0 | BO46: 3.27-72-1 | BP46: 1 | BQ46: 30 | BR46: 0 | BS46: 1 | BT46: 1 | BU46: 1 | BV46: 1 | BW46: 1 | BX46: 1 | BZ46: 134 | CA46: 55 | CE46: 0 | CF46: 0 | CG46: 0 | CM46: 0 | CN46: Поправка:стеснённые условия, пп. "в" | CO46: 0 | CP46: =(P46+Q46+S46) -> 87.18 | CQ46: =(AC46*BC46*AW46) -> 0 | CR46: =(((ET46*1.1))*BB46*AV46) -> 0 | CS46: =(AE46*BS46*AV46) -> 0 | CT46: =(AF46*BA46*AV46) -> 968.70639 | CU46: =AG46 -> 0 | CV46: =(AH46*AV46) -> 79.4673 | CW46: =AI46 -> 0 | CX46: =AJ46 -> 0 | CY46: =(((S46+R46)*BZ46)/100) -> 116.8212 | CZ46: =(((S46+R46)*CA46)/100) -> 47.949 | DE46: *1,1 | DF46: *1,1 | DG46: *1,1 | DI46: *1,1 | DJ46: *1,1 | DN46: 0 | DO46: 0 | DP46: 1 | DQ46: 1 | DU46: 1013 | DV46: 100 знаков | DW46: 100 знаков | DX46: 1 | EE46: 86330795 | EF46: 30 | EG46: Строительные работы | EH46: 0 | EJ46: 1 | EK46: 167 | EL46: ТСН-2001.3-27. 27-71, 27-72 | EM46: ТСН-2001.3-27-22 | EO46: Попр.12.00.01.11.003 | EQ46: 0 | ER46: 0 | ES46: 0 | ET46: 0 | EU46: 0 | EV46: 841.11 | EW46: 69 | EX46: 0 | EY46: 0 | FQ46: 0 | FR46: 0 | FS46: 0 | FX46: 134 | FY46: 55 | GD46: 1 | GF46: 430165812 | GG46: 2 | GH46: 0 | GI46: -2 | GJ46: 0 | GK46: 0 | GL46: =ROUND(IF(AND(BH46=3,BI46=3,FS46<>0),P46,0),2) -> 0 | GM46: =ROUND(O46+X46+Y46,2)+GX46 -> 251.95 | GN46: =IF(OR(BI46=0,BI46=1),GM46-GX46,0) -> 251.95 | GO46: =IF(BI46=2,GM46-GX46,0) -> 0 | GP46: =IF(BI46=4,GM46-GX46,0) -> 0 | GR46: 0 | GS46: 3 | GT46: 0 | GV46: =(GT46) -> 0 | GW46: 1 | GX46: =ROUND(HC46*I46,2) -> 0 | HA46: 0 | HB46: 0 | HC46: =GV46*GW46 -> 0 | HS46: 0 | IK46: 0
