Workbook

Sheet СР-09-02
A1: =Source!B1 -> Smeta.RU (495) 974-1589
K2: Форма № 4б
A3: 25МГ-ДПР-2750 — Реконструкция газопровода низкого давления. Перевозка и приём порубочных остатков
A4: (наименование стройки и/или объекта)
A6: =CONCATENATE( "ЛОКАЛЬНАЯ СМЕТА № " ,IF(Source!F12<>"Новый объект", Source!F12, "")) -> ЛОКАЛЬНАЯ СМЕТА № СР-09-02
A9: (наименование работ и затрат)
A11: =CONCATENATE( "Основание: чертежи № " , Source!J12) -> Основание: чертежи № Том 6.2 ООС2, Том 6.3 ООС3 (18.09)
I13: В базисном уровне цен | J13: В текущем уровне цен
E14: Сметная стоимость | I14: =I15+I16+I17+I18 -> 2.76 | J14: =J15+J16+J17+J18 -> 39.61 | K14: тыс.руб.
E15: Строительные работы | I15: =ROUND((Source!F151)/1000, 2) -> 0 | J15: =ROUND((Source!P151)/1000, 2) -> 0 | K15: тыс.руб.
E16: Работы по монтажу оборудования | I16: =ROUND((Source!F152)/1000, 2) -> 0 | J16: =ROUND((Source!P152)/1000, 2) -> 0 | K16: тыс.руб.
E17: Оборудование | I17: =ROUND((Source!F143)/1000, 2) -> 0 | J17: =ROUND((Source!P143)/1000, 2) -> 0 | K17: тыс.руб.
E18: Прочие работы и затраты | I18: =ROUND((Source!F153+Source!F154)/1000, 2) -> 2.76 | J18: =ROUND((Source!P153+Source!P154)/1000, 2) -> 39.61 | K18: тыс.руб.
E19: Средства на оплату труда | I19: =(Source!F149+ Source!F148)/1000 -> 0 | J19: =((Source!P149 + Source!P148)/1000) -> 0 | K19: тыс.руб.
E20: Затраты труда | I20: =Source!F156 -> 0 | K20: чел.-ч.
E21: Кроме того:
E22: Возврат материалов | I22: =SUM(Y1:Y80)/1000 -> 0 | J22: =SUM(Z1:Z80)/1000 -> 0 | K22: тыс.руб.
A24: Составлен(а) по ТСН-2001 с учетом Дополнения №: 82
A25: № и период сборника коэффициентов (индексов) пересчета: Текущий уровень цен, III квартал 2026, выпуск 221 | AP25: № и период сборника коэффициентов (индексов) пересчета: Текущий уровень цен, III квартал 2026, выпуск 221
A26: № п/п | B26: Шифр расценки и коды ресурсов | C26: Наименование работ и затрат | D26: Ед. изм. | E26: Кол-во единиц | F26: Цена на ед. изм., руб. | G26: Попра- вочные коэффи- циенты | H26: Коэффи- циенты зимних удорожа- ний | I26: Всего в ценах на Январь 2000 года, руб. | J26: Коэффи- циенты (индек- сы) пере- счета, нормы НР и СП | K26: ВСЕГО затрат в текущем уровне цен, руб.
A27: 1 | B27: 2 | C27: 3 | D27: 4 | E27: 5 | F27: 6 | G27: 7 | H27: 8 | I27: 9 | J27: 10 | K27: 11
A29: =CONCATENATE("Локальная смета: ",IF(Source!G20<>"Новая локальная смета", Source!G20, "")) -> Локальная смета: Перевозка и приём порубочных остатков
A31: =CONCATENATE("Раздел: ",IF(Source!G24<>"Новый раздел", Source!G24, "")) -> Раздел: Перевозка и приём порубочных остатков
A32: 1 | B32: =Source!F28 -> 15.2-30-42 | C32: Перевозка строительного мусора на расстояние до 30 км автосамосвалами грузоподъемностью до 10 т | D32: =Source!H28 -> т | E32: =Source!I28 -> 25.57 | Q32: =Source!X28 -> 0 | R32: =Source!X29 -> 0 | S32: =Source!Y28 -> 0 | T32: =Source!Y29 -> 0 | U32: =ROUND((175/100)*ROUND(Source!R28, 2), 2) -> 0 | V32: =ROUND((0/100)*ROUND(Source!R29, 2), 2) -> 0 | AC32: 0
C33: ЭМ | F33: =Source!AM28 -> 38.08 | G33: 1,5 | H33: =Source!AV29 -> 1 | I33: =Source!Q28 -> 1460.56 | J33: =IF(Source!BB29<> 0, Source!BB29, 1) -> 18.93 | K33: =Source!Q29 -> 27648.37
C34: ВСЕГО работ по позиции: | H34: =I33+0-0-0 -> 1460.56 | J34: =K33+0-0-0 -> 27648.37
C35: ВСЕГО оборудование по позиции: | H35: =0+0 -> 0 | J35: =0+0 -> 0
C36: ВСЕГО по позиции: | H36: =I33+0 -> 1460.56 | J36: =K33+0 -> 27648.37 | O36: =I33+0 -> 1460.56 | P36: =K33+0 -> 27648.37
A38: 2 | B38: =Source!F30 -> 15.1-1503-01 | C38: Отходы сучьев, ветвей, вершинок от лесоразработок, практически неопасные | D38: =Source!H30 -> 1 Т | E38: =Source!I30 -> 1.92 | Q38: =Source!X30 -> 0 | R38: =Source!X31 -> 0 | S38: =Source!Y30 -> 0 | T38: =Source!Y31 -> 0 | U38: =ROUND((175/100)*ROUND(Source!R30, 2), 2) -> 0 | V38: =ROUND((0/100)*ROUND(Source!R31, 2), 2) -> 0 | AC38: 0
C39: ЭМ | F39: =Source!AM30 -> 94.47 | H39: =Source!AV31 -> 1 | I39: =Source!Q30 -> 181.38 | J39: =IF(Source!BB31<> 0, Source!BB31, 1) -> 5.02 | K39: =Source!Q31 -> 910.54
C40: ВСЕГО работ по позиции: | H40: =I39+0-0-0 -> 181.38 | J40: =K39+0-0-0 -> 910.54
C41: ВСЕГО оборудование по позиции: | H41: =0+0 -> 0 | J41: =0+0 -> 0
C42: ВСЕГО по позиции: | H42: =I39+0 -> 181.38 | J42: =K39+0 -> 910.54 | O42: =I39+0 -> 181.38 | P42: =K39+0 -> 910.54
A44: 3 | B44: =Source!F32 -> 15.1-1503-05 | C44: Отходы малоценной древесины (хворост, валежник, обломки стволов) | D44: =Source!H32 -> 1 Т | E44: =Source!I32 -> 23.65 | Q44: =Source!X32 -> 0 | R44: =Source!X33 -> 0 | S44: =Source!Y32 -> 0 | T44: =Source!Y33 -> 0 | U44: =ROUND((175/100)*ROUND(Source!R32, 2), 2) -> 0 | V44: =ROUND((0/100)*ROUND(Source!R33, 2), 2) -> 0 | AC44: 0
C45: ЭМ | F45: =Source!AM32 -> 29.07 | H45: =Source!AV33 -> 1 | I45: =Source!Q32 -> 687.51 | J45: =IF(Source!BB33<> 0, Source!BB33, 1) -> 10.25 | K45: =Source!Q33 -> 7046.93
C46: ВСЕГО работ по позиции: | H46: =I45+0-0-0 -> 687.51 | J46: =K45+0-0-0 -> 7046.93
C47: ВСЕГО оборудование по позиции: | H47: =0+0 -> 0 | J47: =0+0 -> 0
C48: ВСЕГО по позиции: | H48: =I45+0 -> 687.51 | J48: =K45+0 -> 7046.93 | O48: =I45+0 -> 687.51 | P48: =K45+0 -> 7046.93
A51: =CONCATENATE("Итого по разделу: ",IF(Source!G35<>"Новый раздел", Source!G35, "")) -> Итого по разделу: Перевозка и приём порубочных остатков | I51: =SUM(O31:O50) -> 2329.45 | J51: =SUM(P31:P50) -> 35605.84
A52: Итого по ТСН-2001.16 | I52: =SUM(W31:W51) -> 0 | J52: =SUM(X31:X51) -> 0
...

Sheet Source
A1: 0 | B1: Smeta.RU (495) 974-1589 | D1: _PS_ | F1: 0 | G1: 0 | H1: 0 | I1: Smeta.RU | K1: 1 | L1: 76812 | M1: 10 | N1: 12 | O1: 2 | P1: 0 | Q1: 1
A4: 8 | B4: 1 | C4: -1 | F4: 25МГ-ДПР-2750 | G4: 25МГ-ДПР-2750 — Реконструкция газопровода низкого давления | EC4: 0
A12: 1 | B12: 169 | C12: 0 | D12: =ROW(A134) -> 134 | E12: 0 | F12: СР-09-02 | G12: Перевозка и приём порубочных остатков | I12: 0 | J12: Том 6.2 ООС2, Том 6.3 ООС3 (18.09) | K12: 0 | L12: 0 | M12: 2 | O12: 2026 | P12: 7 | Q12: 0 | R12: 0 | S12: 0 | T12: 1 | U12: Основание:Том 6.2 ООС2, Том 6.3 ООС3 (18.09) Уровень цен:3 кв 2026 Нормативные индексы ТСН:№ 221 III квартал 2026 Регион:ТСН-2001 г. Москвы (с доп.1-82) | V12: 9 | BB12: 0 | BH12: Сметные нормы списания | BI12: Коды ОКП для ТСН-2001 МГЭ | BJ12: 1 | BK12: 1 | BL12: 0 | BM12: 0 | BN12: 1 | BO12: 0 | BP12: -1 | BQ12: 2 | BR12: 1 | BS12: 0 | BT12: 0 | BU12: 0 | BV12: 0 | BW12: 0 | BX12: 0 | BZ12: Типовой расчет для ТСН-2001 МГЭ, Новая методика с выпуска доп. 43 (Строительство), Доп 64 | CA12: Территориальные сметные нормативы для Москвы ТСН-2001 (МГЭ) | CB12: Территориальные сметные нормативы для Москвы ТСН-2001 (МГЭ) | CC12: Территориальные сметные нормативы для Москвы ТСН-2001 (МГЭ) | CD12: Территориальные сметные нормативы для Москвы ТСН-2001 (МГЭ) | CE12: Поправки для ТСН-2001 от 15.07.2022 г. доп.65 | CF12: 0 | CG12: 0 | CH12: 524296 | CK12: 82 | CQ12: Территориальные сметные нормативы для Москвы (ТСН-2001) | CR12: ТЕР | CS12: 41660 | CT12: 1 | CU12: 72 | CY12: 0 | EC12: 0
A15: 15 | B15: 1
A18: 52 | B18: =B134 -> 169 | C18: =C134 -> 1 | D18: =D134 -> 12 | E18: =E134 -> 0 | F18: =F134 -> СР-09-02 | G18: =G134 -> Перевозка и приём порубочных остатков | O18: =O134 -> 2757.05 | P18: =P134 -> 0 | Q18: =Q134 -> 2757.05 | R18: =R134 -> 0 | S18: =S134 -> 0 | T18: =T134 -> 0 | U18: =U134 -> 0 | V18: =V134 -> 0 | ... GX18: =GX134 -> 0
A20: 3 | B20: 1 | D20: =ROW(A104) -> 104 | F20: СР-09-02 | G20: Перевозка и приём порубочных остатков | I20: 0 | K20: 0 | L20: СР-09-02 | S20: 0 | T20: 0 | U20: Перевозка и приём порубочных остатков | V20: 9 | BX20: 0 | CF20: 0 | CG20: 0
A22: 52 | B22: =B104 -> 1 | C22: =C104 -> 3 | D22: =D104 -> 20 | E22: =E104 -> 0 | F22: =F104 -> СР-09-02 | G22: =G104 -> Перевозка и приём порубочных остатков | O22: =O104 -> 2757.05 | P22: =P104 -> 0 | Q22: =Q104 -> 2757.05 | R22: =R104 -> 0 | S22: =S104 -> 0 | T22: =T104 -> 0 | U22: =U104 -> 0 | V22: =V104 -> 0 | ... GX22: =GX104 -> 0
A24: 4 | B24: 1 | D24: =ROW(A35) -> 35 | F24: 1 | G24: Перевозка и приём порубочных остатков | I24: 0 | K24: -1 | S24: 0 | T24: 0 | V24: 9 | BX24: 0 | CJ24: 0
A26: 52 | B26: =B35 -> 1 | C26: =C35 -> 4 | D26: =D35 -> 24 | E26: =E35 -> 0 | F26: =F35 -> 1 | G26: =G35 -> Перевозка и приём порубочных остатков | O26: =O35 -> 2329.45 | P26: =P35 -> 0 | Q26: =Q35 -> 2329.45 | R26: =R35 -> 0 | S26: =S35 -> 0 | T26: =T35 -> 0 | U26: =U35 -> 0 | V26: =V35 -> 0 | ... GX26: =GX35 -> 0
A28: 17 | B28: 1 | C28: =ROW(SmtRes!A1) -> 1 | D28: =ROW(EtalonRes!A1) -> 1 | E28: 1 | F28: 15.2-30-42 | G28: Перевозка строительного мусора на расстояние до 30 км автосамосвалами грузоподъемностью до 10 т | H28: т | I28: =ROUND(25.57,9) -> 25.57 | J28: 0 | K28: =ROUND(25.57,9) -> 25.57 | O28: =ROUND(CP28,2) -> 1460.56 | P28: =ROUND(CQ28*I28,2) -> 0 | Q28: =ROUND(CR28*I28,2) -> 1460.56 | R28: =ROUND(CS28*I28,2) -> 0 | S28: =ROUND(CT28*I28,2) -> 0 | T28: =ROUND(CU28*I28,2) -> 0 | U28: =CV28*I28 -> 0 | V28: =CW28*I28 -> 0 | W28: =ROUND(CX28*I28,2) -> 0 | X28: =ROUND(CY28,2) -> 0 | Y28: =ROUND(CZ28,2) -> 0 | AA28: 86514064 | AB28: =(AC28+AD28+AF28) -> 57.12 | AC28: =(ES28) -> 0 | AD28: =((ET28*1.5)) -> 57.12 | AE28: =(EU28) -> 0 | AF28: =(EV28) -> 0 | AG28: =(AP28) -> 0 | AH28: =(EW28) -> 0 | AI28: =(EX28) -> 0 | AJ28: =(AS28) -> 0 | AK28: 0 | AL28: 0 | AM28: 38.08 | AN28: 0 | AO28: 0 | AP28: 0 | AQ28: 0 | AR28: 0 | AS28: 0 | AT28: 94 | AU28: 61 | AV28: 1 | AW28: 1 | AZ28: 1 | BA28: 1 | BB28: 1 | BC28: 1 | BH28: 0 | BI28: 4 | BJ28: 15.2-30-42 | BM28: 0 | BN28: 0 | BO28: 15.2-30-42 | BP28: 1 | BQ28: 30 | BR28: 0 | BS28: 1 | BT28: 1 | BU28: 1 | BV28: 1 | BW28: 1 | BX28: 1 | BZ28: 94 | CA28: 61 | CE28: 0 | CF28: 0 | CG28: 0 | CM28: 0 | CN28: Поправка:вывоз мусора от валки деревьев (объёмная масса < 0,8 т/м3) | CO28: 0 | CP28: =(P28+Q28+S28) -> 1460.56 | CQ28: =(AC28*BC28*AW28) -> 0 | CR28: =(((ET28*1.5))*BB28*AV28) -> 57.12 | CS28: =(AE28*BS28*AV28) -> 0 | CT28: =(AF28*BA28*AV28) -> 0 | CU28: =AG28 -> 0 | CV28: =(AH28*AV28) -> 0 | CW28: =AI28 -> 0 | CX28: =AJ28 -> 0 | CY28: =(((S28+R28)*BZ28)/100) -> 0 | CZ28: =(((S28+R28)*CA28)/100) -> 0 | DE28: *1,5 | DN28: 0 | DO28: 0 | DP28: 1 | DQ28: 1 | DU28: 1009 | DV28: т | DW28: т | DX28: 1000 | EE28: 86330672 | EF28: 30 | EG28: Строительные работы | EH28: 0 | EJ28: 4 | EK28: 0 | EL28: Прочие работы | EM28: МЦЦС | EO28: Попр.15.02.04.34.001 | EQ28: 0 | ER28: 0 | ES28: 0 | ET28: 38.08 | EU28: 0 | EV28: 0 | EW28: 0 | EX28: 0 | EY28: 0 | FQ28: 0 | FR28: 0 | FS28: 0 | FX28: 94 | FY28: 61 | GD28: 1 | GF28: 632056864 | GG28: 2 | GH28: 0 | GI28: -2 | GJ28: 0 | GK28: 0 | GL28: =ROUND(IF(AND(BH28=3,BI28=3,FS28<>0),P28,0),2) -> 0 | GM28: =ROUND(O28+X28+Y28,2)+GX28 -> 1460.56 | GN28: =IF(OR(BI28=0,BI28=1),GM28-GX28,0) -> 0 | GO28: =IF(BI28=2,GM28-GX28,0) -> 0 | GP28: =IF(BI28=4,GM28-GX28,0) -> 1460.56 | GR28: 0 | GS28: 3 | GT28: 0 | GV28: =(GT28) -> 0 | GW28: 1 | GX28: =ROUND(HC28*I28,2) -> 0 | HA28: 0 | HB28: 0 | HC28: =GV28*GW28 -> 0 | HS28: 0 | IK28: 0
A29: 17 | B29: 1 | C29: =ROW(SmtRes!A2) -> 2 | D29: =ROW(EtalonRes!A2) -> 2 | E29: 1 | F29: 15.2-30-42 | G29: Перевозка строительного мусора на расстояние до 30 км автосамосвалами грузоподъемностью до 10 т | H29: т | I29: =ROUND(25.57,9) -> 25.57 | J29: 0 | K29: =ROUND(25.57,9) -> 25.57 | O29: =ROUND(CP29,2) -> 27648.37 | P29: =ROUND(CQ29*I29,2) -> 0 | Q29: =ROUND(CR29*I29,2) -> 27648.37 | R29: =ROUND(CS29*I29,2) -> 0 | S29: =ROUND(CT29*I29,2) -> 0 | T29: =ROUND(CU29*I29,2) -> 0 | U29: =CV29*I29 -> 0 | V29: =CW29*I29 -> 0 | W29: =ROUND(CX29*I29,2) -> 0 | X29: =ROUND(CY29,2) -> 0 | Y29: =ROUND(CZ29,2) -> 0 | AA29: 86514065 | AB29: =(AC29+AD29+AF29) -> 57.12 | AC29: =(ES29) -> 0 | AD29: =((ET29*1.5)) -> 57.12 | AE29: =(EU29) -> 0 | AF29: =(EV29) -> 0 | AG29: =(AP29) -> 0 | AH29: =(EW29) -> 0 | AI29: =(EX29) -> 0 | AJ29: =(AS29) -> 0 | AK29: 0 | AL29: 0 | AM29: 38.08 | AN29: 0 | AO29: 0 | AP29: 0 | AQ29: 0 | AR29: 0 | AS29: 0 | AT29: 94 | AU29: 61 | AV29: 1 | AW29: 1 | AZ29: 1 | BA29: 57.76 | BB29: 18.93 | BC29: 1 | BH29: 0 | BI29: 4 | BJ29: 15.2-30-42 | BM29: 0 | BN29: 0 | BO29: 15.2-30-42 | BP29: 1 | BQ29: 30 | BR29: 0 | BS29: 57.76 | BT29: 1 | BU29: 1 | BV29: 1 | BW29: 1 | BX29: 1 | BZ29: 94 | CA29: 61 | CE29: 0 | CF29: 0 | CG29: 0 | CM29: 0 | CN29: Поправка:вывоз мусора от валки деревьев (объёмная масса < 0,8 т/м3) | CO29: 0 | CP29: =(P29+Q29+S29) -> 27648.37 | CQ29: =(AC29*BC29*AW29) -> 0 | CR29: =(((ET29*1.5))*BB29*AV29) -> 1081.2816 | CS29: =(AE29*BS29*AV29) -> 0 | CT29: =(AF29*BA29*AV29) -> 0 | CU29: =AG29 -> 0 | CV29: =(AH29*AV29) -> 0 | CW29: =AI29 -> 0 | CX29: =AJ29 -> 0 | CY29: =(S29+R29)*(BZ29/100) -> 0 | CZ29: =(S29+R29)*(CA29/100) -> 0 | DE29: *1,5 | DN29: 94 | DO29: 61 | DP29: 1 | DQ29: 1 | DU29: 1009 | DV29: т | DW29: т | DX29: 1000 | EE29: 86330672 | EF29: 30 | EG29: Строительные работы | EH29: 0 | EJ29: 4 | EK29: 0 | EL29: Прочие работы | EM29: МЦЦС | EO29: Попр.15.02.04.34.001 | EQ29: 0 | ER29: 0 | ES29: 0 | ET29: 38.08 | EU29: 0 | EV29: 0 | EW29: 0 | EX29: 0 | EY29: 0 | FQ29: 0 | FR29: 0 | FS29: 0 | FX29: 94 | FY29: 61 | GD29: 1 | GF29: 632056864 | GG29: 2 | GH29: 0 | GI29: -2 | GJ29: 0 | GK29: 0 | GL29: =ROUND(IF(AND(BH29=3,BI29=3,FS29<>0),P29,0),2) -> 0 | GM29: =ROUND(O29+X29+Y29,2)+GX29 -> 27648.37 | GN29: =IF(OR(BI29=0,BI29=1),GM29-GX29,0) -> 0 | GO29: =IF(BI29=2,GM29-GX29,0) -> 0 | GP29: =IF(BI29=4,GM29-GX29,0) -> 27648.37 | GR29: 0 | GS29: 3 | GT29: 0 | GV29: =(GT29) -> 0 | GW29: 1 | GX29: =ROUND(HC29*I29,2) -> 0 | HA29: 0 | HB29: 0 | HC29: =GV29*GW29 -> 0 | HS29: 0 | IK29: 0
A30: 17 | B30: 1 | C30: =ROW(SmtRes!A3) -> 3 | D30: =ROW(EtalonRes!A3) -> 3 | E30: 2 | F30: 15.1-1503-01 | G30: Отходы сучьев, ветвей, вершинок от лесоразработок, практически неопасные | H30: 1 Т | I30: =ROUND(1.92,9) -> 1.92 | J30: 0 | K30: =ROUND(1.92,9) -> 1.92 | O30: =ROUND(CP30,2) -> 181.38 | P30: =ROUND(CQ30*I30,2) -> 0 | Q30: =ROUND(CR30*I30,2) -> 181.38 | R30: =ROUND(CS30*I30,2) -> 0 | S30: =ROUND(CT30*I30,2) -> 0 | T30: =ROUND(CU30*I30,2) -> 0 | U30: =CV30*I30 -> 0 | V30: =CW30*I30 -> 0 | W30: =ROUND(CX30*I30,2) -> 0 | X30: =ROUND(CY30,2) -> 0 | Y30: =ROUND(CZ30,2) -> 0 | AA30: 86514064 | AB30: =(AC30+AD30+AF30) -> 94.47 | AC30: =(ES30) -> 0 | AD30: =(ET30) -> 94.47 | AE30: =(EU30) -> 0 | AF30: =(EV30) -> 0 | AG30: =(AP30) -> 0 | AH30: =(EW30) -> 0 | AI30: =(EX30) -> 0 | AJ30: =(AS30) -> 0 | AK30: 0 | AL30: 0 | AM30: 94.47 | AN30: 0 | AO30: 0 | AP30: 0 | AQ30: 0 | AR30: 0 | AS30: 0 | AT30: 0 | AU30: 0 | AV30: 1 | AW30: 1 | AZ30: 1 | BA30: 1 | BB30: 1 | BC30: 1 | BH30: 0 | BI30: 4 | BJ30: 15.1-1503-01 | BM30: 1109 | BN30: 0 | BO30: 15.1-1503-01 | BP30: 1 | BQ30: 150 | BR30: 0 | BS30: 1 | BT30: 1 | BU30: 1 | BV30: 1 | BW30: 1 | BX30: 1 | BZ30: 0 | CA30: 0 | CE30: 0 | CF30: 0 | CG30: 0 | CM30: 0 | CO30: 0 | CP30: =(P30+Q30+S30) -> 181.38 | CQ30: =(AC30*BC30*AW30) -> 0 | CR30: =((ET30)*BB30*AV30) -> 94.47 | CS30: =(AE30*BS30*AV30) -> 0 | CT30: =(AF30*BA30*AV30) -> 0 | CU30: =AG30 -> 0 | CV30: =(AH30*AV30) -> 0 | CW30: =AI30 -> 0 | CX30: =AJ30 -> 0 | CY30: =(((S30+R30)*BZ30)/100) -> 0 | CZ30: =(((S30+R30)*CA30)/100) -> 0 | DN30: 0 | DO30: 0 | DP30: 1 | DQ30: 1 | DU30: 1013 | DV30: 1 Т | DW30: 1 Т | DX30: 1 | EE30: 86331737 | EF30: 150 | EG30: Транспортные затраты | EH30: 0 | EJ30: 4 | EK30: 1109 | EL30: ТСН-2001.15-1. | EM30: ТСН-2001.15-1-1 | EQ30: 0 | ER30: 0 | ES30: 0 | ET30: 94.47 | EU30: 0 | EV30: 0 | EW30: 0 | EX30: 0 | EY30: 0 | FQ30: 0 | FR30: 0 | FS30: 0 | FX30: 0 | FY30: 0 | GD30: 1 | GF30: -1412850781 | GG30: 2 | GH30: 0 | GI30: -2 | GJ30: 0 | GK30: 0 | GL30: =ROUND(IF(AND(BH30=3,BI30=3,FS30<>0),P30,0),2) -> 0 | GM30: =ROUND(O30+X30+Y30,2)+GX30 -> 181.38 | GN30: =IF(OR(BI30=0,BI30=1),GM30-GX30,0) -> 0 | GO30: =IF(BI30=2,GM30-GX30,0) -> 0 | GP30: =IF(BI30=4,GM30-GX30,0) -> 181.38 | GR30: 0 | GS30: 3 | GT30: 0 | GV30: =(GT30) -> 0 | GW30: 1 | GX30: =ROUND(HC30*I30,2) -> 0 | HA30: 0 | HB30: 0 | HC30: =GV30*GW30 -> 0 | HS30: 0 | IK30: 0
A31: 17 | B31: 1 | C31: =ROW(SmtRes!A4) -> 4 | D31: =ROW(EtalonRes!A4) -> 4 | E31: 2 | F31: 15.1-1503-01 | G31: Отходы сучьев, ветвей, вершинок от лесоразработок, практически неопасные | H31: 1 Т | I31: =ROUND(1.92,9) -> 1.92 | J31: 0 | K31: =ROUND(1.92,9) -> 1.92 | O31: =ROUND(CP31,2) -> 910.54 | P31: =ROUND(CQ31*I31,2) -> 0 | Q31: =ROUND(CR31*I31,2) -> 910.54 | R31: =ROUND(CS31*I31,2) -> 0 | S31: =ROUND(CT31*I31,2) -> 0 | T31: =ROUND(CU31*I31,2) -> 0 | U31: =CV31*I31 -> 0 | V31: =CW31*I31 -> 0 | W31: =ROUND(CX31*I31,2) -> 0 | X31: =ROUND(CY31,2) -> 0 | Y31: =ROUND(CZ31,2) -> 0 | AA31: 86514065 | AB31: =(AC31+AD31+AF31) -> 94.47 | AC31: =(ES31) -> 0 | AD31: =(ET31) -> 94.47 | AE31: =(EU31) -> 0 | AF31: =(EV31) -> 0 | AG31: =(AP31) -> 0 | AH31: =(EW31) -> 0 | AI31: =(EX31) -> 0 | AJ31: =(AS31) -> 0 | AK31: 0 | AL31: 0 | AM31: 94.47 | AN31: 0 | AO31: 0 | AP31: 0 | AQ31: 0 | AR31: 0 | AS31: 0 | AT31: 0 | AU31: 0 | AV31: 1 | AW31: 1 | AZ31: 1 | BA31: 57.76 | BB31: 5.02 | BC31: 1 | BH31: 0 | BI31: 4 | BJ31: 15.1-1503-01 | BM31: 1109 | BN31: 0 | BO31: 15.1-1503-01 | BP31: 1 | BQ31: 150 | BR31: 0 | BS31: 57.76 | BT31: 1 | BU31: 1 | BV31: 1 | BW31: 1 | BX31: 1 | BZ31: 0 | CA31: 0 | CE31: 0 | CF31: 0 | CG31: 0 | CM31: 0 | CO31: 0 | CP31: =(P31+Q31+S31) -> 910.54 | CQ31: =(AC31*BC31*AW31) -> 0 | CR31: =((ET31)*BB31*AV31) -> 474.2394 | CS31: =(AE31*BS31*AV31) -> 0 | CT31: =(AF31*BA31*AV31) -> 0 | CU31: =AG31 -> 0 | CV31: =(AH31*AV31) -> 0 | CW31: =AI31 -> 0 | CX31: =AJ31 -> 0 | CY31: =(S31+R31)*(BZ31/100) -> 0 | CZ31: =(S31+R31)*(CA31/100) -> 0 | DN31: 0 | DO31: 0 | DP31: 1 | DQ31: 1 | DU31: 1013 | DV31: 1 Т | DW31: 1 Т | DX31: 1 | EE31: 86331737 | EF31: 150 | EG31: Транспортные затраты | EH31: 0 | EJ31: 4 | EK31: 1109 | EL31: ТСН-2001.15-1. | EM31: ТСН-2001.15-1-1 | EQ31: 0 | ER31: 0 | ES31: 0 | ET31: 94.47 | EU31: 0 | EV31: 0 | EW31: 0 | EX31: 0 | EY31: 0 | FQ31: 0 | FR31: 0 | FS31: 0 | FX31: 0 | FY31: 0 | GD31: 1 | GF31: -1412850781 | GG31: 2 | GH31: 0 | GI31: -2 | GJ31: 0 | GK31: 0 | GL31: =ROUND(IF(AND(BH31=3,BI31=3,FS31<>0),P31,0),2) -> 0 | GM31: =ROUND(O31+X31+Y31,2)+GX31 -> 910.54 | GN31: =IF(OR(BI31=0,BI31=1),GM31-GX31,0) -> 0 | GO31: =IF(BI31=2,GM31-GX31,0) -> 0 | GP31: =IF(BI31=4,GM31-GX31,0) -> 910.54 | GR31: 0 | GS31: 3 | GT31: 0 | GV31: =(GT31) -> 0 | GW31: 1 | GX31: =ROUND(HC31*I31,2) -> 0 | HA31: 0 | HB31: 0 | HC31: =GV31*GW31 -> 0 | HS31: 0 | IK31: 0
A32: 17 | B32: 1 | C32: =ROW(SmtRes!A5) -> 5 | D32: =ROW(EtalonRes!A5) -> 5 | E32: 3 | F32: 15.1-1503-05 | G32: Отходы малоценной древесины (хворост, валежник, обломки стволов) | H32: 1 Т | I32: =ROUND(23.65,9) -> 23.65 | J32: 0 | K32: =ROUND(23.65,9) -> 23.65 | O32: =ROUND(CP32,2) -> 687.51 | P32: =ROUND(CQ32*I32,2) -> 0 | Q32: =ROUND(CR32*I32,2) -> 687.51 | R32: =ROUND(CS32*I32,2) -> 0 | S32: =ROUND(CT32*I32,2) -> 0 | T32: =ROUND(CU32*I32,2) -> 0 | U32: =CV32*I32 -> 0 | V32: =CW32*I32 -> 0 | W32: =ROUND(CX32*I32,2) -> 0 | X32: =ROUND(CY32,2) -> 0 | Y32: =ROUND(CZ32,2) -> 0 | AA32: 86514064 | AB32: =(AC32+AD32+AF32) -> 29.07 | AC32: =(ES32) -> 0 | AD32: =(ET32) -> 29.07 | AE32: =(EU32) -> 0 | AF32: =(EV32) -> 0 | AG32: =(AP32) -> 0 | AH32: =(EW32) -> 0 | AI32: =(EX32) -> 0 | AJ32: =(AS32) -> 0 | AK32: 0 | AL32: 0 | AM32: 29.07 | AN32: 0 | AO32: 0 | AP32: 0 | AQ32: 0 | AR32: 0 | AS32: 0 | AT32: 0 | AU32: 0 | AV32: 1 | AW32: 1 | AZ32: 1 | BA32: 1 | BB32: 1 | BC32: 1 | BH32: 0 | BI32: 4 | BJ32: 15.1-1503-05 | BM32: 1109 | BN32: 0 | BO32: 15.1-1503-05 | BP32: 1 | BQ32: 150 | BR32: 0 | BS32: 1 | BT32: 1 | BU32: 1 | BV32: 1 | BW32: 1 | BX32: 1 | BZ32: 0 | CA32: 0 | CE32: 0 | CF32: 0 | CG32: 0 | CM32: 0 | CO32: 0 | CP32: =(P32+Q32+S32) -> 687.51 | CQ32: =(AC32*BC32*AW32) -> 0 | CR32: =((ET32)*BB32*AV32) -> 29.07 | CS32: =(AE32*BS32*AV32) -> 0 | CT32: =(AF32*BA32*AV32) -> 0 | CU32: =AG32 -> 0 | CV32: =(AH32*AV32) -> 0 | CW32: =AI32 -> 0 | CX32: =AJ32 -> 0 | CY32: =(((S32+R32)*BZ32)/100) -> 0 | CZ32: =(((S32+R32)*CA32)/100) -> 0 | DN32: 0 | DO32: 0 | DP32: 1 | DQ32: 1 | DU32: 1013 | DV32: 1 Т | DW32: 1 Т | DX32: 1 | EE32: 86331737 | EF32: 150 | EG32: Транспортные затраты | EH32: 0 | EJ32: 4 | EK32: 1109 | EL32: ТСН-2001.15-1. | EM32: ТСН-2001.15-1-1 | EQ32: 0 | ER32: 0 | ES32: 0 | ET32: 29.07 | EU32: 0 | EV32: 0 | EW32: 0 | EX32: 0 | EY32: 0 | FQ32: 0 | FR32: 0 | FS32: 0 | FX32: 0 | FY32: 0 | GD32: 1 | GF32: -459984308 | GG32: 2 | GH32: 0 | GI32: -2 | GJ32: 0 | GK32: 0 | GL32: =ROUND(IF(AND(BH32=3,BI32=3,FS32<>0),P32,0),2) -> 0 | GM32: =ROUND(O32+X32+Y32,2)+GX32 -> 687.51 | GN32: =IF(OR(BI32=0,BI32=1),GM32-GX32,0) -> 0 | GO32: =IF(BI32=2,GM32-GX32,0) -> 0 | GP32: =IF(BI32=4,GM32-GX32,0) -> 687.51 | GR32: 0 | GS32: 3 | GT32: 0 | GV32: =(GT32) -> 0 | GW32: 1 | GX32: =ROUND(HC32*I32,2) -> 0 | HA32: 0 | HB32: 0 | HC32: =GV32*GW32 -> 0 | HS32: 0 | IK32: 0
A33: 17 | B33: 1 | C33: =ROW(SmtRes!A6) -> 6 | D33: =ROW(EtalonRes!A6) -> 6 | E33: 3 | F33: 15.1-1503-05 | G33: Отходы малоценной древесины (хворост, валежник, обломки стволов) | H33: 1 Т | I33: =ROUND(23.65,9) -> 23.65 | J33: 0 | K33: =ROUND(23.65,9) -> 23.65 | O33: =ROUND(CP33,2) -> 7046.93 | P33: =ROUND(CQ33*I33,2) -> 0 | Q33: =ROUND(CR33*I33,2) -> 7046.93 | R33: =ROUND(CS33*I33,2) -> 0 | S33: =ROUND(CT33*I33,2) -> 0 | T33: =ROUND(CU33*I33,2) -> 0 | U33: =CV33*I33 -> 0 | V33: =CW33*I33 -> 0 | W33: =ROUND(CX33*I33,2) -> 0 | X33: =ROUND(CY33,2) -> 0 | Y33: =ROUND(CZ33,2) -> 0 | AA33: 86514065 | AB33: =(AC33+AD33+AF33) -> 29.07 | AC33: =(ES33) -> 0 | AD33: =(ET33) -> 29.07 | AE33: =(EU33) -> 0 | AF33: =(EV33) -> 0 | AG33: =(AP33) -> 0 | AH33: =(EW33) -> 0 | AI33: =(EX33) -> 0 | AJ33: =(AS33) -> 0 | AK33: 0 | AL33: 0 | AM33: 29.07 | AN33: 0 | AO33: 0 | AP33: 0 | AQ33: 0 | AR33: 0 | AS33: 0 | AT33: 0 | AU33: 0 | AV33: 1 | AW33: 1 | AZ33: 1 | BA33: 57.76 | BB33: 10.25 | BC33: 1 | BH33: 0 | BI33: 4 | BJ33: 15.1-1503-05 | BM33: 1109 | BN33: 0 | BO33: 15.1-1503-05 | BP33: 1 | BQ33: 150 | BR33: 0 | BS33: 57.76 | BT33: 1 | BU33: 1 | BV33: 1 | BW33: 1 | BX33: 1 | BZ33: 0 | CA33: 0 | CE33: 0 | CF33: 0 | CG33: 0 | CM33: 0 | CO33: 0 | CP33: =(P33+Q33+S33) -> 7046.93 | CQ33: =(AC33*BC33*AW33) -> 0 | CR33: =((ET33)*BB33*AV33) -> 297.9675 | CS33: =(AE33*BS33*AV33) -> 0 | CT33: =(AF33*BA33*AV33) -> 0 | CU33: =AG33 -> 0 | CV33: =(AH33*AV33) -> 0 | CW33: =AI33 -> 0 | CX33: =AJ33 -> 0 | CY33: =(S33+R33)*(BZ33/100) -> 0 | CZ33: =(S33+R33)*(CA33/100) -> 0 | DN33: 0 | DO33: 0 | DP33: 1 | DQ33: 1 | DU33: 1013 | DV33: 1 Т | DW33: 1 Т | DX33: 1 | EE33: 86331737 | EF33: 150 | EG33: Транспортные затраты | EH33: 0 | EJ33: 4 | EK33: 1109 | EL33: ТСН-2001.15-1. | EM33: ТСН-2001.15-1-1 | EQ33: 0 | ER33: 0 | ES33: 0 | ET33: 29.07 | EU33: 0 | EV33: 0 | EW33: 0 | EX33: 0 | EY33: 0 | FQ33: 0 | FR33: 0 | FS33: 0 | FX33: 0 | FY33: 0 | GD33: 1 | GF33: -459984308 | GG33: 2 | GH33: 0 | GI33: -2 | GJ33: 0 | GK33: 0 | GL33: =ROUND(IF(AND(BH33=3,BI33=3,FS33<>0),P33,0),2) -> 0 | GM33: =ROUND(O33+X33+Y33,2)+GX33 -> 7046.93 | GN33: =IF(OR(BI33=0,BI33=1),GM33-GX33,0) -> 0 | GO33: =IF(BI33=2,GM33-GX33,0) -> 0 | GP33: =IF(BI33=4,GM33-GX33,0) -> 7046.93 | GR33: 0 | GS33: 3 | GT33: 0 | GV33: =(GT33) -> 0 | GW33: 1 | GX33: =ROUND(HC33*I33,2) -> 0 | HA33: 0 | HB33: 0 | HC33: =GV33*GW33 -> 0 | HS33: 0 | IK33: 0
A35: 51 | B35: =B24 -> 1 | C35: =A24 -> 4 | D35: =ROW(A24) -> 24 | F35: =IF(F24<>"",F24,"") -> 1 | G35: =IF(G24<>"",G24,"") -> Перевозка и приём порубочных остатков | H35: 0 | O35: =ROUND(AB35,2) -> 2329.45 | P35: =ROUND(AC35,2) -> 0 | Q35: =ROUND(AD35,2) -> 2329.45 | R35: =ROUND(AE35,2) -> 0 | S35: =ROUND(AF35,2) -> 0 | T35: =ROUND(AG35,2) -> 0 | U35: =AH35 -> 0 | V35: =AI35 -> 0 | W35: =ROUND(AJ35,2) -> 0 | X35: =ROUND(AK35,2) -> 0 | Y35: =ROUND(AL35,2) -> 0 | AB35: =ROUND(SUMIF(AA28:AA33,"=86514064",O28:O33),2) -> 2329.45 | AC35: =ROUND(SUMIF(AA28:AA33,"=86514064",P28:P33),2) -> 0 | AD35: =ROUND(SUMIF(AA28:AA33,"=86514064",Q28:Q33),2) -> 2329.45 | AE35: =ROUND(SUMIF(AA28:AA33,"=86514064",R28:R33),2) -> 0 | AF35: =ROUND(SUMIF(AA28:AA33,"=86514064",S28:S33),2) -> 0 | AG35: =ROUND(SUMIF(AA28:AA33,"=86514064",T28:T33),2) -> 0 | AH35: =SUMIF(AA28:AA33,"=86514064",U28:U33) -> 0 | AI35: =SUMIF(AA28:AA33,"=86514064",V28:V33) -> 0 | AJ35: =ROUND(SUMIF(AA28:AA33,"=86514064",W28:W33),2) -> 0 | AK35: =ROUND(SUMIF(AA28:AA33,"=86514064",X28:X33),2) -> 0 | AL35: =ROUND(SUMIF(AA28:AA33,"=86514064",Y28:Y33),2) -> 0 | AO35: =ROUND(BX35,2) -> 0 | AP35: =ROUND(BY35,2) -> 0 | AQ35: =ROUND(BZ35,2) -> 0 | AR35: =ROUND(CA35,2) -> 2329.45 | AS35: =ROUND(CB35,2) -> 0 | AT35: =ROUND(CC35,2) -> 0 | AU35: =ROUND(CD35,2) -> 2329.45 | AV35: =ROUND(CE35,2) -> 0 | ... BD35: =ROUND(CM35,2) -> 0 | BX35: =ROUND(SUMIF(AA28:AA33,"=86514064",FQ28:FQ33),2) -> 0 | BY35: =ROUND(SUMIF(AA28:AA33,"=86514064",FR28:FR33),2) -> 0 | BZ35: =ROUND(SUMIF(AA28:AA33,"=86514064",GL28:GL33),2) -> 0 | CA35: =ROUND(SUMIF(AA28:AA33,"=86514064",GM28:GM33),2) -> 2329.45 | CB35: =ROUND(SUMIF(AA28:AA33,"=86514064",GN28:GN33),2) -> 0 | CC35: =ROUND(SUMIF(AA28:AA33,"=86514064",GO28:GO33),2) -> 0 | CD35: =ROUND(SUMIF(AA28:AA33,"=86514064",GP28:GP33),2) -> 2329.45 | CE35: =AC35-BX35 -> 0 | CF35: =AC35-BY35 -> 0 | CG35: =BX35-BZ35 -> 0 | CH35: =AC35-BX35-BY35+BZ35 -> 0 | CI35: =BY35-BZ35 -> 0 | CJ35: =ROUND(SUMIF(AA28:AA33,"=86514064",GX28:GX33),2) -> 0 | CK35: =ROUND(SUMIF(AA28:AA33,"=86514064",GY28:GY33),2) -> 0 | CL35: =ROUND(SUMIF(AA28:AA33,"=86514064",GZ28:GZ33),2) -> 0 | CM35: =ROUND(SUMIF(AA28:AA33,"=86514064",HD28:HD33),2) -> 0 | DG35: =ROUND(DT35,2) -> 35605.84 | DH35: =ROUND(DU35,2) -> 0 | DI35: =ROUND(DV35,2) -> 35605.84 | DJ35: =ROUND(DW35,2) -> 0 | DK35: =ROUND(DX35,2) -> 0 | DL35: =ROUND(DY35,2) -> 0 | DM35: =DZ35 -> 0 | DN35: =EA35 -> 0 | DO35: =ROUND(EB35,2) -> 0 | DP35: =ROUND(EC35,2) -> 0 | DQ35: =ROUND(ED35,2) -> 0 | DT35: =ROUND(SUMIF(AA28:AA33,"=86514065",O28:O33),2) -> 35605.84 | DU35: =ROUND(SUMIF(AA28:AA33,"=86514065",P28:P33),2) -> 0 | DV35: =ROUND(SUMIF(AA28:AA33,"=86514065",Q28:Q33),2) -> 35605.84 | DW35: =ROUND(SUMIF(AA28:AA33,"=86514065",R28:R33),2) -> 0 | DX35: =ROUND(SUMIF(AA28:AA33,"=86514065",S28:S33),2) -> 0 | DY35: =ROUND(SUMIF(AA28:AA33,"=86514065",T28:T33),2) -> 0 | DZ35: =SUMIF(AA28:AA33,"=86514065",U28:U33) -> 0 | EA35: =SUMIF(AA28:AA33,"=86514065",V28:V33) -> 0 | EB35: =ROUND(SUMIF(AA28:AA33,"=86514065",W28:W33),2) -> 0 | EC35: =ROUND(SUMIF(AA28:AA33,"=86514065",X28:X33),2) -> 0 | ED35: =ROUND(SUMIF(AA28:AA33,"=86514065",Y28:Y33),2) -> 0 | EG35: =ROUND(FP35,2) -> 0 | EH35: =ROUND(FQ35,2) -> 0 | EI35: =ROUND(FR35,2) -> 0 | EJ35: =ROUND(FS35,2) -> 35605.84 | EK35: =ROUND(FT35,2) -> 0 | EL35: =ROUND(FU35,2) -> 0 | EM35: =ROUND(FV35,2) -> 35605.84 | EN35: =ROUND(FW35,2) -> 0 | ... EV35: =ROUND(GE35,2) -> 0 | FP35: =ROUND(SUMIF(AA28:AA33,"=86514065",FQ28:FQ33),2) -> 0 | FQ35: =ROUND(SUMIF(AA28:AA33,"=86514065",FR28:FR33),2) -> 0 | FR35: =ROUND(SUMIF(AA28:AA33,"=86514065",GL28:GL33),2) -> 0 | FS35: =ROUND(SUMIF(AA28:AA33,"=86514065",GM28:GM33),2) -> 35605.84 | FT35: =ROUND(SUMIF(AA28:AA33,"=86514065",GN28:GN33),2) -> 0 | FU35: =ROUND(SUMIF(AA28:AA33,"=86514065",GO28:GO33),2) -> 0 | FV35: =ROUND(SUMIF(AA28:AA33,"=86514065",GP28:GP33),2) -> 35605.84 | FW35: =DU35-FP35 -> 0 | FX35: =DU35-FQ35 -> 0 | FY35: =FP35-FR35 -> 0 | FZ35: =DU35-FP35-FQ35+FR35 -> 0 | GA35: =FQ35-FR35 -> 0 | GB35: =ROUND(SUMIF(AA28:AA33,"=86514065",GX28:GX33),2) -> 0 | GC35: =ROUND(SUMIF(AA28:AA33,"=86514065",GY28:GY33),2) -> 0 | GD35: =ROUND(SUMIF(AA28:AA33,"=86514065",GZ28:GZ33),2) -> 0 | GE35: =ROUND(SUMIF(AA28:AA33,"=86514065",HD28:HD33),2) -> 0 | GX35: 0
A37: 50 | B37: 0 | C37: 0 | D37: 1 | E37: 201 | F37: =ROUND(Source!O35,O37) -> 2329.45 | G37: ПЗ | H37: Прямые затраты | K37: 201 | L37: 1 | M37: 3 | O37: 2 | P37: =ROUND(Source!DG35,O37) -> 35605.84 | W37: 2329.45 | X37: 1 | Y37: 2329.45 | Z37: 35605.84 | AA37: 1 | AB37: 35605.84
A38: 50 | B38: 0 | C38: 0 | D38: 1 | E38: 202 | F38: =ROUND(Source!P35,O38) -> 0 | G38: СтМатОб | H38: Стоимость материальных ресурсов (всего) | K38: 202 | L38: 2 | M38: 3 | O38: 2 | P38: =ROUND(Source!DH35,O38) -> 0 | W38: 0 | X38: 1 | Y38: 0 | Z38: 0 | AA38: 1 | AB38: 0
A39: 50 | B39: 0 | C39: 0 | D39: 1 | E39: 222 | F39: =ROUND(Source!AO35,O39) -> 0 | G39: СтМатОбЗак | H39: Стоимость материалов и оборудования заказчика | K39: 222 | L39: 3 | M39: 3 | O39: 2 | P39: =ROUND(Source!EG35,O39) -> 0 | W39: 0 | X39: 1 | Y39: 0 | Z39: 0 | AA39: 1 | AB39: 0
A40: 50 | B40: 0 | C40: 0 | D40: 1 | E40: 225 | F40: =ROUND(Source!AV35,O40) -> 0 | G40: СтМатОбПод | H40: Стоимость материалов и оборудования подрядчика | K40: 225 | L40: 4 | M40: 3 | O40: 2 | P40: =ROUND(Source!EN35,O40) -> 0 | W40: 0 | X40: 1 | Y40: 0 | Z40: 0 | AA40: 1 | AB40: 0
A41: 50 | B41: 0 | C41: 0 | D41: 1 | E41: 226 | F41: =ROUND(Source!AW35,O41) -> 0 | G41: СтМат | H41: Стоимость материалов (всего) | K41: 226 | L41: 5 | M41: 3 | O41: 2 | P41: =ROUND(Source!EO35,O41) -> 0 | W41: 0 | X41: 1 | Y41: 0 | Z41: 0 | AA41: 1 | AB41: 0
A42: 50 | B42: 0 | C42: 0 | D42: 1 | E42: 227 | F42: =ROUND(Source!AX35,O42) -> 0 | G42: СтМатЗак | H42: Стоимость материалов заказчика | K42: 227 | L42: 6 | M42: 3 | O42: 2 | P42: =ROUND(Source!EP35,O42) -> 0 | W42: 0 | X42: 1 | Y42: 0 | Z42: 0 | AA42: 1 | AB42: 0
A43: 50 | B43: 0 | C43: 0 | D43: 1 | E43: 228 | F43: =ROUND(Source!AY35,O43) -> 0 | G43: СтМатПод | H43: Стоимость материалов подрядчика | K43: 228 | L43: 7 | M43: 3 | O43: 2 | P43: =ROUND(Source!EQ35,O43) -> 0 | W43: 0 | X43: 1 | Y43: 0 | Z43: 0 | AA43: 1 | AB43: 0
A44: 50 | B44: 0 | C44: 0 | D44: 1 | E44: 216 | F44: =ROUND(Source!AP35,O44) -> 0 | G44: Оборуд | H44: Стоимость оборудования (всего) | K44: 216 | L44: 8 | M44: 3 | O44: 2 | P44: =ROUND(Source!EH35,O44) -> 0 | W44: 0 | X44: 1 | Y44: 0 | Z44: 0 | AA44: 1 | AB44: 0
A45: 50 | B45: 0 | C45: 0 | D45: 1 | E45: 223 | F45: =ROUND(Source!AQ35,O45) -> 0 | G45: ОборудЗак | H45: Стоимость оборудования заказчика | K45: 223 | L45: 9 | M45: 3 | O45: 2 | P45: =ROUND(Source!EI35,O45) -> 0 | W45: 0 | X45: 1 | Y45: 0 | Z45: 0 | AA45: 1 | AB45: 0
A46: 50 | B46: 0 | C46: 0 | D46: 1 | E46: 229 | F46: =ROUND(Source!AZ35,O46) -> 0 | G46: ОборудПод | H46: Стоимость оборудования подрядчика | K46: 229 | L46: 10 | M46: 3 | O46: 2 | P46: =ROUND(Source!ER35,O46) -> 0 | W46: 0 | X46: 1 | Y46: 0 | Z46: 0 | AA46: 1 | AB46: 0
A47: 50 | B47: 0 | C47: 0 | D47: 1 | E47: 203 | F47: =ROUND(Source!Q35,O47) -> 2329.45 | G47: ЭММ | H47: Эксплуатация машин | K47: 203 | L47: 11 | M47: 3 | O47: 2 | P47: =ROUND(Source!DI35,O47) -> 35605.84 | W47: 2329.45 | X47: 1 | Y47: 2329.45 | Z47: 35605.84 | AA47: 1 | AB47: 35605.84
A48: 50 | B48: 0 | C48: 0 | D48: 1 | E48: 231 | F48: =ROUND(Source!BB35,O48) -> 0 | G48: ЭММсНРиСП | H48: Эксплуатация машин по ТСН-2001.16 | K48: 231 | L48: 12 | M48: 3 | O48: 2 | P48: =ROUND(Source!ET35,O48) -> 0 | W48: 0 | X48: 1 | Y48: 0 | Z48: 0 | AA48: 1 | AB48: 0
A49: 50 | B49: 0 | C49: 0 | D49: 1 | E49: 204 | F49: =ROUND(Source!R35,O49) -> 0 | G49: ЗПМ | H49: ЗП машинистов | K49: 204 | L49: 13 | M49: 3 | O49: 2 | P49: =ROUND(Source!DJ35,O49) -> 0 | W49: 0 | X49: 1 | Y49: 0 | Z49: 0 | AA49: 1 | AB49: 0
A50: 50 | B50: 0 | C50: 0 | D50: 1 | E50: 205 | F50: =ROUND(Source!S35,O50) -> 0 | G50: ОЗП | H50: Основная ЗП рабочих | K50: 205 | L50: 14 | M50: 3 | O50: 2 | P50: =ROUND(Source!DK35,O50) -> 0 | W50: 0 | X50: 1 | Y50: 0 | Z50: 0 | AA50: 1 | AB50: 0
A51: 50 | B51: 0 | C51: 0 | D51: 1 | E51: 232 | F51: =ROUND(Source!BC35,O51) -> 0 | G51: ОЗПсНРиСП | H51: Основная ЗП рабочих по ТСН-2001.16 | K51: 232 | L51: 15 | M51: 3 | O51: 2 | P51: =ROUND(Source!EU35,O51) -> 0 | W51: 0 | X51: 1 | Y51: 0 | Z51: 0 | AA51: 1 | AB51: 0
A52: 50 | B52: 0 | C52: 0 | D52: 1 | E52: 214 | F52: =ROUND(Source!AS35,O52) -> 0 | G52: Строит | H52: Строительные работы с НР и СП | K52: 214 | L52: 16 | M52: 3 | O52: 2 | P52: =ROUND(Source!EK35,O52) -> 0 | W52: 0 | X52: 1 | Y52: 0 | Z52: 0 | AA52: 1 | AB52: 0
A53: 50 | B53: 0 | C53: 0 | D53: 1 | E53: 215 | F53: =ROUND(Source!AT35,O53) -> 0 | G53: Монтаж | H53: Монтажные работы с НР и СП | K53: 215 | L53: 17 | M53: 3 | O53: 2 | P53: =ROUND(Source!EL35,O53) -> 0 | W53: 0 | X53: 1 | Y53: 0 | Z53: 0 | AA53: 1 | AB53: 0
A54: 50 | B54: 0 | C54: 0 | D54: 1 | E54: 217 | F54: =ROUND(Source!AU35,O54) -> 2329.45 | G54: Прочие | H54: Прочие работы с НР и СП | K54: 217 | L54: 18 | M54: 3 | O54: 2 | P54: =ROUND(Source!EM35,O54) -> 35605.84 | W54: 2329.45 | X54: 1 | Y54: 2329.45 | Z54: 35605.84 | AA54: 1 | AB54: 35605.84
A55: 50 | B55: 0 | C55: 0 | D55: 1 | E55: 230 | F55: =ROUND(Source!BA35,O55) -> 0 | G55: ПрочиеЗатр | H55: Прочие затраты по ТСН-2001.16 | K55: 230 | L55: 19 | M55: 3 | O55: 2 | P55: =ROUND(Source!ES35,O55) -> 0 | W55: 0 | X55: 1 | Y55: 0 | Z55: 0 | AA55: 1 | AB55: 0
A56: 50 | B56: 0 | C56: 0 | D56: 1 | E56: 206 | F56: =ROUND(Source!T35,O56) -> 0 | G56: ВозврМат | H56: Возврат материалов | K56: 206 | L56: 20 | M56: 3 | O56: 2 | P56: =ROUND(Source!DL35,O56) -> 0 | W56: 0 | X56: 1 | Y56: 0 | Z56: 0 | AA56: 1 | AB56: 0
A57: 50 | B57: 0 | C57: 0 | D57: 1 | E57: 207 | F57: =Source!U35 -> 0 | G57: ТрудСтр | H57: Трудозатраты строителей | K57: 207 | L57: 21 | M57: 3 | O57: -1 | P57: =Source!DM35 -> 0 | W57: 0 | X57: 1 | Y57: 0 | Z57: 0 | AA57: 1 | AB57: 0
A58: 50 | B58: 0 | C58: 0 | D58: 1 | E58: 208 | F58: =Source!V35 -> 0 | G58: ТрудМаш | H58: Трудозатраты машинистов | K58: 208 | L58: 22 | M58: 3 | O58: -1 | P58: =Source!DN35 -> 0 | W58: 0 | X58: 1 | Y58: 0 | Z58: 0 | AA58: 1 | AB58: 0
A59: 50 | B59: 0 | C59: 0 | D59: 1 | E59: 209 | F59: =ROUND(Source!W35,O59) -> 0 | G59: ТранспМат | H59: Транспорт материалов | K59: 209 | L59: 23 | M59: 3 | O59: 2 | P59: =ROUND(Source!DO35,O59) -> 0 | W59: 0 | X59: 1 | Y59: 0 | Z59: 0 | AA59: 1 | AB59: 0
A60: 50 | B60: 0 | C60: 0 | D60: 1 | E60: 233 | F60: =ROUND(Source!BD35,O60) -> 0 | G60: Перевозка | H60: Перевозка грузов | K60: 233 | L60: 24 | M60: 3 | O60: 2 | P60: =ROUND(Source!EV35,O60) -> 0 | W60: 0 | X60: 1 | Y60: 0 | Z60: 0 | AA60: 1 | AB60: 0
...

Sheet SourceObSm
A1: 0 | B1: Smeta.RU (495) 974-1589 | D1: _OBSM_ | F1: 0 | G1: 0 | H1: 0 | I1: Smeta.RU | K1: 1 | L1: 76812 | M1: 10 | N1: 12 | O1: 2 | P1: 0 | Q1: 1
A4: 8 | B4: 1 | C4: -1 | F4: 25МГ-ДПР-2750 | G4: 25МГ-ДПР-2750 — Реконструкция газопровода низкого давления | EC4: 0
A12: 1 | B12: 51 | C12: 0 | E12: 0 | F12: СР-09-02 | G12: Перевозка и приём порубочных остатков | I12: 0 | J12: Том 6.2 ООС2, Том 6.3 ООС3 (18.09) | K12: 0 | L12: 0 | M12: 2 | O12: 2026 | P12: 7 | Q12: 0 | R12: 0 | S12: 0 | T12: 1 | U12: Основание:Том 6.2 ООС2, Том 6.3 ООС3 (18.09) Уровень цен:3 кв 2026 Нормативные индексы ТСН:№ 221 III квартал 2026 Регион:ТСН-2001 г. Москвы (с доп.1-82) | V12: 9 | BB12: 0 | BH12: Сметные нормы списания | BI12: Коды ОКП для ТСН-2001 МГЭ | BJ12: 1 | BK12: 1 | BL12: 0 | BM12: 0 | BN12: 1 | BO12: 0 | BP12: -1 | BQ12: 2 | BR12: 1 | BS12: 0 | BT12: 0 | BU12: 0 | BV12: 0 | BW12: 0 | BX12: 0 | BZ12: Типовой расчет для ТСН-2001 МГЭ, Новая методика с выпуска доп. 43 (Строительство), Доп 64 | CA12: Территориальные сметные нормативы для Москвы ТСН-2001 (МГЭ) | CB12: Территориальные сметные нормативы для Москвы ТСН-2001 (МГЭ) | CC12: Территориальные сметные нормативы для Москвы ТСН-2001 (МГЭ) | CD12: Территориальные сметные нормативы для Москвы ТСН-2001 (МГЭ) | CE12: Поправки для ТСН-2001 от 15.07.2022 г. доп.65 | CF12: 0 | CG12: 0 | CH12: 524296 | CK12: 82 | CQ12: Территориальные сметные нормативы для Москвы (ТСН-2001) | CR12: ТЕР | CS12: 41660 | CT12: 1 | CU12: 72 | CY12: 0 | EC12: 0
A14: 22 | B14: 1 | C14: 0 | D14: 86514064 | E14: 86514065 | F14: 2 | G14: 1
A16: 3 | B16: 1 | C16: СР-09-02 | D16: Перевозка и приём порубочных остатков | E16: =ROUND((Source!F120)/1000,2) -> 0 | F16: =ROUND((Source!F122)/1000,2) -> 0 | G16: =ROUND((Source!F113)/1000,2) -> 0 | H16: =ROUND((Source!F123)/1000+(Source!F124)/1000,2) -> 2.76 | I16: =E16+F16+G16+H16 -> 2.76 | J16: =ROUND((Source!F119+Source!F118)/1000,2) -> 0 | K16: 2.76 | L16: 0 | M16: 0 | N16: =I16+L16+M16 -> 2.76 | T16: =ROUND((Source!P120)/1000,2) -> 0 | U16: =ROUND((Source!P122)/1000,2) -> 0 | V16: =ROUND((Source!P113)/1000,2) -> 0 | W16: =ROUND((Source!P123)/1000+(Source!P124)/1000,2) -> 39.61 | X16: =T16+U16+V16+W16 -> 39.61 | Y16: =ROUND((Source!P119+Source!P118)/1000,2) -> 0 | Z16: 39.61 | AA16: 0 | AB16: 0 | AC16: =X16+AA16+AB16 -> 39.61 | AI16: 9 | AJ16: 0 | AK16: Перевозка и приём порубочных остатков | AN16: 0 | AT16: 2757.05 | AU16: 0 | AV16: 0 | AW16: 0 | AX16: 0 | AY16: 2757.05 | AZ16: 0 | BA16: 0 | BB16: 0 | BC16: 0 | BD16: 2757.05 | BE16: 0 | BF16: 0 | BG16: 0 | BH16: 0 | BI16: 0 | BJ16: 0 | BK16: 2757.05 | BR16: 39613.84 | BS16: 0 | BT16: 0 | BU16: 0 | BV16: 0 | BW16: 39613.84 | BX16: 0 | BY16: 0 | BZ16: 0 | CA16: 0 | CB16: 39613.84 | CC16: 0 | CD16: 0 | CE16: 0 | CF16: 0 | CG16: 0 | CH16: 0 | CI16: 39613.84
A18: 51 | E18: 0 | F18: 0 | G18: 0 | H18: 2.76 | I18: 2.76 | J18: 0 | K18: 2.76 | L18: 0 | M18: 0 | N18: 2.76 | T18: 0 | U18: 0 | V18: 0 | W18: 39.61 | X18: 39.61 | Y18: 0 | Z18: 39.61 | AA18: 0 | AB18: 0 | AC18: 39.61
A20: 50 | B20: 0 | C20: 0 | D20: 1 | E20: 201 | F20: 2757.05 | G20: ПЗ | H20: Прямые затраты | K20: 201 | L20: 1 | M20: 3 | O20: 2 | P20: 39613.84
A21: 50 | B21: 0 | C21: 0 | D21: 1 | E21: 202 | F21: 0 | G21: СтМатОб | H21: Стоимость материальных ресурсов (всего) | K21: 202 | L21: 2 | M21: 3 | O21: 2 | P21: 0
A22: 50 | B22: 0 | C22: 0 | D22: 1 | E22: 222 | F22: 0 | G22: СтМатОбЗак | H22: Стоимость материалов и оборудования заказчика | K22: 222 | L22: 3 | M22: 3 | O22: 2 | P22: 0
A23: 50 | B23: 0 | C23: 0 | D23: 1 | E23: 225 | F23: 0 | G23: СтМатОбПод | H23: Стоимость материалов и оборудования подрядчика | K23: 225 | L23: 4 | M23: 3 | O23: 2 | P23: 0
A24: 50 | B24: 0 | C24: 0 | D24: 1 | E24: 226 | F24: 0 | G24: СтМат | H24: Стоимость материалов (всего) | K24: 226 | L24: 5 | M24: 3 | O24: 2 | P24: 0
A25: 50 | B25: 0 | C25: 0 | D25: 1 | E25: 227 | F25: 0 | G25: СтМатЗак | H25: Стоимость материалов заказчика | K25: 227 | L25: 6 | M25: 3 | O25: 2 | P25: 0
A26: 50 | B26: 0 | C26: 0 | D26: 1 | E26: 228 | F26: 0 | G26: СтМатПод | H26: Стоимость материалов подрядчика | K26: 228 | L26: 7 | M26: 3 | O26: 2 | P26: 0
A27: 50 | B27: 0 | C27: 0 | D27: 1 | E27: 216 | F27: 0 | G27: Оборуд | H27: Стоимость оборудования (всего) | K27: 216 | L27: 8 | M27: 3 | O27: 2 | P27: 0
A28: 50 | B28: 0 | C28: 0 | D28: 1 | E28: 223 | F28: 0 | G28: ОборудЗак | H28: Стоимость оборудования заказчика | K28: 223 | L28: 9 | M28: 3 | O28: 2 | P28: 0
A29: 50 | B29: 0 | C29: 0 | D29: 1 | E29: 229 | F29: 0 | G29: ОборудПод | H29: Стоимость оборудования подрядчика | K29: 229 | L29: 10 | M29: 3 | O29: 2 | P29: 0
A30: 50 | B30: 0 | C30: 0 | D30: 1 | E30: 203 | F30: 2757.05 | G30: ЭММ | H30: Эксплуатация машин | K30: 203 | L30: 11 | M30: 3 | O30: 2 | P30: 39613.84
A31: 50 | B31: 0 | C31: 0 | D31: 1 | E31: 231 | F31: 0 | G31: ЭММсНРиСП | H31: Эксплуатация машин по ТСН-2001.16 | K31: 231 | L31: 12 | M31: 3 | O31: 2 | P31: 0
... A46: 50 | B46: 0 | C46: 0 | D46: 1 | E46: 224 | F46: 2757.05 | G46: Всего | H46: Всего с НР и СП | K46: 224 | L46: 27 | M46: 3 | O46: 2 | P46: 39613.84
A48: -1
A51: 75 | B51: Базовые уровень цен | C51: 2000 | D51: 0 | E51: 1 | G51: 0 | H51: 1 | I51: 1 | J51: 3 | K51: 0 | L51: 0 | M51: 0 | N51: 86514064 | O51: 1
A52: 75 | B52: Текущий уровень цен, III квартал 2026, выпуск 221 | C52: 2026 | D52: 0 | E52: 7 | G52: 0 | H52: 2 | I52: 1 | J52: 3 | K52: 0 | L52: 0 | M52: 1 | N52: 86514065 | O52: 2

Sheet SmtRes
A1: =ROW(Source!A28) -> 28 | B1: 86514064 | C1: 86514066 | D1: 0 | E1: 1 | F1: 1 | G1: 30515945 | H1: 2 | I1: 2.999-0-0 | K1: Прочие машины | L1: 1344 | N1: 1008 | O1: руб. | P1: руб. | Q1: 1 | W1: 0 | X1: 422977256 | Y1: =AT1 -> 38.08 | AA1: 0 | AB1: 1.5 | AC1: 0 | AD1: 0 | AE1: 0 | AF1: 1.5 | AG1: 0 | AH1: 0 | AI1: 1 | AJ1: 1 | AK1: 1 | AL1: 1 | AM1: 0 | AN1: 0 | AO1: 1 | AP1: 0 | AQ1: 0 | AR1: 0 | AT1: 38.08 | AV1: 0 | AW1: 2 | AX1: 86514068 | AY1: 1 | AZ1: 6144 | BA1: 1 | BB1: 0 | BC1: 0 | BD1: 0 | BE1: 0 | BF1: 0 | BG1: 0 | BH1: 0 | BI1: 0 | BJ1: 0 | BK1: 0 | BL1: 0 | BM1: 0 | BN1: 0 | BO1: 0 | BP1: 0 | BQ1: 0 | BR1: 0 | BS1: 0 | BT1: 0 | BU1: 0 | BV1: 0 | BW1: 0 | CV1: 0 | CW1: =ROUND(AT1*Source!I28*DO1,9) -> 0 | CX1: =ROUND(Y1*Source!I28,9) -> 973.7056 | CY1: =AB1 -> 1.5 | CZ1: =AF1 -> 1.5 | DA1: =AJ1 -> 1 | DB1: =ROUND(AT1*CZ1,2) -> 57.12 | DC1: =ROUND(AT1*AG1,2) -> 0 | DF1: =ROUND(ROUND(AE1,2)*CX1,2) -> 0 | DG1: =ROUND(ROUND(AF1,2)*CX1,2) -> 1460.56 | DH1: =ROUND(ROUND(AG1,2)*ROUND(AT1*Source!I28,9),2) -> 0 | DI1: =ROUND(ROUND(AH1,2)*CX1,2) -> 0 | DJ1: =DG1 -> 1460.56 | DK1: 0 | DM1: 0 | DO1: 0
A2: =ROW(Source!A29) -> 29 | B2: 86514065 | C2: 86514066 | D2: 0 | E2: 1 | F2: 1 | G2: 30515945 | H2: 2 | I2: 2.999-0-0 | K2: Прочие машины | L2: 1344 | N2: 1008 | O2: руб. | P2: руб. | Q2: 1 | W2: 0 | X2: 422977256 | Y2: =AT2 -> 38.08 | AA2: 0 | AB2: 1.5 | AC2: 0 | AD2: 0 | AE2: 0 | AF2: 1.5 | AG2: 0 | AH2: 0 | AI2: 1 | AJ2: 1 | AK2: 1 | AL2: 1 | AM2: 0 | AN2: 0 | AO2: 1 | AP2: 0 | AQ2: 0 | AR2: 0 | AT2: 38.08 | AV2: 0 | AW2: 2 | AX2: 86514068 | AY2: 1 | AZ2: 6144 | BA2: 2 | BB2: 0 | BC2: 0 | BD2: 0 | BE2: 0 | BF2: 0 | BG2: 0 | BH2: 0 | BI2: 0 | BJ2: 0 | BK2: 0 | BL2: 0 | BM2: 0 | BN2: 0 | BO2: 0 | BP2: 0 | BQ2: 0 | BR2: 0 | BS2: 0 | BT2: 0 | BU2: 0 | BV2: 0 | BW2: 0 | CV2: 0 | CW2: =ROUND(AT2*Source!I29*DO2,9) -> 0 | CX2: =ROUND(Y2*Source!I29,9) -> 973.7056 | CY2: =AB2 -> 1.5 | CZ2: =AF2 -> 1.5 | DA2: =AJ2 -> 1 | DB2: =ROUND(AT2*CZ2,2) -> 57.12 | DC2: =ROUND(AT2*AG2,2) -> 0 | DF2: =ROUND(ROUND(AE2,2)*CX2,2) -> 0 | DG2: =ROUND(ROUND(AF2,2)*CX2,2) -> 1460.56 | DH2: =ROUND(ROUND(AG2,2)*ROUND(AT2*Source!I29,9),2) -> 0 | DI2: =ROUND(ROUND(AH2,2)*CX2,2) -> 0 | DJ2: =DG2 -> 1460.56 | DK2: 0 | DM2: 0 | DO2: 0
A3: =ROW(Source!A30) -> 30 | B3: 86514064 | C3: 86514069 | D3: 0 | E3: 1 | F3: 1 | G3: 30515945 | H3: 2 | I3: 2.999-0-0 | K3: Прочие машины | L3: 1344 | N3: 1008 | O3: руб. | P3: руб. | Q3: 1 | W3: 0 | X3: 422977256 | Y3: =AT3 -> 94.47 | AA3: 0 | AB3: 1 | AC3: 0 | AD3: 0 | AE3: 0 | AF3: 1 | AG3: 0 | AH3: 0 | AI3: 1 | AJ3: 1 | AK3: 1 | AL3: 1 | AM3: 0 | AN3: 0 | AO3: 1 | AP3: 0 | AQ3: 0 | AR3: 0 | AT3: 94.47 | AV3: 0 | AW3: 2 | AX3: 86514071 | AY3: 1 | AZ3: 0 | BA3: 3 | BB3: 0 | BC3: 0 | BD3: 0 | BE3: 0 | BF3: 0 | BG3: 0 | BH3: 0 | BI3: 0 | BJ3: 0 | BK3: 0 | BL3: 0 | BM3: 0 | BN3: 0 | BO3: 0 | BP3: 0 | BQ3: 0 | BR3: 0 | BS3: 0 | BT3: 0 | BU3: 0 | BV3: 0 | BW3: 0 | CV3: 0 | CW3: =ROUND(AT3*Source!I30*DO3,9) -> 0 | CX3: =ROUND(Y3*Source!I30,9) -> 181.3824 | CY3: =AB3 -> 1 | CZ3: =AF3 -> 1 | DA3: =AJ3 -> 1 | DB3: =ROUND(AT3*CZ3,2) -> 94.47 | DC3: =ROUND(AT3*AG3,2) -> 0 | DF3: =ROUND(ROUND(AE3,2)*CX3,2) -> 0 | DG3: =ROUND(ROUND(AF3,2)*CX3,2) -> 181.38 | DH3: =ROUND(ROUND(AG3,2)*ROUND(AT3*Source!I30,9),2) -> 0 | DI3: =ROUND(ROUND(AH3,2)*CX3,2) -> 0 | DJ3: =DG3 -> 181.38 | DK3: 0 | DM3: 0 | DO3: 0
A4: =ROW(Source!A31) -> 31 | B4: 86514065 | C4: 86514069 | D4: 0 | E4: 1 | F4: 1 | G4: 30515945 | H4: 2 | I4: 2.999-0-0 | K4: Прочие машины | L4: 1344 | N4: 1008 | O4: руб. | P4: руб. | Q4: 1 | W4: 0 | X4: 422977256 | Y4: =AT4 -> 94.47 | AA4: 0 | AB4: 1 | AC4: 0 | AD4: 0 | AE4: 0 | AF4: 1 | AG4: 0 | AH4: 0 | AI4: 1 | AJ4: 1 | AK4: 1 | AL4: 1 | AM4: 0 | AN4: 0 | AO4: 1 | AP4: 0 | AQ4: 0 | AR4: 0 | AT4: 94.47 | AV4: 0 | AW4: 2 | AX4: 86514071 | AY4: 1 | AZ4: 0 | BA4: 4 | BB4: 0 | BC4: 0 | BD4: 0 | BE4: 0 | BF4: 0 | BG4: 0 | BH4: 0 | BI4: 0 | BJ4: 0 | BK4: 0 | BL4: 0 | BM4: 0 | BN4: 0 | BO4: 0 | BP4: 0 | BQ4: 0 | BR4: 0 | BS4: 0 | BT4: 0 | BU4: 0 | BV4: 0 | BW4: 0 | CV4: 0 | CW4: =ROUND(AT4*Source!I31*DO4,9) -> 0 | CX4: =ROUND(Y4*Source!I31,9) -> 181.3824 | CY4: =AB4 -> 1 | CZ4: =AF4 -> 1 | DA4: =AJ4 -> 1 | DB4: =ROUND(AT4*CZ4,2) -> 94.47 | DC4: =ROUND(AT4*AG4,2) -> 0 | DF4: =ROUND(ROUND(AE4,2)*CX4,2) -> 0 | DG4: =ROUND(ROUND(AF4,2)*CX4,2) -> 181.38 | DH4: =ROUND(ROUND(AG4,2)*ROUND(AT4*Source!I31,9),2) -> 0 | DI4: =ROUND(ROUND(AH4,2)*CX4,2) -> 0 | DJ4: =DG4 -> 181.38 | DK4: 0 | DM4: 0 | DO4: 0
A5: =ROW(Source!A32) -> 32 | B5: 86514064 | C5: 86514072 | D5: 0 | E5: 1 | F5: 1 | G5: 30515945 | H5: 2 | I5: 2.999-0-0 | K5: Прочие машины | L5: 1344 | N5: 1008 | O5: руб. | P5: руб. | Q5: 1 | W5: 0 | X5: 422977256 | Y5: =AT5 -> 29.07 | AA5: 0 | AB5: 1 | AC5: 0 | AD5: 0 | AE5: 0 | AF5: 1 | AG5: 0 | AH5: 0 | AI5: 1 | AJ5: 1 | AK5: 1 | AL5: 1 | AM5: 0 | AN5: 0 | AO5: 1 | AP5: 0 | AQ5: 0 | AR5: 0 | AT5: 29.07 | AV5: 0 | AW5: 2 | AX5: 86514074 | AY5: 1 | AZ5: 0 | BA5: 5 | BB5: 0 | BC5: 0 | BD5: 0 | BE5: 0 | BF5: 0 | BG5: 0 | BH5: 0 | BI5: 0 | BJ5: 0 | BK5: 0 | BL5: 0 | BM5: 0 | BN5: 0 | BO5: 0 | BP5: 0 | BQ5: 0 | BR5: 0 | BS5: 0 | BT5: 0 | BU5: 0 | BV5: 0 | BW5: 0 | CV5: 0 | CW5: =ROUND(AT5*Source!I32*DO5,9) -> 0 | CX5: =ROUND(Y5*Source!I32,9) -> 687.5055 | CY5: =AB5 -> 1 | CZ5: =AF5 -> 1 | DA5: =AJ5 -> 1 | DB5: =ROUND(AT5*CZ5,2) -> 29.07 | DC5: =ROUND(AT5*AG5,2) -> 0 | DF5: =ROUND(ROUND(AE5,2)*CX5,2) -> 0 | DG5: =ROUND(ROUND(AF5,2)*CX5,2) -> 687.51 | DH5: =ROUND(ROUND(AG5,2)*ROUND(AT5*Source!I32,9),2) -> 0 | DI5: =ROUND(ROUND(AH5,2)*CX5,2) -> 0 | DJ5: =DG5 -> 687.51 | DK5: 0 | DM5: 0 | DO5: 0
A6: =ROW(Source!A33) -> 33 | B6: 86514065 | C6: 86514072 | D6: 0 | E6: 1 | F6: 1 | G6: 30515945 | H6: 2 | I6: 2.999-0-0 | K6: Прочие машины | L6: 1344 | N6: 1008 | O6: руб. | P6: руб. | Q6: 1 | W6: 0 | X6: 422977256 | Y6: =AT6 -> 29.07 | AA6: 0 | AB6: 1 | AC6: 0 | AD6: 0 | AE6: 0 | AF6: 1 | AG6: 0 | AH6: 0 | AI6: 1 | AJ6: 1 | AK6: 1 | AL6: 1 | AM6: 0 | AN6: 0 | AO6: 1 | AP6: 0 | AQ6: 0 | AR6: 0 | AT6: 29.07 | AV6: 0 | AW6: 2 | AX6: 86514074 | AY6: 1 | AZ6: 0 | BA6: 6 | BB6: 0 | BC6: 0 | BD6: 0 | BE6: 0 | BF6: 0 | BG6: 0 | BH6: 0 | BI6: 0 | BJ6: 0 | BK6: 0 | BL6: 0 | BM6: 0 | BN6: 0 | BO6: 0 | BP6: 0 | BQ6: 0 | BR6: 0 | BS6: 0 | BT6: 0 | BU6: 0 | BV6: 0 | BW6: 0 | CV6: 0 | CW6: =ROUND(AT6*Source!I33*DO6,9) -> 0 | CX6: =ROUND(Y6*Source!I33,9) -> 687.5055 | CY6: =AB6 -> 1 | CZ6: =AF6 -> 1 | DA6: =AJ6 -> 1 | DB6: =ROUND(AT6*CZ6,2) -> 29.07 | DC6: =ROUND(AT6*AG6,2) -> 0 | DF6: =ROUND(ROUND(AE6,2)*CX6,2) -> 0 | DG6: =ROUND(ROUND(AF6,2)*CX6,2) -> 687.51 | DH6: =ROUND(ROUND(AG6,2)*ROUND(AT6*Source!I33,9),2) -> 0 | DI6: =ROUND(ROUND(AH6,2)*CX6,2) -> 0 | DJ6: =DG6 -> 687.51 | DK6: 0 | DM6: 0 | DO6: 0
A7: =ROW(Source!A69) -> 69 | B7: 86514064 | C7: 86514075 | D7: 0 | E7: 1 | F7: 1 | G7: 30515945 | H7: 2 | I7: 2.999-0-0 | K7: Прочие машины | L7: 1344 | N7: 1008 | O7: руб. | P7: руб. | Q7: 1 | W7: 0 | X7: 422977256 | Y7: =AT7 -> 38.08 | AA7: 0 | AB7: 1 | AC7: 0 | AD7: 0 | AE7: 0 | AF7: 1 | AG7: 0 | AH7: 0 | AI7: 1 | AJ7: 1 | AK7: 1 | AL7: 1 | AM7: 0 | AN7: 0 | AO7: 1 | AP7: 0 | AQ7: 0 | AR7: 0 | AT7: 38.08 | AV7: 0 | AW7: 2 | AX7: 86514077 | AY7: 1 | AZ7: 0 | BA7: 7 | BB7: 0 | BC7: 0 | BD7: 0 | BE7: 0 | BF7: 0 | BG7: 0 | BH7: 0 | BI7: 0 | BJ7: 0 | BK7: 0 | BL7: 0 | BM7: 0 | BN7: 0 | BO7: 0 | BP7: 0 | BQ7: 0 | BR7: 0 | BS7: 0 | BT7: 0 | BU7: 0 | BV7: 0 | BW7: 0 | CV7: 0 | CW7: =ROUND(AT7*Source!I69*DO7,9) -> 0 | CX7: =ROUND(Y7*Source!I69,9) -> 127.568 | CY7: =AB7 -> 1 | CZ7: =AF7 -> 1 | DA7: =AJ7 -> 1 | DB7: =ROUND(AT7*CZ7,2) -> 38.08 | DC7: =ROUND(AT7*AG7,2) -> 0 | DF7: =ROUND(ROUND(AE7,2)*CX7,2) -> 0 | DG7: =ROUND(ROUND(AF7,2)*CX7,2) -> 127.57 | DH7: =ROUND(ROUND(AG7,2)*ROUND(AT7*Source!I69,9),2) -> 0 | DI7: =ROUND(ROUND(AH7,2)*CX7,2) -> 0 | DJ7: =DG7 -> 127.57 | DK7: 0 | DM7: 0 | DO7: 0
A8: =ROW(Source!A70) -> 70 | B8: 86514065 | C8: 86514075 | D8: 0 | E8: 1 | F8: 1 | G8: 30515945 | H8: 2 | I8: 2.999-0-0 | K8: Прочие машины | L8: 1344 | N8: 1008 | O8: руб. | P8: руб. | Q8: 1 | W8: 0 | X8: 422977256 | Y8: =AT8 -> 38.08 | AA8: 0 | AB8: 1 | AC8: 0 | AD8: 0 | AE8: 0 | AF8: 1 | AG8: 0 | AH8: 0 | AI8: 1 | AJ8: 1 | AK8: 1 | AL8: 1 | AM8: 0 | AN8: 0 | AO8: 1 | AP8: 0 | AQ8: 0 | AR8: 0 | AT8: 38.08 | AV8: 0 | AW8: 2 | AX8: 86514077 | AY8: 1 | AZ8: 0 | BA8: 8 | BB8: 0 | BC8: 0 | BD8: 0 | BE8: 0 | BF8: 0 | BG8: 0 | BH8: 0 | BI8: 0 | BJ8: 0 | BK8: 0 | BL8: 0 | BM8: 0 | BN8: 0 | BO8: 0 | BP8: 0 | BQ8: 0 | BR8: 0 | BS8: 0 | BT8: 0 | BU8: 0 | BV8: 0 | BW8: 0 | CV8: 0 | CW8: =ROUND(AT8*Source!I70*DO8,9) -> 0 | CX8: =ROUND(Y8*Source!I70,9) -> 127.568 | CY8: =AB8 -> 1 | CZ8: =AF8 -> 1 | DA8: =AJ8 -> 1 | DB8: =ROUND(AT8*CZ8,2) -> 38.08 | DC8: =ROUND(AT8*AG8,2) -> 0 | DF8: =ROUND(ROUND(AE8,2)*CX8,2) -> 0 | DG8: =ROUND(ROUND(AF8,2)*CX8,2) -> 127.57 | DH8: =ROUND(ROUND(AG8,2)*ROUND(AT8*Source!I70,9),2) -> 0 | DI8: =ROUND(ROUND(AH8,2)*CX8,2) -> 0 | DJ8: =DG8 -> 127.57 | DK8: 0 | DM8: 0 | DO8: 0
A9: =ROW(Source!A71) -> 71 | B9: 86514064 | C9: 86514078 | D9: 0 | E9: 1 | F9: 1 | G9: 30515945 | H9: 2 | I9: 2.999-0-0 | K9: Прочие машины | L9: 1344 | N9: 1008 | O9: руб. | P9: руб. | Q9: 1 | W9: 0 | X9: 422977256 | Y9: =AT9 -> 89.56 | AA9: 0 | AB9: 1 | AC9: 0 | AD9: 0 | AE9: 0 | AF9: 1 | AG9: 0 | AH9: 0 | AI9: 1 | AJ9: 1 | AK9: 1 | AL9: 1 | AM9: 0 | AN9: 0 | AO9: 1 | AP9: 0 | AQ9: 0 | AR9: 0 | AT9: 89.56 | AV9: 0 | AW9: 2 | AX9: 86514080 | AY9: 1 | AZ9: 0 | BA9: 9 | BB9: 0 | BC9: 0 | BD9: 0 | BE9: 0 | BF9: 0 | BG9: 0 | BH9: 0 | BI9: 0 | BJ9: 0 | BK9: 0 | BL9: 0 | BM9: 0 | BN9: 0 | BO9: 0 | BP9: 0 | BQ9: 0 | BR9: 0 | BS9: 0 | BT9: 0 | BU9: 0 | BV9: 0 | BW9: 0 | CV9: 0 | CW9: =ROUND(AT9*Source!I71*DO9,9) -> 0 | CX9: =ROUND(Y9*Source!I71,9) -> 300.026 | CY9: =AB9 -> 1 | CZ9: =AF9 -> 1 | DA9: =AJ9 -> 1 | DB9: =ROUND(AT9*CZ9,2) -> 89.56 | DC9: =ROUND(AT9*AG9,2) -> 0 | DF9: =ROUND(ROUND(AE9,2)*CX9,2) -> 0 | DG9: =ROUND(ROUND(AF9,2)*CX9,2) -> 300.03 | DH9: =ROUND(ROUND(AG9,2)*ROUND(AT9*Source!I71,9),2) -> 0 | DI9: =ROUND(ROUND(AH9,2)*CX9,2) -> 0 | DJ9: =DG9 -> 300.03 | DK9: 0 | DM9: 0 | DO9: 0
A10: =ROW(Source!A72) -> 72 | B10: 86514065 | C10: 86514078 | D10: 0 | E10: 1 | F10: 1 | G10: 30515945 | H10: 2 | I10: 2.999-0-0 | K10: Прочие машины | L10: 1344 | N10: 1008 | O10: руб. | P10: руб. | Q10: 1 | W10: 0 | X10: 422977256 | Y10: =AT10 -> 89.56 | AA10: 0 | AB10: 1 | AC10: 0 | AD10: 0 | AE10: 0 | AF10: 1 | AG10: 0 | AH10: 0 | AI10: 1 | AJ10: 1 | AK10: 1 | AL10: 1 | AM10: 0 | AN10: 0 | AO10: 1 | AP10: 0 | AQ10: 0 | AR10: 0 | AT10: 89.56 | AV10: 0 | AW10: 2 | AX10: 86514080 | AY10: 1 | AZ10: 0 | BA10: 10 | BB10: 0 | BC10: 0 | BD10: 0 | BE10: 0 | BF10: 0 | BG10: 0 | BH10: 0 | BI10: 0 | BJ10: 0 | BK10: 0 | BL10: 0 | BM10: 0 | BN10: 0 | BO10: 0 | BP10: 0 | BQ10: 0 | BR10: 0 | BS10: 0 | BT10: 0 | BU10: 0 | BV10: 0 | BW10: 0 | CV10: 0 | CW10: =ROUND(AT10*Source!I72*DO10,9) -> 0 | CX10: =ROUND(Y10*Source!I72,9) -> 300.026 | CY10: =AB10 -> 1 | CZ10: =AF10 -> 1 | DA10: =AJ10 -> 1 | DB10: =ROUND(AT10*CZ10,2) -> 89.56 | DC10: =ROUND(AT10*AG10,2) -> 0 | DF10: =ROUND(ROUND(AE10,2)*CX10,2) -> 0 | DG10: =ROUND(ROUND(AF10,2)*CX10,2) -> 300.03 | DH10: =ROUND(ROUND(AG10,2)*ROUND(AT10*Source!I72,9),2) -> 0 | DI10: =ROUND(ROUND(AH10,2)*CX10,2) -> 0 | DJ10: =DG10 -> 300.03 | DK10: 0 | DM10: 0 | DO10: 0

Sheet EtalonRes
A1: =ROW(Source!A28) -> 28 | B1: 86514068 | C1: 86514066 | D1: 0 | E1: 1 | F1: 1 | G1: 30515945 | H1: 2 | I1: 2.999-0-0 | K1: Прочие машины | L1: 1344 | N1: 1008 | O1: руб. | P1: руб. | Q1: 1 | X1: 128.52 | Y1: 0 | Z1: 1.5 | AA1: 0 | AB1: 0 | AC1: 0 | AD1: 1 | AE1: 0 | AF1: *1,5 | AG1: 192.78 | AH1: 2 | AI1: 86514067 | AJ1: 1 | AK1: 0 | AL1: 0 | AM1: 0 | AN1: 0 | AO1: 0 | AP1: 0 | AQ1: 0 | AR1: 0
A2: =ROW(Source!A29) -> 29 | B2: 86514068 | C2: 86514066 | D2: 0 | E2: 1 | F2: 1 | G2: 30515945 | H2: 2 | I2: 2.999-0-0 | K2: Прочие машины | L2: 1344 | N2: 1008 | O2: руб. | P2: руб. | Q2: 1 | X2: 128.52 | Y2: 0 | Z2: 1.5 | AA2: 0 | AB2: 0 | AC2: 0 | AD2: 1 | AE2: 0 | AF2: *1,5 | AG2: 192.78 | AH2: 2 | AI2: 86514067 | AJ2: 2 | AK2: 0 | AL2: 0 | AM2: 0 | AN2: 0 | AO2: 0 | AP2: 0 | AQ2: 0 | AR2: 0
A3: =ROW(Source!A30) -> 30 | B3: 86514071 | C3: 86514069 | D3: 0 | E3: 1 | F3: 1 | G3: 30515945 | H3: 2 | I3: 2.999-0-0 | K3: Прочие машины | L3: 1344 | N3: 1008 | O3: руб. | P3: руб. | Q3: 1 | X3: 94.47 | Y3: 0 | Z3: 1 | AA3: 0 | AB3: 0 | AC3: 0 | AD3: 1 | AE3: 0 | AG3: 94.47 | AH3: 2 | AI3: 86514070 | AJ3: 3 | AK3: 0 | AL3: 0 | AM3: 0 | AN3: 0 | AO3: 0 | AP3: 0 | AQ3: 0 | AR3: 0
A4: =ROW(Source!A31) -> 31 | B4: 86514071 | C4: 86514069 | D4: 0 | E4: 1 | F4: 1 | G4: 30515945 | H4: 2 | I4: 2.999-0-0 | K4: Прочие машины | L4: 1344 | N4: 1008 | O4: руб. | P4: руб. | Q4: 1 | X4: 94.47 | Y4: 0 | Z4: 1 | AA4: 0 | AB4: 0 | AC4: 0 | AD4: 1 | AE4: 0 | AG4: 94.47 | AH4: 2 | AI4: 86514070 | AJ4: 4 | AK4: 0 | AL4: 0 | AM4: 0 | AN4: 0 | AO4: 0 | AP4: 0 | AQ4: 0 | AR4: 0
A5: =ROW(Source!A32) -> 32 | B5: 86514074 | C5: 86514072 | D5: 0 | E5: 1 | F5: 1 | G5: 30515945 | H5: 2 | I5: 2.999-0-0 | K5: Прочие машины | L5: 1344 | N5: 1008 | O5: руб. | P5: руб. | Q5: 1 | X5: 29.07 | Y5: 0 | Z5: 1 | AA5: 0 | AB5: 0 | AC5: 0 | AD5: 1 | AE5: 0 | AG5: 29.07 | AH5: 2 | AI5: 86514073 | AJ5: 5 | AK5: 0 | AL5: 0 | AM5: 0 | AN5: 0 | AO5: 0 | AP5: 0 | AQ5: 0 | AR5: 0
A6: =ROW(Source!A33) -> 33 | B6: 86514074 | C6: 86514072 | D6: 0 | E6: 1 | F6: 1 | G6: 30515945 | H6: 2 | I6: 2.999-0-0 | K6: Прочие машины | L6: 1344 | N6: 1008 | O6: руб. | P6: руб. | Q6: 1 | X6: 29.07 | Y6: 0 | Z6: 1 | AA6: 0 | AB6: 0 | AC6: 0 | AD6: 1 | AE6: 0 | AG6: 29.07 | AH6: 2 | AI6: 86514073 | AJ6: 6 | AK6: 0 | AL6: 0 | AM6: 0 | AN6: 0 | AO6: 0 | AP6: 0 | AQ6: 0 | AR6: 0
A7: =ROW(Source!A69) -> 69 | B7: 86514077 | C7: 86514075 | D7: 0 | E7: 1 | F7: 1 | G7: 30515945 | H7: 2 | I7: 2.999-0-0 | K7: Прочие машины | L7: 1344 | N7: 1008 | O7: руб. | P7: руб. | Q7: 1 | X7: 38.08 | Y7: 0 | Z7: 1 | AA7: 0 | AB7: 0 | AC7: 0 | AD7: 1 | AE7: 0 | AG7: 38.08 | AH7: 2 | AI7: 86514076 | AJ7: 7 | AK7: 0 | AL7: 0 | AM7: 0 | AN7: 0 | AO7: 0 | AP7: 0 | AQ7: 0 | AR7: 0
A8: =ROW(Source!A70) -> 70 | B8: 86514077 | C8: 86514075 | D8: 0 | E8: 1 | F8: 1 | G8: 30515945 | H8: 2 | I8: 2.999-0-0 | K8: Прочие машины | L8: 1344 | N8: 1008 | O8: руб. | P8: руб. | Q8: 1 | X8: 38.08 | Y8: 0 | Z8: 1 | AA8: 0 | AB8: 0 | AC8: 0 | AD8: 1 | AE8: 0 | AG8: 38.08 | AH8: 2 | AI8: 86514076 | AJ8: 8 | AK8: 0 | AL8: 0 | AM8: 0 | AN8: 0 | AO8: 0 | AP8: 0 | AQ8: 0 | AR8: 0
A9: =ROW(Source!A71) -> 71 | B9: 86514080 | C9: 86514078 | D9: 0 | E9: 1 | F9: 1 | G9: 30515945 | H9: 2 | I9: 2.999-0-0 | K9: Прочие машины | L9: 1344 | N9: 1008 | O9: руб. | P9: руб. | Q9: 1 | X9: 89.56 | Y9: 0 | Z9: 1 | AA9: 0 | AB9: 0 | AC9: 0 | AD9: 1 | AE9: 0 | AG9: 89.56 | AH9: 2 | AI9: 86514079 | AJ9: 9 | AK9: 0 | AL9: 0 | AM9: 0 | AN9: 0 | AO9: 0 | AP9: 0 | AQ9: 0 | AR9: 0
A10: =ROW(Source!A72) -> 72 | B10: 86514080 | C10: 86514078 | D10: 0 | E10: 1 | F10: 1 | G10: 30515945 | H10: 2 | I10: 2.999-0-0 | K10: Прочие машины | L10: 1344 | N10: 1008 | O10: руб. | P10: руб. | Q10: 1 | X10: 89.56 | Y10: 0 | Z10: 1 | AA10: 0 | AB10: 0 | AC10: 0 | AD10: 1 | AE10: 0 | AG10: 89.56 | AH10: 2 | AI10: 86514079 | AJ10: 10 | AK10: 0 | AL10: 0 | AM10: 0 | AN10: 0 | AO10: 0 | AP10: 0 | AQ10: 0 | AR10: 0

Sheet SrcPoprs

Sheet SrcKA
A1: 0 | B1: Smeta.RU (495) 974-1589 | D1: _PS_ | F1: 0 | G1: 0 | H1: 0 | I1: Smeta.RU | K1: 1 | L1: 76812 | M1: 10 | N1: 12 | O1: 2 | P1: 0 | Q1: 1
F12: =Source!F12 -> СР-09-02 | G12: =Source!G12 -> Перевозка и приём порубочных остатков | AJ12: 0 | CY12: 0
