Workbook
Name \AUTOEXEC: #REF!
Name \AUTOEXEC: #REF!
Name \AUTOEXEC: #REF!
Name \AUTOEXEC: #REF!
Name \AUTOEXEC: #REF!
Name \AUTOEXEC: #REF!
Name \AUTOEXEC_14: #N/A
Name \AUTOEXEC_14: "#n"/Геофизика!a
Name \AUTOEXEC_14: "#n"/ИЭИ!a
Name \AUTOEXEC_14: #N/A
Name \AUTOEXEC_14: #N/A
Name \AUTOEXEC_14: #N/A
Name \AUTOEXEC_14: "#n"/[0]!a
Name \k: #REF!
Name \k: #REF!
Name \k: #REF!
Name \k: #REF!
Name \k: #REF!
Name \k_14: #N/A
Name \k_14: "#n"/Геофизика!a
Name \k_14: "#n"/ИЭИ!a
Name \k_14: #N/A
Name \k_14: #N/A
Name \k_14: #N/A
Name \k_14: "#n"/[0]!a
Name \m: #REF!
Name \m: #REF!
Name \m: #REF!
Name \m: #REF!
Name \m: #REF!
Name \m_14: #N/A
Name \m_14: "#n"/Геофизика!a
Name \m_14: "#n"/ИЭИ!a
Name \m_14: #N/A
Name \m_14: #N/A
Name \m_14: #N/A
Name \m_14: "#n"/[0]!a
Name \m1: #N/A
Name \m1_14: "#REF!"
Name \n: #N/A
Name \s: #REF!
Name \s: #REF!
Name \s: #REF!
Name \s: #REF!
Name \s: #REF!
Name \s_14: #N/A
Name \s_14: "#n"/Геофизика!a
Name \s_14: "#n"/ИЭИ!a
Name \s_14: #N/A
Name \s_14: #N/A
Name \s_14: #N/A
Name \s_14: "#n"/[0]!a
Name \z: #REF!
Name \z: #REF!
Name \z: #REF!
Name \z: #REF!
Name \z: #REF!
Name \z_14: #N/A
Name \z_14: "#n"/Геофизика!a
Name \z_14: "#n"/ИЭИ!a

Sheet Сводная
K1: Приложение №1
K2: к ПНМЦД
A6: Сводная смета
A7: на выполнение проектно-изыскательских работ с их сопровождением при прохождении экспертизы по объекту: "Реконструкция газопровода низкого давления по адресу: г. Москва , ЮЗАО, Б.Черемушкинская ул. , д. 20, к. 1-ул. Кржижановского, д. 23, к.6"
B9: Наименование проектной (изыскательской) организации
B12: Наименование организации заказчика | H12: АО "МОСГАЗ"
B14: Стадийность проектирования | H14: Проектная и рабочая документация
A16: Составлена в ценах 2000 с коэфф. пересчета на 4 квартал 2025 года , в соответствии с Приложением к приказу Москомэкспертизы от 26.12.2024г. № МКЭ-ОД/24-185
A17: Смета №1 составлена с применением Сборника 4.2 «Инженерные сети и сооружения. МРР-4.2.04-22», утвержденного и введенного в действие приказом Москомэкспертизы от 26.12.2022 № МКЭ-ОД/22-121, с коэфф. пересчета на 4 квартал 2025 года в соответствии с Приложением к приказу Москомэкспертизы от 26.12.2024г. № МКЭ-ОД/24-185
A18: Смета №2 составлена с применением Сборника 4.9 «Объекты газооборудования и газоснабжения. МРР-4.9.02-22», утвержденного и введенного в действие приказом Москомэкспертизы от 29.09.2022 № МКЭ-ОД/22-83, Сборника 4.2 «Инженерные сети и сооружения. МРР-4.2.04-22», утвержденного и введенного в действие приказом Москомэкспертизы от 26.12.2022 № МКЭ-ОД/22-121, с коэфф. пересчета на 4 квартал 2025 года в соответствии с Приложением к приказу Москомэкспертизы от 26.12.2024г. № МКЭ-ОД/24-185
A19: Смета №3 составлена на основании Сборника цен на изыскательские работы для капитального строительства, утвержденного постановлением Госстроя СССР от 16.07.1981 № 121 с учетом дополнений, утвержденных постановлением Госстроя СССР от 01.03.1990 № 22, с коэфф. пересчета на 1 квартал 2025 года по Приложению к Письму Минстроя России от Письмо Минстроя России № 5170-ИФ/09 от 01.02.2025; Сборника 3.1 «Инженерно-геодезические изыскания. МРР-3.1.02-23», утвержден и введен в действие приказом Комитета города Москвы по ценовой политике в строительстве и государственной экспертизе проектов от 29 декабря 2023 г. № МКЭ-ОД/23-155., с коэфф. пересчета на 4 квартал 2025 года, в соответствии с Приложением к приказу Москомэкспертизы от 26.12.2024г. № МКЭ-ОД/24-185
A20: Смета №4 составлена с применением Сборника 6.6 «Проекты организации дорожного движения. МРР-6.6.02-21»,Сборник утвержден и введен в действие приказом Комитета города Москвы по ценовой политике в строительстве и государственной экспертизе проектов от 30 июня 2021 г. № МКЭ-ОД/21-52, с коэфф. пересчета на 4 квартал 2025 года, в соответствии с Приложением к приказу Москомэкспертизы от 26.12.2024г. № МКЭ-ОД/24-185
A21: Смета №5 составлена с применением Сборника 6.1 «Мероприятия по охране окружающей среды. МРР-6.1.02-19», утвержденного и введенного в действие приказом Москомэкспертизы от 28.06.2019 № МКЭ-ОД/19-41, с коэфф. пересчета на 4 квартал 2025 года в соответствии с Приложением к приказу Москомэкспертизы от 26.12.2024г. № МКЭ-ОД/24-185
A22: Смета №6 составлена с применением Сборника 7.1 «Комплексное благоустройство территорий, крыш зданий и других искусственных оснований. МРР-7.1.03-21», утвержденного и введенного в действие приказом Москомэкспертизы от 31.03.2021 № МКЭ-ОД/21-30, с коэфф. пересчета на 4 квартал 2025 года в соответствии с Приложением к приказу Москомэкспертизы от 26.12.2024г. № МКЭ-ОД/24-185
A23: Смета №7 составлена с применением Сборник 3.3 «Инженерно-экологические изыскания. МРР-3.3.02-23», утвержденного и введенного в действие приказом Москомэкспертизы от 25.12.2023 № МКЭ-ОД/23-149, с коэфф. пересчета на 4 квартал 2025 года в соответствии с Приложением к приказу Москомэкспертизы от 26.12.2024г. № МКЭ-ОД/24-185
A24: Смета №8 составлена с применением Сборника 6.1 «Мероприятия по охране окружающей среды. МРР-6.1.02-19», утвержденного и введенного в действие приказом Москомэкспертизы от 28.06.2019 № МКЭ-ОД/19-41, с коэфф. пересчета на 4 квартал 2025 года в соответствии с Приложением к приказу Москомэкспертизы от 26.12.2024г. № МКЭ-ОД/24-185
A25: Смета №9 составлена с применением Сборника 6.2 «Мероприятия по обеспечению пожарной безопасности. МРР-6.2.03-22», утвержденного и введенного в действие приказом Москомэкспертизы от 15.06.2022 № МКЭ-ОД/22-49, с коэфф. пересчета на 4 квартал 2025 года в соответствии с Приложением к приказу Москомэкспертизы от 26.12.2024г. № МКЭ-ОД/24-185
A26: Смета №.9.1 составлена с применением Сборника 9.1 «Методика расчета стоимости проектных, научных, нормативно-методических и других видов работ (услуг) на основании нормируемых трудозатрат. МРР-9.1.02-18», утвержденного и введенного в действие приказом Москомэкспертизы от 26.12.2018 № МКЭ-ОД/18-74, с коэфф. пересчета на 4 квартал 2025 года в соответствии с Приложением к приказу Москомэкспертизы от 26.12.2024г. № МКЭ-ОД/24-185
A27: Смета №10 составлена с применением Сборника 3.2 «Инженерно-геологические изыскания. МРР-3.2.02-23», утвержденного и введенного в действие приказом Москомэкспертизы от 29.12.2023 № МКЭ-ОД/23-156, с коэфф. пересчета на 4 квартал 2025 года в соответствии с Приложением к приказу Москомэкспертизы от 26.12.2024г. № МКЭ-ОД/24-185
... A32: Смета №.15 составлена с применением Сборника 9.1 «Методика расчета стоимости проектных, научных, нормативно-методических и других видов работ (услуг) на основании нормируемых трудозатрат. МРР-9.1.02-18», утвержденного и введенного в действие приказом Москомэкспертизы от 26.12.2018 № МКЭ-ОД/18-74, с коэфф. пересчета на 4 квартал 2025 года в соответствии с Приложением к приказу Москомэкспертизы от 26.12.2024г. № МКЭ-ОД/24-185
A33: № | B33: Перечень выполняемых работ | F33: Локальная смета №№ | G33: Стоимость работ в руб.
G34: Прочая документация | H34: изыскательских | I34: проектных | K34: всего
I35: стадия "ПД" | J35: стадия "РД"
A36: 1 | B36: Проектные работы по реконструкции газопровода | F36: №1 | I36: =K36*0.4 -> 4475761.9 | J36: =K36-I36 -> 6713642.9 | K36: =РП!Q264 -> 11189405
A37: 2 | B37: Проектные работы по электрохимзащите от коррозии | F37: №2 | I37: =K37*0.4 -> 221339.04 | J37: =K37-I37 -> 332008.55 | K37: ='АЗ (2)'!K214 -> 553347.59
A38: 3 | B38: Выполнение инженерно-геофизических изысканий | F38: №3 | H38: =K38 -> 54347.87 | K38: =Геофизика!J113 -> 54347.87
A39: 4 | B39: Проектные работы по организации дорожного движения | F39: №4 | I39: =K39*0.4 -> 67569.656 | J39: =K39-I39 -> 101354.48 | K39: ='ОДД '!G78 -> 168924.14
A40: 5 | B40: Проектные работы по дендрологии | F40: №5 | I40: =K40*0.4 -> 189911.58 | J40: =K40*0.6 -> 284867.37 | K40: =ПД!S133 -> 474778.94
A41: 6 | B41: Проектные работы по благоустройству и озеленению | F41: №6 | I41: =K41*0.4 -> 61670.616 | J41: =K41*0.6 -> 92505.924 | K41: =БО!N36 -> 154176.54
A42: 7 | B42: Выполнение инженерно-экологических изысканий | F42: №7 | H42: =K42 -> 2021409 | K42: =ИЭИ!K55 -> 2021409
A43: 8 | B43: Проектные работы по охране окружающей среды | F43: №8 | I43: =K43 -> 675881.69 | K43: ='ООС-1'!M99 -> 675881.69
A44: 9 | B44: Проектные работы по разделу «Мероприятия по обеспечению пожарной безопасности" | F44: №9; №9.1 | I44: =K44 -> 283079.22 | K44: =ПБ!Q37+'Пож. риск'!K41 -> 283079.22
A45: 10 | B45: Выполнение инженерно-геологических изысканий | F45: №10 | H45: =K45 -> 2946375.3 | K45: =ИГИ!G43 -> 2946375.3
A46: 11 | B46: Разработка раздела оценки (математическое моделирование) влияния на окружающую застройку | F46: №11 | H46: =K46 -> 1309700.1 | K46: =ОВС!G29 -> 1309700.1
A47: 12 | B47: Разработка раздела техническое обследование существующих зданий и сооружений | F47: №12 | H47: =K47 -> 546303.72 | K47: =ОСК!Q31 -> 546303.72
A48: 13 | B48: Разработка раздела "Требования к обеспечению безопасной эксплуатации" | F48: №13 | I48: =K48 -> 72936.5 | K48: =ТБЭ!O22 -> 72936.5
A49: 14 | B49: Раздед по обеспечению сохранности объектов культурного наследия Проведение государственной историко-культурной экспертизы (ГИКЭ). | F49: №14 | I49: =K49 -> 963957.24 | K49: =ОКН!H46 -> 963957.24
A50: 15 | B50: Получение платных согласований | F50: №15 | I50: =K50*0.4 -> 169940.31 | J50: =K50-I50 -> 254910.47 | K50: =Согласования!K41 -> 424850.78
A51: 16 | B51: ИТОГО: | G51: =SUM(G36:G47) -> 0 | H51: =SUM(H36:H50) -> 6878136 | I51: =SUM(I36:I50) -> 7182047.8 | J51: =SUM(J36:J50) -> 7779289.7 | K51: =SUM(K36:K50) -> 21839473 | L51: =G51+H51+I51+J51 -> 21839473 | M51: =РП!Q264+'АЗ (2)'!K214+Геофизика!J113+'ОДД '!G78+ПД!S133+БО!N36+ИЭИ!K55+'ООС-1'!M99+ПБ!Q37+'Пож. риск'!K41+ИГИ!G43+ОВС!G29+ОСК!Q31+ТБЭ!O22+ОКН!H46+Согласования!K41 -> 21839473
A52: 17 | B52: НДС 20% | K52: =K51*0.2 -> 4367894.7
...

Sheet РП
Q1: Приложение №1.1
Q2: к ПНМЦД
A5: Смета №1
A6: на проектные работы по реконструкции газопровода
A8: Наименование работ | I8: =Сводная!A7 -> на выполнение проектно-изыскательских работ с их сопровождением при прохождении экспертизы по объекту: "Реконструкция газопровода низкого давления по адресу: г. Москва , ЮЗАО, Б.Черемушкинская ул. , д. 20, к. 1-ул. Кржижановского, д. 23, к.6"
A9: Наименование стадии проектирования,
A10: этапа, вида проектных работ | I10: Проектная и рабочая документация
A12: Наименование организации Заказчика | I12: АО "МОСГАЗ"
A14: Наименование организации Подрядчика
A16: Смета составлена с применением Сборника 4.2 «Инженерные сети и сооружения. МРР-4.2.04-22», утвержденного и введенного в действие приказом Москомэкспертизы от 26.12.2022 № МКЭ-ОД/22-121, с коэфф. пересчета на 4 квартал 2025 года в соответствии с Приложением к приказу Москомэкспертизы от 26.12.2024г. № МКЭ-ОД/24-185
A17: №№ п/п | B17: Характеристика сооружений или видов работ | I17: №№ частей, глав, таблиц, пунктов указаний к разделам нормативного сборника | L17: Расчет стоимости | Q17: Стоимость
B18: СПР(Т)г/з = | D18: Ц(б)2000 х | F18: Nг/з х Пкi х | H18: Кпер. | J18: Ц(б)2000 = а + в х Х
I19: К - | J19: 1 | K19: стад. ПД и РД
A20: 1 | B20: Газопровод. Низкое давление. | D20: L = | E20: =2100-C42-C51 -> 1500 | F20: м | I20: а - | J20: 83.8 | K20: т. 3.2. п. 2.
B21: D = | C21: до 600 | D21: мм | I21: в - | J21: 0.381 | K21: =K20 -> т. 3.2. п. 2. | T21: =E20+C51+E58+C80 -> 2350
B22: L = | C22: =E20-C32 -> 1200 | D22: м | I22: х - | J22: =E20 -> 1500
I23: КIIкат.сл.- | J23: 1 | K23: Часть 2 п. 2.21 | L23: =G25*1000 -> 655300 | M23: х | N23: =J19 -> 1 | O23: х | P23: =J23 -> 1 | Q23: =ROUND(L23*N23*P23*N24*P24*N25*P25*N26,2) -> 4201783.6
B24: Ц(б)2000 = | C24: =CONCATENATE("(",J20,"+",J21,"*",J22,")") -> (83,8+0,381*1500) | I24: Кдемонтаж. - | J24: 1 | K24: Часть 2 п. 2.13 | M24: х | N24: =J24 -> 1 | O24: х | P24: =J25 -> 1
F25: = | G25: =ROUND((J20+J21*J22),7) -> 655.3 | H25: т.р. | I25: К ж/бет. основ. - | J25: 1 | K25: Часть 2 п. 2.11 | M25: х | N25: =J27 -> 1 | O25: х | P25: =J28 -> 8.015
E26: =ROUND(C22/E20*100,2) -> 80 | F26: % | I26: Кобъем | J26: =E26/100 -> 0.8 | M26: х | N26: =J26 -> 0.8
I27: К рек. - | J27: 1 | K27: Часть 2 п. 2.20
I28: Кпер. - | J28: 8.015 | K28: (4 кв.2025г.)
I29: К - | J29: 1 | K29: стад. ПД и РД | S29: =E26+E36 -> 100
A30: 2 | B30: Газопровод Низкое давление . Стальной футляр | I30: а - | J30: =J20 -> 83.8 | K30: =K20 -> т. 3.2. п. 2.
B31: D = | C31: до 600 | D31: мм | I31: в - | J31: =J21 -> 0.381 | K31: =K30 -> т. 3.2. п. 2.
B32: Lуч-ка = | C32: =E20*0.2*1 -> 300 | D32: м | I32: х - | J32: =J22 -> 1500
I33: КIIкат.сл.- | J33: =J23 -> 1 | K33: Часть 2 п. 2.21 | L33: =G35*1000 -> 655300 | M33: х | N33: =J29 -> 1 | O33: х | P33: =J33 -> 1 | Q33: =ROUND(L33*N33*P33*N34*P34*N35*P35*N36,2) -> 1155490.5 | X33: =E5+E36 -> 20
B34: Ц(б)2000 = | C34: =C24 -> (83,8+0,381*1500) | I34: Кдемонтаж. - | J34: 1 | K34: Часть 2 п. 2.13 | M34: х | N34: =J34 -> 1 | O34: х | P34: =J35 -> 1.1
F35: = | G35: =ROUND((J30+J31*J32),7) -> 655.3 | H35: т.р. | I35: К стал. футляр - | J35: 1.1 | K35: Часть 2 п. 2.11 | M35: х | N35: =J37 -> 1 | O35: х | P35: =J38 -> 8.015
E36: =ROUND(C32/E20*100,2) -> 20 | F36: % | I36: Кобъем | J36: =E36/100 -> 0.2 | M36: х | N36: =J36 -> 0.2
I37: К рек. - | J37: 1 | K37: Часть 2 п. 2.20
I38: Кпер. - | J38: =J28 -> 8.015 | K38: =K28 -> (4 кв.2025г.)
I39: К - | J39: 1 | K39: стад. ПД и РД
A40: 3 | B40: Газопровод Низкое давление. Закрытая прокладка | I40: а - | J40: 13 | K40: т. 3.3 п. 5.
B41: D = | C41: 315 | D41: мм | I41: в - | J41: 1.28 | K41: =K40 -> т. 3.3 п. 5.
B42: L = | C42: 0 | D42: м | I42: х - | J42: =C42 -> 0
I43: КIIIкат.сл.- | J43: =J23 -> 1 | K43: Часть 2 п. 2.21 | L43: =G45*1000 -> 13000 | M43: х | N43: =J39 -> 1 | O43: х | P43: =J43 -> 1 | Q43: =ROUND(L43*N43*P43*N44*P44*N45*P45,2)*0 -> 0
B44: Ц(б)2000 = | C44: =CONCATENATE("(",J40,"+",J41,"*",J42,")") -> (13+1,28*0) | I44: К пром.без. - | J44: 1 | K44: Часть 2 п. 2.10 | M44: х | N44: =J44 -> 1 | O44: х | P44: =J45 -> 1
F45: = | G45: =ROUND((J40+J41*J42),3) -> 13 | H45: т.р. | I45: К метро. - | J45: 1 | K45: Часть 2 п. 2.8 | M45: х | N45: =J46 -> 1 | O45: х | P45: =J47 -> 8.015
I46: К рек. - | J46: 1 | K46: =K37 -> Часть 2 п. 2.20
...

Sheet АЗ (2)
K1: Приложение №1.2
A4: Смета №2
A5: на проектные работы по электрохимзащите от коррозии
A7: Наименование работ | F7: =РП!I8 -> на выполнение проектно-изыскательских работ с их сопровождением при прохождении экспертизы по объекту: "Реконструкция газопровода низкого давления по адресу: г. Москва , ЮЗАО, Б.Черемушкинская ул. , д. 20, к. 1-ул. Кржижановского, д. 23, к.6"
A8: Наименование стадии проектирования,
A9: этапа, вида проектных работ | H9: Проектная и рабочая документация
A11: Наименование организации Заказчика | H11: АО "Мосгаз"
A13: Наименование организации Подрядчика
A15: Смета составлена с применением Сборника 4.9 «Объекты газооборудования и газоснабжения. МРР-4.9.02-22», утвержденного и введенного в действие приказом Москомэкспертизы от 29.09.2022 № МКЭ-ОД/22-83, Сборника 4.2 «Инженерные сети и сооружения. МРР-4.2.04-22», утвержденного и введенного в действие приказом Москомэкспертизы от 26.12.2022 № МКЭ-ОД/22-121, с коэфф. пересчета на 4 квартал 2025 года в соответствии с Приложением к приказу Москомэкспертизы от 26.12.2024г. № МКЭ-ОД/24-185
A16: №№ п.п. | B16: Характеристика предприятия, здания,сооружения или виды работ | F16: № части и глав табл., пункты указаний к разделу или главе Сборника цен на ПИР | I16: Расчет стоимости | K16: Стоимость, руб.
I17: цена за ед., руб. | J17: кол-во
A18: 1 | B18: Активная защита | F18: МРР-4.9.02-22
A19: 1.1 | B19: Электрозащитная установка
B20: (ЭЗУ) от коррозии | F20: a= | G20: 3 | H20: , табл. 3.7
B21: Х= | C21: 2 | D21: шт. - кол-во | F21: b= | G21: 19.8 | H21: , табл. 3.7 | I21: (a+b•X) | K21: =ROUND(G20*1000+G21*1000*C21,0) -> 42600
B22: реконструкция | F22: К= | G22: 1 | H22: , п. 2.4 | I22: =K21 -> 42600 | J22: =G22 -> 1 | K22: =ROUND(I22*J22,0) -> 42600
B23: наличие зоны метро или ж/д | F23: К= | G23: 1 | H23: , п. 2.5 | I23: =K22 -> 42600 | J23: =G23 -> 1 | K23: =ROUND(I23*J23,0) -> 42600
B24: защита более 5-ти ком-ций | F24: К= | G24: 1 | H24: , табл. 3.7, прим. 1 | I24: =K23 -> 42600 | J24: =G24 -> 1 | K24: =ROUND(I24*J24,0) -> 42600
B25: стадийность проекта | F25: К= | G25: 0.2 | H25: приложен.1 п.15 | I25: =K24 -> 42600 | J25: =G25 -> 0.2 | K25: =ROUND(I25*J25,0) -> 8520
A26: 1.2 | B26: Глубинный анодный | F26: табл. 3.7, примечание 2
B27: заземлитель (Гл.А.З.)
B28: N= | C28: 0 | D28: шт. - кол-во | F28: С= | G28: 10.44 | H28: , табл. 3.8 п. 1 | I28: =G28*1000 -> 10440 | J28: =C28 -> 0 | K28: =ROUND(I28*J28,0) -> 0
B29: наличие зоны метро или ж/д | F29: К= | G29: 1 | H29: =H23 -> , п. 2.5 | I29: =K28 -> 0 | J29: =G29 -> 1 | K29: =ROUND(I29*J29,0) -> 0
B30: стадийность проекта | F30: К= | G30: =[115]ИСХОДНИК!F17 -> 1 | H30: , табл. 1 | I30: =K29 -> 0 | J30: =G30 -> 1 | K30: =ROUND(I30*J30,0) -> 0
A31: 1.2 | B31: Гальванический анод | F31: табл. 3.7, примечание 3
B32: (протектор)
B33: N= | C33: 5 | D33: шт. - кол-во | F33: С= | G33: 10.44 | H33: , табл. 3.8 п. 1 | I33: =G33*1000 -> 10440 | J33: =C33 -> 5 | K33: =ROUND(I33*J33,0) -> 52200
F34: К= | G34: 0.1 | H34: , табл. 3.7, прим. 3 | I34: =K33 -> 52200 | J34: =G34 -> 0.1 | K34: =ROUND(I34*J34,0) -> 5220
B35: наличие зоны метро или ж/д | F35: К= | G35: 1 | H35: =H23 -> , п. 2.5 | I35: =K34 -> 5220 | J35: =G35 -> 1 | K35: =ROUND(I35*J35,0) -> 5220
B36: стадийность проекта | F36: К= | G36: =[115]ИСХОДНИК!F17 -> 1 | H36: , табл. 1 | I36: =K35 -> 5220 | J36: =G36 -> 1 | K36: =ROUND(I36*J36,0) -> 5220
A37: 1.3 | B37: Контрольно-измерительный | F37: табл. 3.7, примечание 5
B38: пункт (КИП; ПТ)
B39: N= | C39: 1 | D39: шт. - кол-во | F39: C= | G39: 0 | H39: , табл. 3.7 (Х=1) | I39: =G39*1000 -> 0 | J39: =C39 -> 1 | K39: =ROUND(I39*J39,0) -> 0
F40: К= | G40: 0.007 | H40: , табл. 3.7, прим. 5 | I40: =K39 -> 0 | J40: =G40 -> 0.007 | K40: =ROUND(I40*J40,0) -> 0
B41: наличие зоны метро или ж/д | F41: К= | G41: 1 | H41: =H23 -> , п. 2.5 | I41: =K40 -> 0 | J41: =G41 -> 1 | K41: =ROUND(I41*J41,0) -> 0
B42: стадийность проекта | F42: К= | G42: =[115]ИСХОДНИК!F17 -> 1 | H42: , табл. 1 | I42: =K41 -> 0 | J42: =G42 -> 1 | K42: =ROUND(I42*J42,0) -> 0
A43: 1.3 | B43: Электроперемычка (ЭП) | F43: табл. 3.7, примечание 5
B44: N= | C44: 0 | D44: шт. - кол-во | F44: C= | G44: 22.8 | H44: , табл. 3.7 (Х=1) | I44: =G44*1000 -> 22800 | J44: =C44 -> 0 | K44: =ROUND(I44*J44,0) -> 0
F45: К= | G45: 0.014 | H45: , табл. 3.7, прим. 5 | I45: =K44 -> 0 | J45: =G45 -> 0.014 | K45: =ROUND(I45*J45,0) -> 0
B46: наличие зоны метро или ж/д | F46: К= | G46: 1 | H46: =H23 -> , п. 2.5 | I46: =K45 -> 0 | J46: =G46 -> 1 | K46: =ROUND(I46*J46,0) -> 0
...

Sheet Геофизика
J1: Приложение №1.3
J2: к ПНМЦД
A4: Смета №3
A5: на выполнение инженерно-геологических изысканий ( инженерно-геофизических исследований)
A6: Наименование работ | F6: =РП!I8 -> на выполнение проектно-изыскательских работ с их сопровождением при прохождении экспертизы по объекту: "Реконструкция газопровода низкого давления по адресу: г. Москва , ЮЗАО, Б.Черемушкинская ул. , д. 20, к. 1-ул. Кржижановского, д. 23, к.6"
A7: Адрес объекта
A9: Наименование стадии проектирования, | G9: Проектная и рабочая документация
A10: этапа, вида проектных работ
A12: Наименование организации Заказчика | G12: АО "МОСГАЗ"
A14: Наименование организации Подрядчика
A16: Смета составлена на основании Сборника цен на изыскательские работы для капитального строительства, утвержденного постановлением Госстроя СССР от 16.07.1981 № 121 с учетом дополнений, утвержденных постановлением Госстроя СССР от 01.03.1990 № 22, с коэфф. пересчета на 1 квартал 2025 года по Приложению к Письму Минстроя России от Письмо Минстроя России № 5170-ИФ/09 от 01.02.2025; Сборника 3.1 «Инженерно-геодезические изыскания. МРР-3.1.02-23», утвержден и введен в действие приказом Комитета города Москвы по ценовой политике в строительстве и государственной экспертизе проектов от 29 декабря 2023 г. № МКЭ-ОД/23-155., с коэфф. пересчета на 4 квартал 2025 года, в соответствии с Приложением к приказу Москомэкспертизы от 26.12.2024г. № МКЭ-ОД/24-185
A17: №№ п.п. | B17: Характеристика предприятия, здания,сооружения или виды работ | E17: № части и глав табл., пункты указаний к разделу или главе Сборника цен на ПИР | H17: Расчет стоимости | J17: Стоимость, руб.
H18: цена за ед. | I18: кол-во
A19: 1 | B19: 2 | E19: 3 | H19: 5 | I19: 6 | J19: 7
A20: 1 | B20: Предварительные
B21: изыскания | E21: С= | F21: 25 | G21: , табл.281, § 1
B22: N= | C22: 0 | D22: шт. - кол-во УКЗ | E22: S= | F22: =C22*0.6 -> 0 | G22: га - площадь (N•0,6) | H22: =F21 -> 25 | I22: =F22 -> 0 | J22: =ROUND(H22*I22,2) -> 0
B23: N= | C23: 0 | D23: шт. - кол-во протек. | E23: S= | F23: =C23*0.1 -> 0 | G23: га - площадь (N•0,1) | H23: =F21 -> 25 | I23: =F23 -> 0 | J23: =ROUND(H23*I23,2) -> 0
B24: N= | C24: 0 | D24: шт. - кол-во КИП | E24: S= | F24: =C24*0.1 -> 0 | G24: га - площадь (N•0,1) | H24: =F21 -> 25 | I24: =F24 -> 0 | J24: =ROUND(H24*I24,2) -> 0
B25: N= | C25: 0 | D25: шт. - кол-во ПТ | E25: S= | F25: =C25*0.1 -> 0 | G25: га - площадь (N•0,1) | H25: =F21 -> 25 | I25: =F25 -> 0 | J25: =ROUND(H25*I25,2) -> 0
B26: N= | C26: 0 | D26: шт. - кол-во ВП | E26: S= | F26: =C26*0.1 -> 0 | G26: га - площадь (N•0,1) | H26: =F21 -> 25 | I26: =F26 -> 0 | J26: =ROUND(H26*I26,2) -> 0
B27: N= | C27: 0 | D27: шт. - кол-во ИВ | E27: S= | F27: =C27*0.1 -> 0 | G27: га - площадь (N•0,1) | H27: =F21 -> 25 | I27: =F27 -> 0 | J27: =ROUND(H27*I27,2) -> 0
B28: N= | C28: 0 | D28: шт. - кол-во ИФС | E28: S= | F28: =C28*0.1 -> 0 | G28: га - площадь (N•0,1) | H28: =F21 -> 25 | I28: =F28 -> 0 | J28: =ROUND(H28*I28,2) -> 0
B29: N= | C29: 0 | D29: шт. - кол-во ЭП | E29: S= | F29: =C29*0.1 -> 0 | G29: га - площадь (N•0,1) | H29: =F21 -> 25 | I29: =F29 -> 0 | J29: =ROUND(H29*I29,2) -> 0
E30: ИТОГО:
B31: выплата полев. довольствия | E31: К= | F31: 0.85 | G31: , общ. указ. п. 14 | H31: =J22 -> 0 | I31: =F31 -> 0.85 | J31: =ROUND(H31*I31,2) -> 0
B32: неблагоприятный период | E32: К= | F32: 1.3 | G32: , табл. 2, § 3 | H32: =J31 -> 0 | I32: =F32 -> 1.3 | J32: =ROUND(H32*I32,2) -> 0
B33: расходы по внутр. транс-ту | E33: К= | F33: 1.13 | G33: , табл. 4, § 4 | H33: =J32 -> 0 | I33: =F33 -> 1.13 | J33: =ROUND(H33*I33,2) -> 0
E34: К= | F34: 0.7 | G34: , общ. указ. п. 8, прим. 4 | H34: =J33 -> 0 | I34: =F34 -> 0.7 | J34: =ROUND(H34*I34,2) -> 0
E35: К= | F35: 1.25 | G35: , дополнения п. 8 | H35: =J34 -> 0 | I35: =F35 -> 1.25 | J35: =ROUND(H35*I35,2) -> 0
B36: метрологическое обесп-ние | E36: К= | F36: 1.05 | G36: , дополнения п. 14 | H36: =J35 -> 0 | I36: =F36 -> 1.05 | J36: =ROUND(H36*I36,2) -> 0
B37: организационные расходы | E37: К= | F37: 1.06 | G37: , общ. указ. п. 13, табл. 6, § 3 | H37: =J36 -> 0 | I37: =F37 -> 1.06 | J37: =ROUND(H37*I37,2) -> 0
B38: ликвидационные расходы | E38: К= | F38: 1.05 | G38: , общ. указ. п. 13, табл. 6, § 3 | H38: =J37 -> 0 | I38: =F38 -> 1.05 | J38: =ROUND(H38*I38,2) -> 0
B39: коэф. перевода в 1991 г. | E39: Письмо ГС 21-Д от 25.12.90г.
E40: К= | F40: 1.21 | H40: =J38 -> 0 | I40: =F40 -> 1.21 | J40: =ROUND(H40*I40,2) -> 0
A41: 1 | B41: Измерение уд. сопр. грунта
B42: 4-х электродной установкой
B43: N= | C43: =4*2 -> 8 | D43: шт. - кол-во | E43: С= | F43: 1.6 | G43: , табл .282, § 2 | H43: 1.6 | I43: =C43 -> 8 | J43: =ROUND(H43*I43,2) -> 12.8
B44: выплата полев. довольствия | E44: К= | F44: 0.85 | G44: , общ. указ. п. 14 | H44: =J43 -> 12.8 | I44: =F44 -> 0.85 | J44: =ROUND(H44*I44,2) -> 10.88
B45: неблагоприятный период | E45: К= | F45: 1 | G45: , табл. 2, § 3 | H45: =J44 -> 10.88 | I45: =F45 -> 1 | J45: =ROUND(H45*I45,2) -> 10.88
...

Sheet ОДД 
G1: Приложение №1.4
G2: к ПНМЦД | N2: =#REF! -> #REF!
N3: =#REF! -> #REF!
N4: =РП!J28 -> 8.015 | O4: 2 | P4: 2025
A5: Смета №4
C6: на проектные работы по организации дорожного движения
A7: Смета | P7: 1 | Q7: 2 | R7: 3 | S7: 4
A8: =РП!I8 -> на выполнение проектно-изыскательских работ с их сопровождением при прохождении экспертизы по объекту: "Реконструкция газопровода низкого давления по адресу: г. Москва , ЮЗАО, Б.Черемушкинская ул. , д. 20, к. 1-ул. Кржижановского, д. 23, к.6" | O8: 2019 | P8: 3.821 | Q8: 3.865 | R8: 3.91 | S8: 4.138
O9: 2020 | P9: 4.227 | Q9: 4.275 | R9: 4.324 | S9: 4.382
A10: Смета составлена с применением Сборника 6.6 «Проекты организации дорожного движения. МРР-6.6.02-21»,Сборник утвержден и введен в действие приказом Комитета города Москвы по ценовой политике в строительстве и государственной экспертизе проектов от 30 июня 2021 г. № МКЭ-ОД/21-52, с коэфф. пересчета на 4 квартал 2025 года, в соответствии с Приложением к приказу Москомэкспертизы от 26.12.2024г. № МКЭ-ОД/24-185
A11: №№ п/п | B11: Состав работ | C11: Натуральный показатель | D11: Базовая цена на единицу натуральн. показателя, руб. | E11: Кол-во | F11: Коэф-т | G11: Стоимость, руб.
A12: 1 | B12: 2 | C12: 3 | D12: 4 | E12: 5 | F12: 6 | G12: 7
A13: 1 | B13: Изучение и анализ исходной информации и документации | D13: 2525 | E13: 1 | G13: =IF(F13="",D13*E13,D13*E13*F13) -> 2525 | J13: =G13 -> 2525
A14: 2 | B14: Анализ существующей дорожно-транспортной ситуации | J14: =IF((J15+J16+J17)>0,"а",0) -> а
A15: 2.1 | B15: Проведение натурных обследований улично дорожной сети | C15: площадь обследуемой улично-дорожной сети, га | D15: =FIXED(1396,1)&" "&"на 1 га" -> 1 396,0 на 1 га | E15: 0.5 | F15: =IF(E15<=5,1,IF(AND(E15>5,E15<=10),0.9,0.75)) -> 1 | G15: =SUBSTITUTE(D15," на 1 га","")*IF(F15="",E15,E15*F15) -> 698 | J15: =G15 -> 698
A16: 2.2 | B16: Замеры интенсивности движения по направлениям | C16: количество направлений, шт. | D16: =FIXED(262,1)&" "&"на 1 направление" -> 262,0 на 1 направление | E16: 2 | G16: =SUBSTITUTE(D16," на 1 направление","")*IF(F16="",E16,E16*F16) -> 524 | J16: =G16 -> 524
A17: 2.3 | B17: Анализ существующей организации дорожного движения | C17: площадь улично-дорожной сети, га | D17: =FIXED(3044,1)&" "&"на 1 га" -> 3 044,0 на 1 га | E17: =E15 -> 0.5 | F17: =IF(E17<=5,1,IF(AND(E17>5,E17<=10),0.9,0.75)) -> 1 | G17: =SUBSTITUTE(D17," на 1 га","")*IF(F17="",E17,E17*F17) -> 1522 | J17: =G17 -> 1522
A18: 2.4 | B18: Разработка схемы расстановки существующих технических средств организации дорожного движения (ТСОДД) | J18: =IF((#REF!+J20+J22+J23+J24)>0,"а",0) -> #REF!
A19: 2.4.1 | B19: Для инженерного обустройства магистралей и их пересечений | J19: =IF((#REF!+J20+J22+J23)>0,"а",0) -> #REF!
B20: Магистральные улицы районного значения | D20: =FIXED(1167,1)&" "&" на 100 п.м" -> 1 167,0 на 100 п.м | E20: 3 | F20: 1 | G20: =SUBSTITUTE(D20," на 100 п.м","")*IF(F20="",E20,E20*F20) -> 3501 | J20: =G20 -> 3501
B21: Магистральные улицы общегородского значения: | J21: =IF((J22+J23)>0,"а",0) -> 0
B22: II класса | D22: =FIXED(1167,1)&" "&" на 100 п.м" -> 1 167,0 на 100 п.м | F22: 1.15 | G22: =SUBSTITUTE(D22," на 100 п.м","")*IF(F22="",E22,E22*F22) -> 0 | J22: =G22 -> 0
B23: I класса | D23: =FIXED(1167,1)&" "&" на 100 п.м" -> 1 167,0 на 100 п.м | F23: 1.3 | G23: =SUBSTITUTE(D23," на 100 п.м","")*IF(F23="",E23,E23*F23) -> 0 | J23: =G23 -> 0
A24: 2.4.2 | B24: Для транспортных развязок в одном уровне (площадей) | C24: площадь обустраиваемой территории, кв.м. | D24: =FIXED(866,1)&" "&"на 1000 кв.м" -> 866,0 на 1000 кв.м | F24: =IF(E24<=1,1,IF(AND(E24>1,E24<=3),0.8,0.75)) -> 1 | G24: =SUBSTITUTE(D24," на 1000 кв.м","")*IF(F24="",E24,E24*F24) -> 0 | J24: =G24 -> 0
A25: 3 | B25: Разработка проектных решений, выбор рекомендуемого варианта проектирования (вариантные проработки) | D25: 7911 | E25: 1 | G25: =IF(F25="",D25*E25,D25*E25*F25) -> 7911 | J25: =G25 -> 7911
A26: 4 | B26: Разработка проектной документации: | J26: =IF((G27+G30+G31+G33+G34+J35+G36+G37)>0,"а",0) -> а
A27: 4.1 | B27: Размещение въездов-выездов с прилегающих и строительных территорий на улично-дорожную сеть, включенную в площадь проектирования | C27: количество въездов-выездов, шт. | D27: =FIXED(1071,1)&" "&"на 1 въезд-выезд" -> 1 071,0 на 1 въезд-выезд | G27: =SUBSTITUTE(D27," на 1 въезд-выезд","")*IF(F27="",E27,E27*F27) -> 0 | J27: =G27 -> 0
A28: 4.2 | B28: Расстановка дорожных знаков: | J28: =IF((G30+G31+G33+G34+G36+G37+J39)>0,"а",0) -> а
A29: 4.2.1 | B29: Для инженерного обустройства магистралей и их пересечений | J29: =IF((G30+G31+G33+G34)>0,"а",0) -> 0
B30: Улицы и дороги местного значения: | C30: протяженность магистрали районного значения, п.м | D30: =FIXED(1373,1)&" "&" на 100 п.м" -> 1 373,0 на 100 п.м | F30: 0.9 | G30: =SUBSTITUTE(D30," на 100 п.м","")*IF(F30="",E30,E30*F30) -> 0 | J30: =G30 -> 0
B31: Магистральные улицы районного значения | D31: =FIXED(1373,1)&" "&" на 100 п.м" -> 1 373,0 на 100 п.м | F31: 1 | G31: =SUBSTITUTE(D31," на 100 п.м","")*IF(F31="",E31,E31*F31) -> 0 | J31: =G31 -> 0
B32: Магистральные улицы общегородского значения: | J32: =IF((G33+G34)>0,"а",0) -> 0
B33: II класса | D33: =FIXED(1373,1)&" "&" на 100 п.м" -> 1 373,0 на 100 п.м | F33: 1.15 | G33: =SUBSTITUTE(D33," на 100 п.м","")*IF(F33="",E33,E33*F33) -> 0 | J33: =G33 -> 0
B34: I класса | D34: =FIXED(1373,1)&" "&" на 100 п.м" -> 1 373,0 на 100 п.м | F34: 1.3 | G34: =SUBSTITUTE(D34," на 100 п.м","")*IF(F34="",E34,E34*F34) -> 0 | J34: =G34 -> 0
A35: 4.2.2 | B35: Для инженерного обустройства транспортных развязок в одном уровне (площадей) | C35: площадь обустраиваемой территории, кв.м. | D35: =FIXED(1373,1)&" "&"на 1000 кв.м" -> 1 373,0 на 1000 кв.м | F35: =IF(E35<=1,1,IF(AND(E35>1,E35<=3),0.8,0.75)) -> 1 | G35: =SUBSTITUTE(D35," на 1000 кв.м","")*IF(F35="",E35,E35*F35) -> 0 | J35: =G35 -> 0
A36: 4.2.3 | B36: При проведении строительных, ремонтных и изыскательских работ на существующих проезжих частях | C36: количество очередей (захваток), шт. | D36: =FIXED(1019,1)&" "&"на 1 очередь" -> 1 019,0 на 1 очередь | E36: 4 | F36: =IF(E36="","",IF(AND(E36>0,E36<21),1,IF(AND(E36>20,E36<41),0.9,IF(AND(E36>40,E36<61),0.8,0.75)))) -> 1 | G36: =SUBSTITUTE(D36," на 1 очередь","")*IF(F36="",E36,E36*F36) -> 4076 | J36: =G36 -> 4076
A37: 4.2.4 | B37: Для инженерного обустройства площадных объектов | C37: площадь обустраеваимой территории, кв. м | D37: =FIXED(1373,1)&" "&"на 1000 кв.м" -> 1 373,0 на 1000 кв.м | F37: =IF(E37="","",IF(AND(E37>0,E37<10),1,IF(AND(E37>=10,E37<30),0.8,IF(AND(E37>=30,E37<2000),0.75)))) | G37: =SUBSTITUTE(D37," на 1000 кв.м","")*IF(F37="",E37,E37*F37)*IF(F38="",1,F38) -> 0 | J37: =G37 -> 0
B38: Ккор (при расположении зон производства или площадных объектов ближе 70 м к транспортным пересечениям, перекресткам) | F38: =IF(H38=TRUE,1.1,"") | G38: =IF(H38=TRUE,"а","") | H38: FALSE | J38: =IF(F38=1.1,"а",0) -> 0
A39: 4.2.5 | B39: Для инженерного обустройства велодорожек (вне проезжей части) | C39: протяженность велодорожек, п.м | D39: =FIXED(477,1)&" "&" на 100 п.м" -> 477,0 на 100 п.м | G39: =SUBSTITUTE(D39," на 100 п.м","")*IF(F39="",E39,E39*F39) -> 0 | J39: =IF(F39=1.1,"а",0) -> 0
A40: 4.3 | B40: Разработка схемы демонтажных работ | C40: протяженность улично-дорожной сети, п.м. | D40: =FIXED(255,1)&" "&"на 100 п.м" -> 255,0 на 100 п.м | G40: =SUBSTITUTE(D40," на 100 п.м","")*IF(F40="",E40,E40*F40) -> 0 | J40: =G40 -> 0
...

Sheet ПД
S1: Приложение №1.5
S2: к ПНМЦД
A6: СМЕТА № 5
A7: на проектные работы по дендрологии
A8: =РП!I8 -> на выполнение проектно-изыскательских работ с их сопровождением при прохождении экспертизы по объекту: "Реконструкция газопровода низкого давления по адресу: г. Москва , ЮЗАО, Б.Черемушкинская ул. , д. 20, к. 1-ул. Кржижановского, д. 23, к.6"
A10: Заказчик: | E10: АО "Мосгаз"
A11: Проектная организация:
A13: Смета составлена с применением Сборника 6.1 «Мероприятия по охране окружающей среды. МРР-6.1.02-19», утвержденного и введенного в действие приказом Москомэкспертизы от 28.06.2019 № МКЭ-ОД/19-41, с коэфф. пересчета на 4 квартал 2025 года в соответствии с Приложением к приказу Москомэкспертизы от 26.12.2024г. № МКЭ-ОД/24-185
A15: Коэффициенты пересчёта в текущие цены:
C16: Кпер | D16: = | E16: 8.015 | G16: ='АЗ (2)'!F212 -> с коэфф. пересчета на 4 квартал 2025 года в соответствии с Приложением к приказу Москомэкспертизы от 26.12.2024г. № МКЭ-ОД/24-185
A18: №№ п/п | B18: Характеристика сооружений или видов работ | F18: №№ частей, глав, таблиц, пунктов указаний к разделам нормативного сборника | J18: Расчет стоимости | S18: Стоимость, руб.
F19: К1= | G19: 0.75 | H19: пл.до 0,5га п.6.5 | J19: Приведение численности кустарников к деревьям
A20: =1 -> 1 | B20: Исходные данные: | F20: К2= | G20: 0.85 | H20: пл.от 0,5 до 0,99га | J20: =E27 -> 127 | K20: / | L20: 5 | M20: = | N20: =J20/L20 -> 25.4 | O20: усл. деревьев
F21: К3= | G21: Sобсл | H21: пл.св.1 до 20га | J21: Всего условных деревьев
B22: Sобсл = | C22: =(2100-200)*10/10000 -> 1.9 | E22: га | F22: К4= | G22: 0.9 | H22: пл.от 20 до 50га | J22: =E26 -> 84 | K22: + | L22: =N20 -> 25.4 | M22: = | N22: =J22+L22 -> 109.4 | O22: усл. дерева
F23: К5= | G23: 0.8 | H23: пл. свыше 50га | J23: На 1 га приходится условное количество деревьев
B24: Категория сложности: | F24: К6= | G24: 0.7 | H24: таб.1.1 прим.п.2 | J24: =N22 -> 109.4 | K24: / | L24: =C22 -> 1.9 | M24: = | N24: =J24/L24 -> 57.578947
C25: 2 | F25: Кзим= | G25: 1.15 | H25: т.47 прим.1(20.10-31.03) | J25: =N24 -> 57.578947 | K25: - | L25: 150 | M25: = | N25: =J25-L25 -> -92.421053 | O25: допол. дерева
B26: Количество деревьев= | E26: 84 | I26: для III кат. | J26: На доп. 50 деревьев приходится цена 1 базовой категории
B27: Количество кустарников= | E27: 127
J28: =N25 -> -92.421053 | K28: / | L28: 50 | M28: = | N28: =ROUND(J28/L28,0) -> -2 | O28: - количество используемых базовых цен (С)
A31: 2 | B31: Первичное обследование территории, составление инвентаризационного плана и инвентаризационной ведомости Полевые работы | F31: Базовые цены (в зависимости от категории сложности): | J31: Ст = Цб3 х К3 х Кпер
F33: таблица 2.1
F34: І категория | H34: 4527 | L34: Цб3 | N34: к3
F35: ІІ категория | H35: 6790 | J35: Ст = | L35: =H34 -> 4527 | M35: х | N35: =C22 -> 1.9 | O35: х | P35: =E16 -> 8.015 | Q35: = | S35: =L35*N35*P35*0 -> 0
F36: ІІІ категория | H36: 9053
A38: 3 | B38: Первичное обследование территории, составление инвентаризационного плана и инвентаризационной ведомости Камеральные работы | F38: Базовые цены (в зависимости от категории сложности): | J38: Ст = Цб3 х К3 х Кпер
F40: таблица 2.2
F41: І категория | H41: 2829 | L41: Цб3 | N41: К2
F42: ІІ категория | H42: 5280 | J42: Ст = | L42: =H41 -> 2829 | M42: х | N42: =N35 -> 1.9 | O42: х | P42: =E16 -> 8.015 | Q42: = | S42: =L42*N42*P42*0 -> 0
F43: ІІІ категория | H43: 7356
A45: 2 | B45: Составление заключения по составу инвентаризационного плана | F45: Базовые цены (в зависимости от категории сложности): | J45: Ст = Цб3 х К3 х Кпер
F47: таблица 47
F48: І категория | H48: 680 | L48: Цб3 | N48: =G21 -> Sобсл | T48: принять на площадь объекта
F49: ІІ категория | H49: 1697 | J49: Ст = | L49: =H49 -> 1697 | M49: х | N49: =C22 -> 1.9 | O49: х | P49: =E16 -> 8.015 | Q49: = | S49: =L49*N49*P49 -> 25842.765 | T49: 1,32 га
F50: ІІІ категория | H50: 2038
A52: 3 | B52: Обследование участка для разработки дендроплана и составление перечетной ведомости | F52: Базовые цены (в зависимости от категории сложности): | J52: Ст = Цб3 х К3 х Кпер
F54: таблица 48
F55: І категория | H55: 2371 | L55: Цб3 | N55: =N48 -> Sобсл
F56: ІІ категория | H56: 5030 | J56: Ст = | L56: =H56 -> 5030 | M56: х | N56: =N49 -> 1.9 | O56: х | P56: =E16 -> 8.015 | Q56: = | S56: =L56*N56*P56 -> 76599.355
...

Sheet БО
N1: Приложение №1.6
N2: к ПНМЦД
A5: С М Е Т А № 6
A6: на проектные работы по благоустройству и озеленению
B8: Наименование предприятия, здания, сооружения, стадии проектирования, этапа, вида проектных и изыскательских работ | H8: =ГОЧС!H9 -> на выполнение проектно-изыскательских работ с их сопровождением при прохождении экспертизы по объекту: "Реконструкция газопровода низкого давления по адресу: г. Москва , ЮЗАО, Б.Черемушкинская ул. , д. 20, к. 1-ул. Кржижановского, д. 23, к.6"
B13: Наименование проектной организации
B15: Наименование организации заказчика | H15: АО "МОСГАЗ" | Q15: 0.4 | R15: п.д. | S15: х | T15: а | U15: в
A17: Смета составлена с применением Сборника 7.1 «Комплексное благоустройство территорий, крыш зданий и других искусственных оснований. МРР-7.1.03-21», утвержденного и введенного в действие приказом Москомэкспертизы от 31.03.2021 № МКЭ-ОД/21-30, с коэфф. пересчета на 4 квартал 2025 года, в соответствии с Приложением к приказу Москомэкспертизы от 26.12.2024г. № МКЭ-ОД/24-185 | Q17: 0.6 | R17: р.д. | S17: до 1 | T17: 112200 | U17: -
Q18: 1 | R18: р.п. | S18: от 1 до 5 | T18: 14000 | U18: 98200
A19: №№ п/п | B19: Характеристика предприятия, здания, сооружения или виды работ | F19: Обоснование стоимости | I19: Расчет стоимости | N19: Стоимость в рублях | S19: от 5 до 10 | T19: 110000 | U19: 79000
S20: от 10 до 15 | T20: 260000 | U20: 64000
S21: от 15 до 20 | T21: 320000 | U21: 60000
A22: 1 | B22: 2 | F22: 3 | I22: 4 | N22: 5 | S22: от 20 до 30 | T22: 410000 | U22: 55500
S23: от 30 до 40 | T23: 785000 | U23: 43000
A24: 1 | B24: Восстановление благоустройства | F24: МРР-7.1.03-21 | I24: ( | J24: =C28 -> 8000 | K24: + | L24: =C29 -> 44000 | M24: * | N24: =(J24+L24*J25)*J26*L26 -> 154176.54 | S24: свыше 40 | T24: 2505000 | U24: -
B25: территории | F25: гл.3 табл. 2.2.1 п 11 | I25: =IF(D26>=1,"*"," ") -> * | J25: =D26 -> 1.9 | K25: )* | L25: =F26 -> 1 | M25: *
B26: х= | D26: =ПД!C22 -> 1.9 | E26: га | F26: =IF(H26="п.д.",0.4,IF(H26="р.д.",0.6,1)) -> 1 | G26: - | H26: р.п. | I26: * | J26: =F28 -> 8.015 | K26: * | L26: =F27 -> 0.21
F27: =0.24*0+0.1+0.05+0.06 -> 0.21 | H27: т.2.2.3 п.4.11 | K27: =IF(C25>=0.6,"*","")
B28: а | C28: 8000 | F28: 8.015 | G28: - | H28: К инфл. | I28: =IF(C27>600,"*","") | S28: в | T28: =L24 -> 44000 | U28: =IF(T28=" ",1,T28) -> 44000
B29: в | C29: 44000 | S29: га | T29: =J25 -> 1.9 | U29: =IF(T29=" ",1,T29) -> 1.9
G30: =IF(C27>600,"-","") | H30: =IF(C27>600,"табл.3.10.2 п.3","")
B36: И Т О Г О : | N36: =SUM(N24:N35) -> 154176.54

Sheet ГОЧС
K1: Приложение №2.6
K2: к Техническому заданию №
K3: "___"_____________ ________
A6: С М Е Т А № 6
A7: Мероприятия по гражданской обороне и предупреждению чрезвычайных ситуаций природного и техногенного характера (МРР-6.3-16)
B9: Наименование предприятия, здания, сооружения, стадии проектирования, этапа, вида проектных и изыскательских работ | H9: =Сводная!A7 -> на выполнение проектно-изыскательских работ с их сопровождением при прохождении экспертизы по объекту: "Реконструкция газопровода низкого давления по адресу: г. Москва , ЮЗАО, Б.Черемушкинская ул. , д. 20, к. 1-ул. Кржижановского, д. 23, к.6"
B14: Наименование проектной организации
B16: Наименование организации заказчика | H16: АО "МОСГАЗ" | Q16: 0.4 | R16: п.д. | S16: х | T16: а | U16: в
A17: Смета составлена на основании Сборника 6.3 "Перечень мероприятий по гражданской обороне, мероприятий по предупреждению чрезвычайных ситуаций природного и техногенного характера МРР-6.3-16", Сборник утвержден и введен в действие с 9 января 2017 г. приказом Комитета города Москвы по ценовой политике в строительстве и государственной экспертизе проектов от 29 декабря 2016 г. No МКЭ-ОД/16-75, с коэфф. пересчета на 1 квартал 2024 года, в соответствии с Приложением к приказу Москомэкспертизы от 21.12.2023 № МКЭ-ОД/23-142
Q18: 1 | R18: р.п. | S18: от 1 до 5 | T18: 14000 | U18: 98200
A19: №№ п/п | B19: Характеристика предприятия, здания, сооружения или виды работ | F19: Обоснование стоимости | I19: Расчет стоимости | N19: Стоимость в рублях | S19: от 5 до 10 | T19: 110000 | U19: 79000
S20: от 10 до 15 | T20: 260000 | U20: 64000
S21: от 15 до 20 | T21: 320000 | U21: 60000
A22: 1 | B22: 2 | F22: 3 | I22: 4 | N22: 5 | S22: от 20 до 30 | T22: 410000 | U22: 55500
S23: от 30 до 40 | T23: 785000 | U23: 43000
A24: 1 | B24: Мероприятия по гражданской обороне, по предупреждению чрезвычайных ситуаций природного и техногенного характера | F24: СБЦ МРР-6.3-16 | I24: =IF(D26<1," ","(") | J24: 69970 | K24: * | L24: =F27 -> 1.3 | M24: =IF(D26>=1,"*"," ") | N24: =J24*L24*J25*L25*L26*J26 -> 595635.82 | S24: свыше 40 | T24: 2505000 | U24: -
F25: гл.2 п. 2.2. | I25: =IF(D26>=1,"*"," ") | J25: =F30 -> 1 | K25: =IF(D26>=1,") *","*") -> * | L25: =F26 -> 0.95 | M25: *
F26: 0.95 | G26: - | H26: Кист.ЧС | I26: * | J26: =F28 -> 0.86 | K26: * | L26: =F29 -> 8.015
F27: 1.3 | G27: - | H27: кат.сложн | K27: =IF(C25>=0.6,"*","")
F28: 0.86 | H28: К5
F29: =РП!J28 -> 8.015 | G29: - | H29: К инфл. | I29: =IF(C27>600,"*","") | S29: в | T29: =L24 -> 1.3 | U29: =IF(T29=" ",1,T29) -> 1.3
F30: 1 | H30: т.4п.2 | S30: га | T30: =J25 -> 1 | U30: =IF(T30=" ",1,T30) -> 1
A33: 2 | B33: Оценка риска чрезвычайных ситуаций, обусловленных авариями на проектируемом объекте | F33: СБЦ МРР-6.3-16 | I33: =IF(D35<1," ","(") | J33: 21000 | K33: * | L33: =F35 -> 8.015 | M33: =IF(D35>=1,"*"," ") | N33: =J33*L33 -> 168315 | S33: свыше 40 | T33: 2505000 | U33: -
F34: гл.2 т.7 | I34: =IF(D35>=1,"*"," ")
F35: =F29 -> 8.015 | G35: - | H35: К инфл.
K36: =IF(C34>=0.6,"*","")
G41: =IF(C27>600,"-","") | H41: =IF(C27>600,"табл.3.10.2 п.3","")
B42: И Т О Г О : | N42: =SUM(N24:N41)*0 -> 0
B46: Составил :
B48: Ведущий инженер технического отдела УКС | L48: А.П. Свинцова
B50: Объем подтвержден:
B51: Начальник технического отдела УКС | L51: Л.В. Буланова

Sheet ИЭИ
K1: Приложение №1.7
K2: к ПНМЦД
B5: Смета №7
B6: на выполнение инженерно-экологических изысканий
B7: на выполнение инженерно-экологических изысканий по объекту: Реконструкция газопровода низкого давления по адресу: г. Москва , ЮЗАО, Б.Черемушкинская ул. , д. 20, к. 1-ул. Кржижановского, д. 23, к.6
B8: №№ ПП | C8: ХАРАКТЕРИСТИКА ПРОЕКТИРУЕМОГО ОБЪЕКТА ИЛИ ВИДА РАБОТ | D8: ОСНОВАНИЕ СТОИМОСТИ: СБОРНИК ЦЕН НА ПИР | E8: ЕДЕНИЦА ИЗМЕРЕНИЙ | F8: РАСЧЕТ СТОИМОСТИ | K8: СТОИМОСТЬ, РУБ.
F9: Объем работ | G9: Цена | H9: Коэфф. на полевые работы | I9: Корректирующий коэф. | J9: Корректирующий коэф.
B10: 1 | C10: 2 | D10: 3 | E10: 4 | F10: 5 | K10: 6
B11: Смета составлена с применением Сборник 3.3 «Инженерно-экологические изыскания. МРР-3.3.02-23», утвержденного и введенного в действие приказом Москомэкспертизы от 25.12.2023 № МКЭ-ОД/23-149, с коэфф. пересчета на 4 квартал 2025 года в соответствии с Приложением к приказу Москомэкспертизы от 26.12.2024г. № МКЭ-ОД/24-185
B12: 1. | C12: ПОЛЕВЫЕ РАБОТЫ
B13: 1.1. | C13: Базовые цены на маршрутные наблюдения. Наблюдения при передвижении по маршруту при составлении инженерно- экологической карты в масштабе: 1:2000 - 1:1000, при хорошей категории проходимости | D13: гл.3, т.3.2.1, п.4 | E13: 1 км | F13: 2.1 | G13: 164.13 | I13: 1.3 | J13: 0.6 | K13: =F13*G13*I13*J13 -> 268.84494
B14: 1.2. | C14: Базовые цены на отбор точечных проб для анализа на загрязненность по хим.показателям, почво-грунтов (методами конверта, по диагонали и т.п.) Обьединенная проба. | D14: гл.4, т.4.1, п.4, пр.1 | E14: 1 проба | F14: 14 | G14: 69.48 | I14: 5 | J14: 0.9 | K14: =F14*G14*I14*J14 -> 4377.24
B15: 1.3. | C15: Базовые цены на отбор точечных проб для бактериологического анализа, почво-грунтов с одной продной площадки | D15: гл.4, т.4.1, п.8 | E15: 1 проба | F15: 14 | G15: 379.61 | K15: =F15*G15 -> 5314.54
B16: 1.4. | C16: Базовые цены на отбор точечных проб для гельминтологического анализа, почво-грунтов с одной продной площадки | D16: гл.4, т.4.1, п.8, пр.4 | E16: 1 проба | F16: 14 | G16: 379.61 | I16: 0.9 | K16: =F16*G16*I16 -> 4783.086
B17: 1.5. | C17: Базовые цены на отбор точечных проб для анализа на загрязненность по хим.показателям, почво-грунтов (методами конверта, по диагонали и т.п.) | D17: гл.4, т.4.1, п.4 | E17: 1 проба | F17: 49 | G17: 69.48 | K17: =F17*G17 -> 3404.52
B18: 1.6. | C18: Базовые цены на отбор точечных проб для анализа на загрязненность по хим.показателям, почво-грунтов (методами конверта, по диагонали и т.п.) Радиоактивное загрязнение проб. | D18: гл.4, т.4.1, п.4, пр.2 | E18: 1 проба | F18: =F17+F14 -> 63 | G18: 69.48 | H18: 5 | I18: 0.9 | J18: 1.2 | K18: =F18*G18*H18*I18*J18 -> 23637.096
C19: Итого полевых работ по МРР: | K19: =SUM(K13:K18) -> 41785.327
B20: 2. | C20: Нормативные расходов по внутреннему транспорту | D20: гл.2, т.2.2, п.4 | E20: % | F20: 16.25 | G20: =K19 -> 41785.327 | K20: =G20/100*F20 -> 6790.1156
B21: 3. | C21: Нормативные расходов по организации и ликвидации работ | D21: гл.2, т.2.3 | E21: % | F21: 12 | G21: =K19+K20 -> 48575.443 | K21: =G21/100*F21 -> 5829.0531
B22: 4. | C22: ЛАБОРАТОРНЫЕ ИССЛЕДОВАНИЯ
B23: 4.1. | C23: Приготовление солянокислой вытяжки | D23: гл.5, т.5.1, п.84 | E23: 1 образец | F23: 49 | G23: 100.69 | K23: =F23*G23 -> 4933.81
B24: 4.2. | C24: Водородный показатель рН водной или солевой вытяжки электриметрическим методом | D24: гл.5, т.5.1, п.14 | E24: 1 образец | F24: 49 | G24: 23.69 | K24: =F24*G24 -> 1160.81
B25: 4.3. | C25: Определение нефтяных углеводородов хроматографическим методом | D25: гл.5, т.5.1, п.63 | E25: 1 образец | F25: 49 | G25: 233.37 | K25: =F25*G25 -> 11435.13
B26: 4.4. | C26: Определение полициклических ароматических углеводородов хроматографическим методом | D26: гл.5, т.5.1, п.66 | E26: 1 образец | F26: 49 | G26: 1134.87 | K26: =F26*G26 -> 55608.63
B27: 4.5. | C27: Определение солей тяжелых металлов без пробоподготовки - методом атомной абсорбции (1 металл) Pb | D27: гл.5, т.5.1, п.57 | E27: 1 образец | F27: 49 | G27: 92.4 | K27: =F27*G27 -> 4527.6
B28: 4.6. | C28: Определение солей тяжелых металлов без пробоподготовки - методом атомной абсорбции (1 металл) Cd | D28: гл.5, т.5.1, п.57 | E28: 1 образец | F28: 49 | G28: 92.4 | K28: =F28*G28 -> 4527.6
B29: 4.7. | C29: Определение солей тяжелых металлов без пробоподготовки - методом атомной абсорбции (1 металл) Сu | D29: гл.5, т.5.1, п.57 | E29: 1 образец | F29: 49 | G29: 92.4 | K29: =F29*G29 -> 4527.6
B30: 4.8. | C30: Определение солей тяжелых металлов без пробоподготовки - методом атомной абсорбции (1 металл) Zn | D30: гл.5, т.5.1, п.57 | E30: 1 образец | F30: 49 | G30: 92.4 | K30: =F30*G30 -> 4527.6
B31: 4.9. | C31: Определение солей тяжелых металлов без пробоподготовки - методом атомной абсорбции (1 металл) Ni | D31: гл.5, т.5.1, п.57 | E31: 1 образец | F31: 49 | G31: 92.4 | K31: =F31*G31 -> 4527.6
B32: 4.10. | C32: Определение солей тяжелых металлов без пробоподготовки - методом атомной абсорбции (1 металл) As | D32: гл.5, т.5.1, п.57 | E32: 1 образец | F32: 49 | G32: 92.4 | K32: =F32*G32 -> 4527.6
B33: 4.11. | C33: Определение солей тяжелых металлов без пробоподготовки - методом атомной абсорбции с использованием ртутно-гидридной приставки (1 металл) Hg | D33: гл.5, т.5.1, п.59 | E33: 1 образец | F33: 49 | G33: 272.46 | K33: =F33*G33 -> 13350.54
B34: 4.12. | C34: Базовые цены на спектрометрию γ-спектрометрия лабораторно с пробоподготовкой (грунт) | D34: гл.7, т.7.1, п.3 | E34: 1 определение | F34: 49 | G34: 876.62 | K34: =F34*G34 -> 42954.38
... B40: 4.18. | C40: Личинки гельминтов | D40: гл.5, т.5.5, п.3.3 | E40: 1 проба | F40: 14 | G40: 104.59 | K40: =F40*G40 -> 1464.26
C41: Итого лабораторных исследований по МРР | K41: =SUM(K23:K40) -> 168528.5
B42: 5. | C42: КАМЕРАЛЬНЫЕ РАБОТЫ
B43: 5.1. | C43: Базовые цены на составление программы производства работ) Категория сложности II | D43: гл.6, т.6.1.2, п.1 | E43: 1 программа | F43: 1 | G43: 2369.25 | I43: 1.25 | K43: =F43*G43*I43 -> 2961.5625
A44: 3 | B44: 5.2. | C44: Базовые цены на маршрутные наблюдения. Наблюдения при передвижении по маршруту при составлении инженерно- экологической карты в масштабе: 1:2000 - 1:1000, при хорошей категории проходимости | D44: гл.3, т.3.2.1, п.4 | E44: 1 км | F44: =F13 -> 2.1 | G44: 18.95 | I44: 1.3 | K44: =F44*G44*I44 -> 51.7335
B45: 5.3. | C45: Базовые цены на камеральную обработку данных лабораторных работ | D45: гл.6, т.6.2.1, п.1 | E45: % | F45: 12 | G45: =SUM(K23:K34) -> 156608.9 | K45: =G45/100*F45 -> 18793.068
B46: 5.4. | C46: Базовые цены на камеральную обработку химических и бактериологических анализов; микробиологических, паразитологических, токсиколого-гигиенических данных лабораторных работ | D46: гл.6, т.6.2.1, п.3 | E46: % | F46: 20 | G46: =SUM(K35:K40) -> 11919.6 | K46: =G46/100*F46 -> 2383.92
C47: Итого камеральных работ по МРР | K47: =SUM(K43:K46) -> 24190.284
...

Sheet ООС-1
P1: Приложение №1.8
P2: к ПНМЦД
A5: Смета № 8
A6: на проектные работы по охране окружающей среды
A9: Наименование предприятия, здания, сооружения, стадии проектирования, этапа, вида проектных и изыскательских работ | I9: =ГОЧС!H9 -> на выполнение проектно-изыскательских работ с их сопровождением при прохождении экспертизы по объекту: "Реконструкция газопровода низкого давления по адресу: г. Москва , ЮЗАО, Б.Черемушкинская ул. , д. 20, к. 1-ул. Кржижановского, д. 23, к.6"
A12: Стадия проектирования | I12: Проектная и рабочая документация.
A14: Наименование организации Заказчика | I14: АО "Мосгаз"
A16: Наименование организации Подрядчика
A17: Смета составлена с применением Сборника 6.1 «Мероприятия по охране окружающей среды. МРР-6.1.02-19», утвержденного и введенного в действие приказом Москомэкспертизы от 28.06.2019 № МКЭ-ОД/19-41, с коэфф. пересчета на 4 квартал 2025 года в соответствии с Приложением к приказу Москомэкспертизы от 26.12.2024г. № МКЭ-ОД/24-185
A19: Исходные данные для составления сводного сметного расчета:
B20: Стадия проектирования | G20: РП | I20: Зимний коэффициент на полевые работы | N20: 1
B21: Площадь территории (га) | G21: 1 | I21: Категория проходимости | N21: Хорошая
B22: Функциональное назначение территории | G22: Обществ.
B23: Норматив стоимости проектирования объектов гор. заказа | G23: 1 | I23: Количество заказываемых транспортных справок
B24: Коэффициент персчета базовой стоимости проектных работ в текущий уровень цен | G24: =РП!J28 -> 8.015 | I24: Количество заказываемых справок МОСЦГМС-Р
B25: Количество зданий (шт.) / длина (км) | G25: 2.1 | R25: 0,1км-под АЗ
A26: №/№ | B26: Наименование работ | G26: Ед. изм. | I26: к-во | J26: базовая цена | K26: Коэффициенты | M26: Итого | N26: Таб., пункты,примечания
A27: 1 | B27: 2 | G27: 3 | I27: 4 | J27: 5 | K27: 6 | L27: 7 | M27: 8 | N27: 9
A28: 1 | B28: Маршрутное наблюдение | G28: га | J28: 323 | M28: 0 | N28: т.2 п.1
A29: 2 | B29: Геоботанические исследования | G29: га | J29: 1100 | K29: 0.8 | M29: 0 | N29: т.2 п.1 прим.2.
A30: 3 | B30: Обледование объектов неблагоприятного техногенного воздействия для определения условий и ограничений для проектирования | G30: объект | J30: 2466 | M30: 0 | N30: т.2 п.7
A31: 4 | B31: Обследование водных объектов | G31: га | J31: 1315 | M31: 0 | N31: т.2 п.8
A32: 5 | B32: Обследование источников сброса 3В в водные объекты | G32: источник | J32: 3349 | M32: 0 | N32: т.2 п.11
A33: 1 | B33: Эколого-градостроительный анализ исходных данных | J33: 826 | M33: =J33 -> 826 | N33: т.3 п.2
A34: 2 | B34: Сбор и анализ архивных и справочных материалов (данных), результатов инженерных изысканий и натуральных исследований | J34: 820 | M34: =J34 -> 820 | N34: т.3 п.6.
A35: 8 | B35: Сбор и анализ проектных материалов | J35: 1473 | M35: =J35*0 -> 0 | N35: т.3 п.10.
A36: 9 | B36: Составленеие технического задания | J36: 471 | M36: 0 | N36: т.4. п.2.
A37: 10 | B37: Ввод исходных графических данных в персональный компьютер. Создание компьютерной геометрической модели объекта | J37: 2003 | M37: =J37*0 -> 0 | N37: т.5 п.3 прим.
A38: 3 | B38: Характеристика современного состояния территории | J38: 484 | M38: =J38 -> 484 | N38: т. 6 п2.
A39: 12 | B39: Описание современного состояния компонентов окружающей среды | J39: 1349 | M39: =J39*0 -> 0 | N39: т.7 п.1.
A40: 4 | B40: Характеристика климатических условий | J40: 318 | M40: =J40 -> 318 | N40: т.7 п.2.
A41: 5 | B41: Характеристика фонового загрезнения компонентов окружающей среды | J41: 318 | M41: =J41 -> 318 | N41: т.7 п.3.
A42: 6 | B42: Опредление санитарно-гигиенических и экологических ограничений | G42: объект | J42: 4766 | M42: =J42*1 -> 4766 | N42: т.8.
A43: 16 | B43: Характеристика проектируемого объекта строительства | G43: сооружение | J43: 203 | M43: 0 | N43: т.9 п.2.
A44: 7 | B44: Базовые цены на описание проектных намерений | G44: км | I44: 2.1 | J44: 122 | M44: =J44*I44 -> 256.2 | N44: т.9 п.11.прим.2.
A45: 8 | B45: Выполение расчета степени загрязнения хозяйственно-бытовых и производственных сточных вод | G45: объект | I45: 1 | J45: 1241 | M45: =J45 -> 1241 | N45: т.10 п.6.
A46: 9 | B46: Выполнение расчета сточных вод | G46: К-во элементов загрязнений | I46: 3 | J46: 1027 | M46: =I46*J46 -> 3081 | N46: т.11
A47: 19 | B47: Составление схемы водосборного бассейна | G47: га | I47: 0 | J47: 2064 | M47: =J47*I47 -> 0 | N47: т.12 п.1
A48: 10 | B48: Расчет расхода поверхностного стока заданной обеспеченности | G48: 1 расчет | I48: 2 | J48: 1455 | M48: =I48*J48*1 -> 2910 | N48: т.13 п.1
A49: 21 | B49: Расчет суточного объема поверхностного стока заданной обеспеченности | G49: 1 расчет | I49: 1 | J49: 1968 | M49: =I49*J49*0 -> 0 | N49: т.13 п.2
...

Sheet ПБ
Q1: Приложение №1.9
Q2: к ПНМЦД
A5: С М Е Т А № 9
A6: на проектные работы по разделу "Мероприятия по обеспечению пожарной безопасности"
A8: Наименование предприятия, здания, сооружения, стадии проектирования, этапа, вида проектных и изыскательских работ | F8: =ГОЧС!H9 -> на выполнение проектно-изыскательских работ с их сопровождением при прохождении экспертизы по объекту: "Реконструкция газопровода низкого давления по адресу: г. Москва , ЮЗАО, Б.Черемушкинская ул. , д. 20, к. 1-ул. Кржижановского, д. 23, к.6"
A12: Наименование проектной (изыскательской) организации
A15: Наименование организации заказчика | F15: =Сводная!H12 -> АО "МОСГАЗ"
A17: Стадийность проектирования | F17: Проектная и рабочая документация
A18: Смета составлена с применением Сборника 6.2 «Мероприятия по обеспечению пожарной безопасности. МРР-6.2.03-22», утвержденного и введенного в действие приказом Москомэкспертизы от 15.06.2022 № МКЭ-ОД/22-49, с коэфф. пересчета на 4 квартал 2025 года в соответствии с Приложением к приказу Москомэкспертизы от 26.12.2024г. № МКЭ-ОД/24-185
A19: №№ п/п | B19: Вид коммуникации, сооружения | E19: №№ глав и пунктов, сборник цен, коэф-ты | H19: Расчет стоимости | Q19: Стоимость (руб.)
A20: 1 | B20: 2 | E20: 3 | H20: 4 | Q20: 5
A22: 1 | B22: Базовая стоимость разработки проектной документации (П) | E22: Сборник 6.2 "Мероприятия по обеспечению пожарной безопасности. МРР-6.2.03-22"
B23: Ц(б)2000 | C23: =((РП!Q264+'АЗ (2)'!K214)/РП!J28)*0.4 -> 586038.8 | D23: Табл. 3.2 Прим. 1
E25: K = | F25: 0.4 | G25: Табл. 3.2 Прим. 1
A27: 2 | B27: Для городских и внутренних коммуникаций (газопровод) для стадии | E27: Сборник 6.2 "Мероприятия по обеспечению пожарной безопасности. МРР-6.2.03-22" | H27: =C35 -> 23000 | I27: * | J27: =F33 -> 8.015 | K27: * | L27: =F34 -> 1.25 | M27: * | N27: =F35 -> 1 | Q27: =H27*J27*L27*N27 -> 230431.25
B31: Базовые цены на основные | E31: Коэффициенты:
B32: проектные работы | E32: K = | F32: 1 | G32: Раздел 2 п.2.20
B33: а= | C33: 23 | D33: Табл. 3.2, п.5 | E33: K = | F33: 8.015 | G33: с коэфф. пересчета на 4 квартал 2025 года в соответствии с Приложением к приказу Москомэкспертизы от 26.12.2024г. № МКЭ-ОД/24-185
E34: К= | F34: 1.25 | G34: Табл. 3.2 Прим. 2
B35: Ц(б)2000 = | C35: =(C33+C34*(C28))*1000 -> 23000 | E35: К= | F35: 1 | G35: Табл. 1.1 (без п.8,9,10,13)
B37: И Т О Г О (руб., без НДС): | M37: * | N37: 1 | Q37: =Q27 -> 230431.25

Sheet Пож. риск
K1: Приложение №1.9.1
K2: к ПНМЦД
B6: С М Е Т А №9.1 | M6: K= | N6: =РП!J28 -> 8.015 | O6: - 2-й кв-л 2025г.
B7: на выполнение расчета пожарного риска для объекта:
B8: =Сводная!A7 -> на выполнение проектно-изыскательских работ с их сопровождением при прохождении экспертизы по объекту: "Реконструкция газопровода низкого давления по адресу: г. Москва , ЮЗАО, Б.Черемушкинская ул. , д. 20, к. 1-ул. Кржижановского, д. 23, к.6"
B9: (наименование стадии и видов проектных и изыскательских работ) | M9: Коэффициент тендерного снижения
B10: подлежащих выполнению: | M10: K= | N10: 1
B11: Для АО "МОСГАЗ"
B12: (наименование заказчика)
B13: Смета составлена с применением Сборника 9.1 «Методика расчета стоимости проектных, научных, нормативно-методических и других видов работ (услуг) на основании нормируемых трудозатрат. МРР-9.1.02-18», утвержденного и введенного в действие приказом Москомэкспертизы от 26.12.2018 № МКЭ-ОД/18-74, с коэфф. пересчета на 4 квартал 2025 года в соответствии с Приложением к приказу Москомэкспертизы от 26.12.2024г. № МКЭ-ОД/24-185 | M13: Количество обследуемых коммуникаций
C15: Табл. 1. Расчёт коэффициента квалификации-участия | M15: N= | N15: 32 | O15: шт.
C16: № п/п | D16: Наименование должностей исполнителей | F16: Фактическое время участия исполнителя в работе, дни Тф | G16: Общая продолжитель-ность выполнения работы, дни Тобщ | H16: Численность исполнителей одной квалификации, чел. Чi | I16: Индекс квалификации непосредствен-ных исполнителей | J16: Коэффициент квалификации-участия Ккв-уч
A17: =IF(J17=0,"","+") | C17: =IF(J17=0,0,1) -> 0 | D17: Начальник отдела | F17: 0 | H17: 0 | I17: 2.25 | J17: =ROUND(IF(AND($G$29<>0,H17<>0),F17*H17*I17/$G$29,0),3) -> 0
A18: =IF(J18=0,"","+") | C18: =IF(J18=0,C17,C17+1) -> 0 | D18: Комплексный ГИП | I18: 2 | J18: =ROUND(IF(AND($G$29<>0,H18<>0),F18*H18*I18/$G$29,0),3) -> 0
A19: =IF(J19=0,"","+") | C19: =IF(J19=0,C18,C18+1) -> 0 | D19: Зам. начальника отдела | I19: 1.8 | J19: =ROUND(IF(AND($G$29<>0,H19<>0),F19*H19*I19/$G$29,0),3) -> 0
A20: + | C20: =IF(J20=0,C19,C19+1) -> 0 | D20: ГИП | F20: 0 | H20: 0 | I20: 1.6 | J20: =ROUND(IF(AND($G$29<>0,H20<>0),F20*H20*I20/$G$29,0),3) -> 0
A21: =IF(J21=0,"","+") -> + | C21: =IF(J21=0,C20,C20+1) -> 1 | D21: Главный специалист | F21: 1 | H21: 1 | I21: 1.32 | J21: =ROUND(IF(AND($G$29<>0,H21<>0),F21*H21*I21/$G$29,0),3) -> 0.44
A22: =IF(J22=0,"","+") | C22: =IF(J22=0,C21,C21+1) -> 1 | D22: Руководитель группы | I22: 1.3 | J22: =ROUND(IF(AND($G$29<>0,H22<>0),F22*H22*I22/$G$29,0),3) -> 0
A23: =IF(J23=0,"","+") | C23: =IF(J23=0,C22,C22+1) -> 1 | D23: Ведущий инженер | I23: 1 | J23: =ROUND(IF(AND($G$29<>0,H23<>0),F23*H23*I23/$G$29,0),3) -> 0
A24: =IF(J24=0,"","+") -> + | C24: =IF(J24=0,C23,C23+1) -> 2 | D24: Инж. 1-й категории | F24: 3 | H24: 1 | I24: 0.9 | J24: =ROUND(IF(AND($G$29<>0,H24<>0),F24*H24*I24/$G$29,0),3) -> 0.9
A25: =IF(J25=0,"","+") | C25: =IF(J25=0,C24,C24+1) -> 2 | D25: Инж. 2-й категории | I25: 0.75 | J25: =ROUND(IF(AND($G$29<>0,H25<>0),F25*H25*I25/$G$29,0),3) -> 0
A26: =IF(J26=0,"","+") | C26: =IF(J26=0,C25,C25+1) -> 2 | D26: Инж. 3-й категории | I26: 0.65 | J26: =ROUND(IF(AND($G$29<>0,H26<>0),F26*H26*I26/$G$29,0),3) -> 0
A27: =IF(J27=0,"","+") | C27: =IF(J27=0,C26,C26+1) -> 2 | D27: Инженер | I27: 0.6 | J27: =ROUND(IF(AND($G$29<>0,H27<>0),F27*H27*I27/$G$29,0),3) -> 0
A28: =IF(J28=0,"","+") | C28: =IF(J28=0,C27,C27+1) -> 2 | D28: Техник | I28: 0.45 | J28: =ROUND(IF(AND($G$29<>0,H28<>0),F28*H28*I28/$G$29,0),3) -> 0
A29: + | D29: ИТОГО: | G29: =MAX(F17:F28) -> 3 | H29: =SUM(H17:H28) -> 2 | J29: =IF($H$29<>0,ROUND(SUM(J17:J28)/H29,3),0) -> 0.67
A30: +
A31: + | B31: Табл. 2. Расчёт базовой цены работ
A32: + | B32: Базовая средне-месячная нормативная зарплата исполнителей, руб. ЗПср.дн. | C32: Количество рабочих дней в месяце, дни | D32: Базовая средне-дневная зарплата исполнителей, руб. | E32: Удельный вес зарплаты в себестоимости работ, % Кз | F32: Рента-бельность Р | G32: Базовая средне-дневгая единичная выработка, руб. Вср.дн. | H32: Общая продолжи-тельность выполнения работы, дни Тобщ | I32: Численность исполнителей, чел. Чп | J32: Коэффициент квалификации (участия) Ккв-уч | K32: Базовая цена, руб. Цб
A33: + | B33: 13076 | C33: 22 | D33: =ROUND(B33/C33,0) -> 594 | E33: 0.4 | F33: 0.1 | G33: =ROUND((D33*(1+F33))/E33,0) -> 1634 | H33: =G29 -> 3 | I33: =H29 -> 2 | J33: =J29 -> 0.67 | K33: =ROUND(G33*H33*I33*J33,2) -> 6568.68
A34: +
A35: + | B35: Табл. 3. Расчёт стоимости выполняемых работ в текущих ценах
A36: + | B36: №№ п.п. | C36: Характеристика предприятия, здания,сооружения или виды работ | F36: № части и глав табл., пункты указаний к разделу или главе Сборника цен на ПИР | I36: Расчет стоимости | K36: Стоимость, руб.
A37: + | B37: 1 | C37: Повышающий коэффициент инфляции | I37: =CONCATENATE(K33,"·",G38) -> 6568,68·8,015 | K37: =ROUND(K33*G38,2) -> 52647.97
A38: + | F38: К= | G38: 8.015 | H38: 4 кв. 2025 | Q38: Пересчитать: 5,01
