Workbook

Sheet ССР баз
B1: Заказчик | C1: ГКУ "Технический центр Департамента культуры города Москвы"
D2: (наименование организации)
B3: Утвержден | C3: "__"______________20__ г.
B5: Сводный сметный расчет в сумме | D5: =H164 -> 12460.392 | G5: тыс. руб.
B7: в том числе возвратных сумм | G7: тыс. руб.
B10: ссылка на документ об утверждении
B11: "__"______________20__ г.
A12: СВОДНЫЙ СМЕТНЫЙ РАСЧЕТ СТОИМОСТИ СТРОИТЕЛЬСТВА
A14: Корректировка проектной документации на капитальный ремонт ГБУДО г. Москвы «ДШИ «СТАРТ» по адресу: г. Москва, Глазовский переулок пер. 4, стр. 8
A15: (наименование стройки)
C17: Составлен в ценах по состоянию на 1 января 2000 г.
B19: Номера | D19: Сметная стоимость, тыс.руб. | H19: Общая
A20: № | B20: сметных | C20: Наименование глав, объектов, | D20: строи- | E20: монтажных | F20: оборудова- | G20: прочих | H20: сметная
A21: п/п | B21: расчетов | C21: работ и затрат | D21: тельных | E21: работ | F21: ния, мебели, | G21: затрат | H21: стоимость
B22: и смет | D22: работ | F22: инвентаря
A23: 1 | B23: 2 | C23: 3 | D23: 4 | E23: 5 | F23: 6 | G23: 7 | H23: 8
C24: Глава 1. Подготовка территории строительства.
A25: 1 | C25: ИТОГО ПО ГЛАВЕ 1, в том числе | D25: 0 | E25: 0 | F25: 0 | G25: 0 | H25: 0
C26: Глава 2. Основные объекты строительства.
A27: 2 | B27: ОС №02-01 | C27: Корректировка проектной документации на капитальный ремонт ГБУДО г. Москвы «ДШИ «СТАРТ» по адресу: г. Москва, Глазовский переулок пер. 4, стр. 8 | D27: =D28+D29+D30 -> 6176.456 | E27: =E28+E29+E30 -> 619.04913 | F27: =F28+F29+F30 -> 2117.0004 | G27: =G28+G29+G30 -> 14.33952 | H27: =H28+H29+H30 -> 8926.845
C28: По утвержденной смете | D28: ='ОСР_02-01 баз'!D81 -> 2412.86 | E28: ='ОСР_02-01 баз'!E81 -> 425.08 | F28: ='ОСР_02-01 баз'!F81 -> 2070.31 | G28: ='ОСР_02-01 баз'!G81 -> 49.08 | H28: =SUM(D28:G28) -> 4957.33
C29: Исключенные работы | D29: =('ОСР_02-01 баз'!D82) -> -1135.544 | E29: =('ОСР_02-01 баз'!E82) -> -311.54087 | F29: =('ОСР_02-01 баз'!F82) -> -2028.5596 | G29: =('ОСР_02-01 баз'!G82) -> -37.09048 | H29: =(SUM(D29:G29)) -> -3512.735
C30: Добавленные работы | D30: ='ОСР_02-01 баз'!D83 -> 4899.14 | E30: ='ОСР_02-01 баз'!E83 -> 505.51 | F30: ='ОСР_02-01 баз'!F83 -> 2075.25 | G30: ='ОСР_02-01 баз'!G83 -> 2.35 | H30: =SUM(D30:G30) -> 7482.25
A31: 3 | C31: ИТОГО ПО ГЛАВЕ 2, в том числе | D31: =D32+D33+D34 -> 6176.456 | E31: =E32+E33+E34 -> 619.04913 | F31: =F32+F33+F34 -> 2117.0004 | G31: =G32+G33+G34 -> 14.33952 | H31: =H32+H33+H34 -> 8926.845
C32: По утвержденной смете | D32: =D28 -> 2412.86 | E32: =E28 -> 425.08 | F32: =F28 -> 2070.31 | G32: =G28 -> 49.08 | H32: =H28 -> 4957.33
C33: Исключенные работы | D33: =D29 -> -1135.544 | E33: =E29 -> -311.54087 | F33: =F29 -> -2028.5596 | G33: =G29 -> -37.09048 | H33: =H29 -> -3512.735
C34: Добавленные работы | D34: =D30 -> 4899.14 | E34: =E30 -> 505.51 | F34: =F30 -> 2075.25 | G34: =G30 -> 2.35 | H34: =H30 -> 7482.25
C35: Глава 4. Объекты энергетического хозяйства
A36: 4 | B36: 04-01-01 | C36: Наружное электроосвещение | D36: =D37+D38+D39 -> 30.16 | E36: =E37+E38+E39 -> 3.47 | F36: =F37+F38+F39 -> 1.72 | G36: =G37+G38+G39 -> 0 | H36: =H37+H38+H39 -> 35.35
C37: По утвержденной смете | D37: 0 | E37: 0 | F37: 0 | G37: 0 | H37: =SUM(D37:G37) -> 0 | L37: 3.67 | M37: 585
C38: Исключенные работы | D38: 0 | E38: 0 | F38: 0 | G38: 0 | H38: =SUM(D38:G38) -> 0 | L38: 3.05 | M38: 463
C39: Добавленные работы | D39: 30.16 | E39: 3.47 | F39: 1.72 | G39: 0 | H39: =SUM(D39:G39) -> 35.35 | L39: 0.62 | M39: 109
C40: ИТОГО ПО ГЛАВЕ 4, в том числе | D40: =D41+D42+D43 -> 30.16 | E40: =E41+E42+E43 -> 3.47 | F40: =F41+F42+F43 -> 1.72 | G40: =G41+G42+G43 -> 0 | H40: =H41+H42+H43 -> 35.35 | L40: 0 | M40: 13
C41: По утвержденной смете | D41: =D37 -> 0 | E41: =E37 -> 0 | F41: =F37 -> 0 | G41: =G37 -> 0 | H41: =SUM(D41:G41) -> 0 | L41: 0 | M41: 0
C42: Исключенные работы | D42: =D38 -> 0 | E42: =E38 -> 0 | F42: =F38 -> 0 | G42: =G38 -> 0 | H42: =SUM(D42:G42) -> 0 | L42: 0.44466 | M42: 125.86111
C43: Добавленные работы | D43: =D39 -> 30.16 | E43: =E39 -> 3.47 | F43: =F39 -> 1.72 | G43: =G39 -> 0 | H43: =SUM(D43:G43) -> 35.35
C44: Глава 5. Объекты транспортного хозяйства и связи
A45: 5 | B45: 05-01-01 | C45: Внутриплощадочные сети связи. Добавленные работы | D45: =D46+D47+D48 -> 3.05 | E45: =E46+E47+E48 -> 0.62 | F45: =F46+F47+F48 -> 0 | G45: =G46+G47+G48 -> 0 | H45: =H46+H47+H48 -> 3.67
C46: По утвержденной смете | D46: 0 | E46: 0 | F46: 0 | G46: 0 | H46: =SUM(D46:G46) -> 0
C47: Исключенные работы | D47: 0 | E47: 0 | F47: 0 | G47: 0 | H47: =SUM(D47:G47) -> 0
...

Sheet ССР 3кв_2025
B1: Заказчик | C1: ГКУ "Технический центр Департамента культуры города Москвы"
D2: (наименование организации)
B3: Утвержден | C3: "__"______________20__ г.
B5: Сводный сметный расчет в сумме | D5: =H172 -> 171770.89 | G5: тыс. руб.
B7: в том числе возвратных сумм | D7: =-H180 -> 117.56574 | G7: тыс. руб.
B10: ссылка на документ об утверждении
B11: "__"______________20__ г.
A12: СВОДНЫЙ СМЕТНЫЙ РАСЧЕТ СТОИМОСТИ СТРОИТЕЛЬСТВА
A14: Корректировка проектной документации на капитальный ремонт ГБУДО г. Москвы «ДШИ «СТАРТ» по адресу: г. Москва, Глазовский переулок пер. 4, стр. 8
A15: (наименование стройки)
C17: Составлен в ценах по состоянию на март 2018 г./III квартал 2025 года
B19: Номера | D19: Сметная стоимость, тыс.руб. | H19: Общая
A20: № | B20: сметных | C20: Наименование глав, объектов, | D20: строи- | E20: монтажных | F20: оборудова- | G20: прочих | H20: сметная
A21: п/п | B21: расчетов | C21: работ и затрат | D21: тельных | E21: работ | F21: ния, мебели, | G21: затрат | H21: стоимость
B22: и смет | D22: работ | F22: инвентаря
A23: 1 | B23: 2 | C23: 3 | D23: 4 | E23: 5 | F23: 6 | G23: 7 | H23: 8
C24: Глава 1. Подготовка территории строительства.
A25: 1 | C25: ИТОГО ПО ГЛАВЕ 1, в том числе | D25: 0 | E25: 0 | F25: 0 | G25: 0 | H25: 0
C26: Глава 2. Основные объекты строительства.
A27: 2 | B27: ОС №02-01 | C27: Корректировка проектной документации на капитальный ремонт ГБУДО г. Москвы «ДШИ «СТАРТ» по адресу: г. Москва, Глазовский переулок пер. 4, стр. 8 | D27: =D28+D29+D30 -> 78160.5 | E27: =E28+E29+E30 -> 15227.091 | F27: =F28+F29+F30 -> 27360.428 | G27: =G28+G29+G30 -> 120.08296 | H27: =H28+H29+H30 -> 120868.1
C28: По утвержденной смете | D28: ='ОСР_02-01 тек'!D81 -> 12142.028 | E28: ='ОСР_02-01 тек'!E81 -> 3027.39 | F28: ='ОСР_02-01 тек'!F81 -> 8148.864 | G28: ='ОСР_02-01 тек'!G81 -> 725.00149 | H28: =SUM(D28:G28) -> 24043.283
C29: Исключенные работы | D29: =('ОСР_02-01 тек'!D82) -> -6398.3677 | E29: =('ОСР_02-01 тек'!E82) -> -2013.8155 | F29: =('ОСР_02-01 тек'!F82) -> -8028.4738 | G29: =('ОСР_02-01 тек'!G82) -> -606.66159 | H29: =(SUM(D29:G29)) -> -17047.319
C30: Добавленные работы | D30: ='ОСР_02-01 тек'!D83 -> 72416.84 | E30: ='ОСР_02-01 тек'!E83 -> 14213.517 | F30: ='ОСР_02-01 тек'!F83 -> 27240.038 | G30: ='ОСР_02-01 тек'!G83 -> 1.74306 | H30: =SUM(D30:G30) -> 113872.14
A31: 3 | C31: ИТОГО ПО ГЛАВЕ 2, в том числе | D31: =D32+D33+D34 -> 78160.5 | E31: =E32+E33+E34 -> 15227.091 | F31: =F32+F33+F34 -> 27360.428 | G31: =G32+G33+G34 -> 120.08296 | H31: =H32+H33+H34 -> 120868.1
C32: По утвержденной смете | D32: =D28 -> 12142.028 | E32: =E28 -> 3027.39 | F32: =F28 -> 8148.864 | G32: =G28 -> 725.00149 | H32: =H28 -> 24043.283
C33: Исключенные работы | D33: =D29 -> -6398.3677 | E33: =E29 -> -2013.8155 | F33: =F29 -> -8028.4738 | G33: =G29 -> -606.66159 | H33: =H29 -> -17047.319
C34: Добавленные работы | D34: =D30 -> 72416.84 | E34: =E30 -> 14213.517 | F34: =F30 -> 27240.038 | G34: =G30 -> 1.74306 | H34: =H30 -> 113872.14
C35: Глава 4. Объекты энергетического хозяйства
A36: 4 | B36: 04-01-01 | C36: Наружное электроосвещение | D36: =D37+D38+D39 -> 460.45041 | E36: =E37+E38+E39 -> 64.18774 | F36: =F37+F38+F39 -> 12.99655 | G36: =G37+G38+G39 -> 0 | H36: =H37+H38+H39 -> 537.6347
C37: По утвержденной смете | D37: 0 | E37: 0 | F37: 0 | G37: 0 | H37: =SUM(D37:G37) -> 0
C38: Исключенные работы | D38: 0 | E38: 0 | F38: 0 | G38: 0 | H38: =SUM(D38:G38) -> 0
C39: Добавленные работы | D39: 460.45041 | E39: 64.18774 | F39: 12.99655 | G39: 0 | H39: =SUM(D39:G39) -> 537.6347
C40: ИТОГО ПО ГЛАВЕ 4, в том числе | D40: =D41+D42+D43 -> 460.45041 | E40: =E41+E42+E43 -> 64.18774 | F40: =F41+F42+F43 -> 12.99655 | G40: =G41+G42+G43 -> 0 | H40: =H41+H42+H43 -> 537.6347
C41: По утвержденной смете | D41: =D37 -> 0 | E41: =E37 -> 0 | F41: =F37 -> 0 | G41: =G37 -> 0 | H41: =SUM(D41:G41) -> 0
C42: Исключенные работы | D42: =D38 -> 0 | E42: =E38 -> 0 | F42: =F38 -> 0 | G42: =G38 -> 0 | H42: =SUM(D42:G42) -> 0
C43: Добавленные работы | D43: =D39 -> 460.45041 | E43: =E39 -> 64.18774 | F43: =F39 -> 12.99655 | G43: =G39 -> 0 | H43: =SUM(D43:G43) -> 537.6347
C44: Глава 5. Объекты транспортного хозяйства и связи
A45: 5 | B45: 05-01-01 | C45: Внутриплощадочные сети связи. Добавленные работы | D45: =D46+D47+D48 -> 58.77888 | E45: =E46+E47+E48 -> 24.63538 | F45: =F46+F47+F48 -> 0 | G45: =G46+G47+G48 -> 0 | H45: =H46+H47+H48 -> 83.41426
C46: По утвержденной смете | D46: 0 | E46: 0 | F46: 0 | G46: 0 | H46: =SUM(D46:G46) -> 0
C47: Исключенные работы | D47: 0 | E47: 0 | F47: 0 | G47: 0 | H47: =SUM(D47:G47) -> 0
...

Sheet ОСР_02-01 баз
J2: Форма 3
B4: Корректировка проектной документации на капитальный ремонт ГБУДО г. Москвы «ДШИ «СТАРТ» по адресу: г. Москва, Глазовский переулок пер. 4, стр. 8
B5: (Наименование стройки)
O7: -216.22
A8: ОБЪЕКТНАЯ СМЕТА № | D8: ОС № 02-01 | O8: 0
D9: (объектная смета) | O9: -175.23
O10: -38.86
A11: на строительство (капитальный ремонт) | D11: Корректировка проектной документации на капитальный ремонт ГБУДО г. Москвы «ДШИ «СТАРТ» по адресу: г. Москва, Глазовский переулок пер. 4, стр. 8 | O11: -2.13
O12: -5.74
A13: Сметная стоимость, тыс.руб. | D13: =H80 -> 8926.835 | E13: тыс.руб. | O13: -419.4
Q14: 666.28
A15: Средства на оплату труда | D15: =I80 -> 533.03581 | E15: тыс.руб. | Q15: 469.61
Q16: 0
A17: Расчетный измеритель единичной стоимости | D17: =D13/L17 -> 7.1101832 | E17: тыс. руб./кв.м | L17: 1255.5 | O17: 628.78 | Q17: 194.33
O18: 97.67 | Q18: 2.34
A19: Составлен(а) в ценах по состоянию на 01.01.2000 г. | O19: 334.76 | Q19: 14.82835
O20: 196.35
A21: № п/п | B21: Номера сметных расчетов (смет) | C21: Наименование работ и затрат | D21: Сметная стоимость, тыс.руб. | I21: Средства на оплату труда, тыс. руб. | J21: Показатели единичной стоимости, тыс. руб./кв.м | O21: 0
D22: строите-льных работ | E22: монтажных работ | F22: оборудо-вания, мебели, инвентаря | G22: прочих затрат | H22: Всего | O22: 52.01257
A23: 1 | B23: 2 | C23: 3 | D23: 4 | E23: 5 | F23: 6 | G23: 7 | H23: 8 | I23: 9 | J23: 10
A24: 1 | C24: Строительные работы | J24: =(H25+H26+H27)/$L$17 -> 3.8279411 | Q24: 628.78 | R24: 14371.37
B25: 02-01-01 | C25: По утвержденной смете | D25: 1805.64 | G25: 7.72 | H25: =SUM(D25:G25) -> 1813.36 | I25: 94.01 | Q25: 97.67 | R25: 4825.85
C26: Исключенные работы | D26: -715.91 | E26: 0 | F26: 0 | G26: 0 | H26: =(SUM(D26:G26)) -> -715.91 | I26: -40.1 | Q26: 334.76 | R26: 7981.08
C27: Добавленные работы | D27: 3708.53 | E27: 0 | F27: 0 | G27: 0 | H27: =SUM(D27:G27) -> 3708.53 | I27: 318.21 | Q27: 196.35 | R27: 1564.44
A28: 2 | C28: Электрооборудование и электроосвещение | J28: =(H29+H30+H31)/$L$17 -> 0.57266428 | O28: 3901.81 | Q28: 0 | R28: 0
B29: 02-01-02 | C29: По утвержденной смете | E29: 265.43 | F29: 38.86 | G29: 2.13 | H29: =SUM(D29:G29) -> 306.42 | I29: 20.95 | O29: 3885.12 | Q29: 52.01257 | R29: 2860.1712
C30: Исключенные работы | D30: 0 | E30: =-175.23 -> -175.23 | F30: =-38.86 -> -38.86 | G30: -2.13 | H30: =-216.22 -> -216.22 | I30: =-5.74 -> -5.74 | O30: 16.69
C31: Добавленные работы | D31: 97.67 | E31: 334.76 | F31: 196.35 | G31: 0 | H31: 628.78 | I31: 52.01 | N31: 3708.53 | O31: 0
A32: 3 | C32: Отопление, вентиляция | J32: =(H33+H34+H35)/$L$17 -> 0.6410912 | N32: 3708.53 | O32: 0
B33: 02-01-03 | C33: По утвержденной смете | D33: 454.97 | E33: 18.38 | F33: 303.34 | G33: 28.48 | H33: =SUM(D33:G33) -> 805.17 | I33: 44.2 | N33: 0 | O33: 345.95877 | P33: =SUM(P34:P37) -> -28.86 | Q33: =SUM(Q34:Q37) -> -28.86 | R33: =SUM(R34:R37) -> -28.86
C34: Исключенные работы | D34: =-332.86 -> -332.86 | E34: =-13.34 -> -13.34 | F34: =-291.88 -> -291.88 | G34: =-28.48 -> -28.48 | H34: =-666.56 -> -666.56 | I34: =-34.02 -> -34.02 | N34: 0 | O34: 445.44 | P34: -27.65 | Q34: -27.65 | R34: -27.65
C35: Добавленные работы | D35: 469.61 | E35: 0 | F35: 194.33 | G35: 2.34 | H35: 666.28 | I35: 14.83 | N35: 0 | O35: 201.97 | P35: 0 | Q35: 0 | R35: 0
A36: 4 | C36: Водопровод и канализация | J36: =(H37+H38+H39)/$L$17 -> 0.38772601 | N36: 318.20645 | O36: 2.27 | P36: -1.21 | Q36: -1.21 | R36: -1.21
B37: 02-01-04 | C37: По утвержденной смете | D37: 68.99 | E37: 0 | F37: 1.21 | G37: 0.01 | H37: =SUM(D37:G37) -> 70.21 | I37: 5.64 | O37: 241.19 | P37: 0 | Q37: 0 | R37: 0
C38: Исключенные работы | D38: -27.65 | E38: 0 | F38: =-1.21 -> -1.21 | G38: 0 | H38: =-28.86 -> -28.86 | I38: =-3.49 -> -3.49 | O38: 0.01 | P38: -3.49 | Q38: -3.49 | R38: -3.49
C39: Добавленные работы | D39: 201.97 | E39: 2.27 | F39: 241.19 | G39: 0.01 | H39: 445.44 | I39: 9.06 | O39: 9.06159
A40: 5 | C40: Автоматизация вентиляции | J40: =(H41+H42+H43)/$L$17 -> 0.052816583
B41: 02-01-05 | C41: По утвержденной смете | D41: 0 | E41: 23.25 | F41: 16.4 | G41: 2.13 | H41: =SUM(D41:G41) -> 41.78 | I41: 3.19 | O41: 63.48
C42: Исключенные работы | D42: 0 | E42: =(22548.12/1000)*-1 -> -22.54812 | F42: =(16400.66/1000)*-1 -> -16.40066 | G42: 0 | H42: =SUM(D42:G42) -> -38.94878 | I42: =(2219.98/1000)*-1 -> -2.21998 | O42: 41.22
C43: Добавленные работы | D43: 41.22 | E43: 22.26 | F43: 0 | G43: 0 | H43: =SUM(D43:G43) -> 63.48 | I43: 5.72749 | O43: 22.26
...

Sheet ОСР_02-01 тек
J2: Форма 3
B4: Корректировка проектной документации на капитальный ремонт ГБУДО г. Москвы «ДШИ «СТАРТ» по адресу: г. Москва, Глазовский переулок пер. 4, стр. 8
B5: (Наименование стройки)
A8: ОБЪЕКТНАЯ СМЕТА № | D8: ОС № 02-01
D9: (объектная смета)
A11: на строительство (капитальный ремонт) | D11: Корректировка проектной документации на капитальный ремонт ГБУДО г. Москвы «ДШИ «СТАРТ» по адресу: г. Москва, Глазовский переулок пер. 4, стр. 8
A13: Сметная стоимость, тыс.руб. | D13: =H80 -> 120868.1 | E13: тыс.руб.
A15: Средства на оплату труда | D15: =I80 -> 26008.025 | E15: тыс.руб.
A17: Расчетный измеритель единичной стоимости | D17: =D13/L17 -> 96.27089 | E17: тыс. руб./кв.м | L17: 1255.5
A19: Составлен(а) в смешанном уровне цен по состоянию на март 2018 г. и III квартал 2025 года | P19: 3901.81 | Q19: 70241.88
P20: 3885.12 | Q20: 69996.24
A21: № п/п | B21: Номера сметных расчетов (смет) | C21: Наименование работ и затрат | D21: Сметная стоимость, тыс.руб. | I21: Средства на оплату труда, тыс. руб. | J21: Показатели единичной стоимости, тыс. руб./кв.м | P21: 16.69 | Q21: 245.64
D22: строите-льных работ | E22: монтажных работ | F22: оборудо-вания, мебели, инвентаря | G22: прочих затрат | H22: Всего | P22: 0 | Q22: 0
A23: 1 | B23: 2 | C23: 3 | D23: 4 | E23: 5 | F23: 6 | G23: 7 | H23: 8 | I23: 9 | J23: 10 | P23: 0 | Q23: 0
A24: 1 | C24: Строительные работы | J24: =(H25+H26+H27)/$L$17 -> 48.397045 | P24: 345.95877 | Q24: 19024.273
B25: 02-01-01 | C25: По утвержденной смете | D25: 8525.22 | E25: 0 | F25: 0 | G25: 48.63 | H25: =SUM(D25:G25) -> 8573.85 | I25: 1730.1
C26: Исключенные работы | D26: -3582.6275 | E26: 0 | F26: 0 | G26: 0 | H26: =SUM(D26:G26) -> -3582.6275 | I26: -739.74
C27: Добавленные работы | D27: 55771.268 | E27: 0 | F27: 0 | G27: 0 | H27: =SUM(D27:G27) -> 55771.268 | I27: 17498.17
A28: 2 | C28: Электрооборудование и электроосвещение | J28: =(H29+H30+H31)/$L$17 -> 12.429959 | R28: 666.28 | S28: 6163.5 | U28: 14371.37
B29: 02-01-02 | C29: По утвержденной смете | E29: 1721.77 | F29: 159.71 | G29: 34.83 | H29: =SUM(D29:G29) -> 1916.31 | I29: 383.08 | R29: 469.61 | S29: 3690.16 | U29: 4825.85
C30: Исключенные работы | D30: 0 | E30: -913.35282 | F30: -159.7064 | G30: -34.83095 | H30: =SUM(D30:G30) -> -1107.8902 | I30: =-105.14 -> -105.14 | R30: 0 | S30: 0 | U30: 7981.08
C31: Добавленные работы | D31: 4657.1048 | E31: 8575.8538 | F31: 1564.4356 | G31: 0 | H31: =SUM(D31:G31) -> 14797.394 | I31: 2860.17 | R31: 194.33 | S31: 2435.87 | U31: 1564.44
A32: 3 | C32: Отопление, вентиляция | J32: =(H33+H34+H35)/$L$17 -> 7.1991 | R32: 2.34 | S32: 37.47 | U32: 0
B33: 02-01-03 | C33: По утвержденной смете | D33: 2678 | E33: 249.1 | F33: 1353.84 | G33: 465.85 | H33: =SUM(D33:G33) -> 4746.79 | I33: 819.9 | S33: 792.93713 | U33: 2860.1712
C34: Исключенные работы | D34: -2096.003 | E34: -241.65537 | F34: -1353.8442 | G34: -465.85111 | H34: =SUM(D34:G34) -> -4157.3537 | I34: =-631.03 -> -631.03 | O34: =SUM(O35:O38) -> -666.56 | Q34: =SUM(Q35:Q38) -> -3864.88
C35: Добавленные работы | D35: 5551.4029 | E35: 43.7799 | F35: 2853.851 | G35: 0 | H35: =SUM(D35:G35) -> 8449.0338 | I35: 792.94 | O35: -332.86 | Q35: -1874.73
A36: 4 | C36: Водопровод и канализация | J36: =(H37+H38+H39)/$L$17 -> 3.425869 | O36: -13.34 | Q36: -217.55
B37: 02-01-04 | C37: По утвержденной смете | D37: =430597.75/1000 -> 430.59775 | E37: 0 | F37: =4313.99/1000 -> 4.31399 | G37: =51.49/1000 -> 0.05149 | H37: =SUM(D37:G37) -> 434.96323 | I37: =104583.97/1000 -> 104.58397 | O37: -291.88 | Q37: -1306.75
C38: Исключенные работы | D38: -303.22303 | E38: 0 | F38: -4.31399 | G38: 0 | H38: =SUM(D38:G38) -> -307.53702 | I38: -64.81 | O38: -28.48 | Q38: -465.85
C39: Добавленные работы | D39: 2353.474 | E39: 0 | F39: 1818.5352 | G39: 1.74306 | H39: =SUM(D39:G39) -> 4173.7523 | I39: 498.3 | O39: -34.02 | Q39: -631.03
A40: 5 | C40: Автоматизация вентиляции | J40: =(H41+H42+H43)/$L$17 -> 0.60540584 | O40: -2460.8 | Q40: -2460.8
B41: 02-01-05 | C41: По утвержденной смете | D41: 0 | E41: 154.63 | F41: 75.5 | G41: 34.83 | H41: =SUM(D41:G41) -> 264.96 | I41: 59.14 | L41: 1263.98
C42: Исключенные работы | D42: 0 | E42: -148.36443 | F42: -75.49927 | G42: 0 | H42: =SUM(D42:G42) -> -223.8637 | I42: =(41180.37/1000)*-1 -> -41.18037 | L42: 414.99 | O42: =O43+O44+O45+O46 -> 0 | P42: =P43+P44+P45+P46 -> 0 | Q42: 63.48 | R42: 1570.01
C43: Добавленные работы | D43: 342.37428 | E43: 376.61645 | F43: 0 | G43: 0 | H43: =SUM(D43:G43) -> 718.99073 | I43: 314.95 | L43: 848.99 | Q43: 41.22 | R43: 721.01
A44: 6 | C44: Технологическое оборудование | J44: =(H45+H46+H47)/$L$17 -> 5.5636899 | Q44: 22.26 | R44: 849
B45: 02-01-06 | C45: По утвержденной смете | D45: 13.13 | E45: 65.11 | F45: 4908.43 | H45: =SUM(D45:G45) -> 4986.67 | I45: 32.75 | Q45: 0 | R45: 0
C46: Исключенные работы | D46: -4.49821 | E46: -65.11005 | F46: -4797.822 | G46: 0 | H46: =SUM(D46:G46) -> -4867.4303 | I46: =(6032.68/1000)*-1 -> -6.03268 | Q46: 0 | R46: 0
C47: Добавленные работы | D47: 0 | E47: 168.43166 | F47: 6697.5413 | G47: 0 | H47: =SUM(D47:G47) -> 6865.973 | I47: 87.03 | Q47: 5.72749 | R47: 314.95469
A48: 7 | C48: Система контроля и управления доступом | J48: =(H49+H50+H51)/$L$17 -> 2.5546869 | O48: 183.15 | P48: 3468.53
B49: 02-01-07 | C49: По утвержденной смете | D49: 7.82 | E49: 17.46 | F49: 17.42 | G49: 1.49 | H49: =SUM(D49:G49) -> 44.19 | I49: 9.48 | O49: 29.29 | P49: 260.54
...

Sheet ОСР_09-01 баз
J2: Форма 3
B4: Корректировка проектной документации на капитальный ремонт ГБУДО г. Москвы «ДШИ «СТАРТ» по адресу: г. Москва, Глазовский переулок пер. 4, стр. 8
B5: (Наименование стройки)
A8: ОБЪЕКТНАЯ СМЕТА № | D8: ОС № 09-01
D9: (объектная смета)
A11: на строительство (капитальный ремонт) | D11: Корректировка проектной документации на капитальный ремонт ГБУДО г. Москвы «ДШИ «СТАРТ» по адресу: г. Москва, Глазовский переулок пер. 4, стр. 8. Пусконаладочные работы
A13: Сметная стоимость, тыс.руб. | D13: =H44 -> 53.74 | E13: тыс.руб.
A15: Средства на оплату труда | D15: =I44 -> 25.59 | E15: тыс.руб.
A17: Расчетный измеритель единичной стоимости | D17: =D13/L17 -> 0.042803664 | E17: тыс. руб./кв.м | L17: 1255.5 | M17: м2
A19: Составлен(а) в ценах по состоянию на 01.01.2000 г.
A21: № п/п | B21: Номера сметных расчетов (смет) | C21: Наименование работ и затрат | D21: Сметная стоимость, тыс.руб. | I21: Средства на оплату труда, тыс. руб. | J21: Показатели единичной стоимости, тыс. руб./кв.м
D22: строите-льных работ | E22: монтажных работ | F22: оборудо-вания, мебели, инвентаря | G22: прочих затрат | H22: Всего
A23: 1 | B23: 2 | C23: 3 | D23: 4 | E23: 5 | F23: 6 | G23: 7 | H23: 8 | I23: 9 | J23: 10
A24: 1 | C24: ПНР. ЭЛЕКТРОСНАБЖЕНИЕ | J24: =(H25+H26+H27)/$L$17 -> 0.0056630824
B25: 09-01-01 | C25: По утвержденной смете | D25: 0 | E25: 0 | F25: 0 | G25: 0 | H25: =SUM(D25:G25) -> 0 | I25: 0
C26: Исключенные работы | D26: 0 | E26: 0 | F26: 0 | G26: 0 | H26: =(SUM(D26:G26)) -> 0 | I26: 0 | L26: -1
C27: Добавленные работы | D27: 0 | E27: 0 | F27: 0 | G27: 7.11 | H27: =SUM(D27:G27) -> 7.11 | I27: 3.38
A28: 2 | C28: ПНР. Вентиляция | J28: =(H29+H30+H31)/$L$17 -> 0.00260454
B29: 09-01-02 | C29: По утвержденной смете | D29: 0 | E29: 0 | F29: 0 | G29: 0 | H29: =SUM(D29:G29) -> 0 | I29: 0
C30: Исключенные работы | D30: 0 | E30: 0 | F30: 0 | G30: 0 | H30: =SUM(D30:G30) -> 0 | I30: 0
C31: Добавленные работы | D31: 0 | E31: 0 | F31: 0 | G31: 3.27 | H31: =SUM(D31:G31) -> 3.27 | I31: 1.56
A32: 3 | C32: ПНР. Лифтовое хозяйство | J32: =(H33+H34+H35)/$L$17 -> 0.010067702
B33: 09-01-03 | C33: По утвержденной смете | D33: 0 | E33: 0 | F33: 0 | G33: 0 | H33: =SUM(D33:G33) -> 0 | I33: 0
C34: Исключенные работы | D34: 0 | E34: 0 | F34: 0 | G34: 0 | H34: =SUM(D34:G34) -> 0 | I34: 0
C35: Добавленные работы | D35: 0 | E35: 0 | F35: 0 | G35: 12.64 | H35: =SUM(D35:G35) -> 12.64 | I35: 6.02
A36: 4 | C36: ПНР. Сети связи | J36: =(H37+H38+H39)/$L$17 -> 0.023870968
B37: 09-01-04 | C37: По утвержденной смете | D37: 0 | E37: 0 | F37: 0 | G37: 0 | H37: =SUM(D37:G37) -> 0 | I37: 0
C38: Исключенные работы | D38: 0 | E38: 0 | F38: 0 | G38: 0 | H38: =SUM(D38:G38) -> 0 | I38: 0
C39: Добавленные работы | D39: 0 | E39: 0 | F39: 0 | G39: 29.97 | H39: =SUM(D39:G39) -> 29.97 | I39: 14.27
A40: 5 | C40: ПНР. Наружное освещение | J40: =(H41+H42+H43)/$L$17 -> 0.00059737157
B41: 09-01-05 | C41: По утвержденной смете | D41: 0 | E41: 0 | F41: 0 | G41: 0 | H41: =SUM(D41:G41) -> 0 | I41: 0
C42: Исключенные работы | D42: 0 | E42: 0 | F42: 0 | G42: 0 | H42: =SUM(D42:G42) -> 0 | I42: 0
C43: Добавленные работы | D43: 0 | E43: 0 | F43: 0 | G43: 0.75 | H43: =SUM(D43:G43) -> 0.75 | I43: 0.36
C44: ИТОГО: | D44: =D45+D46+D47 -> 0 | E44: =E45+E46+E47 -> 0 | F44: =F45+F46+F47 -> 0 | G44: =G45+G46+G47 -> 53.74 | H44: =H45+H46+H47 -> 53.74 | I44: =I45+I46+I47 -> 25.59
C45: По утвержденной смете | D45: =D25+D29+D33+D37+D41 -> 0 | E45: =E25+E29+E33+E37+E41 -> 0 | F45: =F25+F29+F33+F37+F41 -> 0 | G45: =G25+G29+G33+G37+G41 -> 0 | H45: =H25+H29+H33+H37+H41 -> 0 | I45: =I25+I29+I33+I37+I41 -> 0
C46: Исключенные работы | D46: =D26+D30+D34+D38+D42 -> 0 | E46: =E26+E30+E34+E38+E42 -> 0 | F46: =F26+F30+F34+F38+F42 -> 0 | G46: =G26+G30+G34+G38+G42 -> 0 | H46: =H26+H30+H34+H38+H42 -> 0 | I46: =I26+I30+I34+I38+I42 -> 0
C47: Добавленные работы | D47: =D27+D31+D35+D39+D43 -> 0 | E47: =E27+E31+E35+E39+E43 -> 0 | F47: =F27+F31+F35+F39+F43 -> 0 | G47: =G27+G31+G35+G39+G43 -> 53.74 | H47: =H27+H31+H35+H39+H43 -> 53.74 | I47: =I27+I31+I35+I39+I43 -> 25.59
A52: Главный инженер проекта
A53: С.Е. Михеев
A54: [подпись (инициалы, фамилия)]
...

Sheet ОСР_09-01 тек
J2: Форма 3
B4: Корректировка проектной документации на капитальный ремонт ГБУДО г. Москвы «ДШИ «СТАРТ» по адресу: г. Москва, Глазовский переулок пер. 4, стр. 8
B5: (Наименование стройки)
A8: ОБЪЕКТНАЯ СМЕТА № | D8: ОС № 09-01
D9: (объектная смета)
A11: на строительство (капитальный ремонт) | D11: Корректировка проектной документации на капитальный ремонт ГБУДО г. Москвы «ДШИ «СТАРТ» по адресу: г. Москва, Глазовский переулок пер. 4, стр. 8. Пусконаладочные работы
A13: Сметная стоимость, тыс.руб. | D13: =H44 -> 2539.9594 | E13: тыс.руб.
A15: Средства на оплату труда | D15: =I44 -> 1406.77 | E15: тыс.руб.
A17: Расчетный измеритель единичной стоимости | D17: =D13/L17 -> 2.023066 | E17: тыс. руб./кв.м | L17: 1255.5 | M17: м2
A19: Составлен(а) в смешанном уровне цен по состоянию на март 2018 г. и III квартал 2025 года
A21: № п/п | B21: Номера сметных расчетов (смет) | C21: Наименование работ и затрат | D21: Сметная стоимость, тыс.руб. | I21: Средства на оплату труда, тыс. руб. | J21: Показатели единичной стоимости, тыс. руб./кв.м
D22: строите-льных работ | E22: монтажных работ | F22: оборудо-вания, мебели, инвентаря | G22: прочих затрат | H22: Всего
A23: 1 | B23: 2 | C23: 3 | D23: 4 | E23: 5 | F23: 6 | G23: 7 | H23: 8 | I23: 9 | J23: 10
A24: 1 | C24: ПНР. Электроснабжение | J24: =(H25+H26+H27)/$L$17 -> 0.24899041
B25: 09-01-01 | C25: По утвержденной смете | D25: 0 | E25: 0 | F25: 0 | G25: 0 | H25: =SUM(D25:G25) -> 0 | I25: 0
C26: Исключенные работы | D26: 0 | E26: 0 | F26: 0 | G26: 0 | H26: =(SUM(D26:G26)) -> 0 | I26: 0
C27: Добавленные работы | D27: 0 | E27: 0 | F27: 0 | G27: 312.60746 | H27: =SUM(D27:G27) -> 312.60746 | I27: 186.1
A28: 2 | C28: ПНР. Вентиляция | J28: =(H29+H30+H31)/$L$17 -> 0.1397254
B29: 09-01-02 | C29: По утвержденной смете | D29: 0 | E29: 0 | F29: 0 | G29: 0 | H29: =SUM(D29:G29) -> 0 | I29: 0
C30: Исключенные работы | D30: 0 | E30: 0 | F30: 0 | G30: 0 | H30: =SUM(D30:G30) -> 0 | I30: 0
C31: Добавленные работы | D31: 0 | E31: 0 | F31: 0 | G31: 175.42524 | H31: =SUM(D31:G31) -> 175.42524 | I31: 85.59
A32: 3 | C32: ПНР. Лифтовое хозяйство | J32: =(H33+H34+H35)/$L$17 -> 0.49619086
B33: 09-01-03 | C33: По утвержденной смете | D33: 0 | E33: 0 | F33: 0 | G33: 0 | H33: 0 | I33: 0
C34: Исключенные работы | D34: 0 | E34: 0 | F34: 0 | G34: 0 | H34: 0 | I34: 0
C35: Добавленные работы | D35: 0 | E35: 0 | F35: 0 | G35: 622.96762 | H35: =SUM(D35:G35) -> 622.96762 | I35: 330.84
A36: 4 | C36: ПНР. Сети связи | J36: =(H37+H38+H39)/$L$17 -> 1.1120375
B37: 09-01-04 | C37: По утвержденной смете | D37: 0 | E37: 0 | F37: 0 | G37: 0 | H37: =SUM(D37:G37) -> 0 | I37: 0
C38: Исключенные работы | D38: 0 | E38: 0 | F38: 0 | G38: 0 | H38: =SUM(D38:G38) -> 0 | I38: 0
C39: Добавленные работы | D39: 0 | E39: 0 | F39: 0 | G39: 1396.1631 | H39: =SUM(D39:G39) -> 1396.1631 | I39: 784.72
A40: 5 | C40: ПНР. Наружное освещение | J40: =(H41+H42+H43)/$L$17 -> 0.026121864
B41: 09-01-05 | C41: По утвержденной смете | D41: 0 | E41: 0 | F41: 0 | G41: 0 | H41: =SUM(D41:G41) -> 0 | I41: 0
C42: Исключенные работы | D42: 0 | E42: 0 | F42: 0 | G42: 0 | H42: =SUM(D42:G42) -> 0 | I42: 0
C43: Добавленные работы | D43: 0 | E43: 0 | F43: 0 | G43: 32.796 | H43: =SUM(D43:G43) -> 32.796 | I43: 19.52
C44: ИТОГО: | D44: =D45+D46+D47 -> 0 | E44: =E45+E46+E47 -> 0 | F44: =F45+F46+F47 -> 0 | G44: =G45+G46+G47 -> 2539.9594 | H44: =H45+H46+H47 -> 2539.9594 | I44: =I45+I46+I47 -> 1406.77
C45: По утвержденной смете | D45: =D25+D29+D33+D37+D41 -> 0 | E45: =E25+E29+E33+E37+E41 -> 0 | F45: =F25+F29+F33+F37+F41 -> 0 | G45: =G25+G29+G33+G37+G41 -> 0 | H45: =H25+H29+H33+H37+H41 -> 0 | I45: =I25+I29+I33+I37+I41 -> 0
C46: Исключенные работы | D46: =D26+D30+D34+D38+D42 -> 0 | E46: =E26+E30+E34+E38+E42 -> 0 | F46: =F26+F30+F34+F38+F42 -> 0 | G46: =G26+G30+G34+G38+G42 -> 0 | H46: =H26+H30+H34+H38+H42 -> 0 | I46: =I26+I30+I34+I38+I42 -> 0
C47: Добавленные работы | D47: =D27+D31+D35+D39+D43 -> 0 | E47: =E27+E31+E35+E39+E43 -> 0 | F47: =F27+F31+F35+F39+F43 -> 0 | G47: =G27+G31+G35+G39+G43 -> 2539.9594 | H47: =H27+H31+H35+H39+H43 -> 2539.9594 | I47: =I27+I31+I35+I39+I43 -> 1406.77
A52: Главный инженер проекта
A53: С.Е. Михеев
A54: [подпись (инициалы, фамилия)]
...

Sheet ОСР_09-02 баз 
J2: Форма 3
B4: Корректировка проектной документации на капитальный ремонт ГБУДО г. Москвы «ДШИ «СТАРТ» по адресу: г. Москва, Глазовский переулок пер. 4, стр. 8
B5: (Наименование стройки)
A8: ОБЪЕКТНАЯ СМЕТА № | D8: ОС № 09-02
D9: (объектная смета)
A11: на строительство (капитальный ремонт) | D11: Корректировка проектной документации на капитальный ремонт ГБУДО г. Москвы «ДШИ «СТАРТ» по адресу: г. Москва, Глазовский переулок пер. 4, стр. 8. Утилизация отходов
A13: Сметная стоимость, тыс.руб. | D13: =H36 -> 87.89 | E13: тыс.руб.
A15: Средства на оплату труда | D15: =I36 -> 0 | E15: тыс.руб.
A17: Расчетный измеритель единичной стоимости | D17: =D13/L17 -> 0.070003982 | E17: тыс. руб./кв.м | L17: 1255.5 | M17: м2
A19: Составлен(а) в ценах по состоянию на 01.01.2000 г.
A21: № п/п | B21: Номера сметных расчетов (смет) | C21: Наименование работ и затрат | D21: Сметная стоимость, тыс.руб. | I21: Средства на оплату труда, тыс. руб. | J21: Показатели единичной стоимости, тыс. руб./кв.м
D22: строите-льных работ | E22: монтажных работ | F22: оборудо-вания, мебели, инвентаря | G22: прочих затрат | H22: Всего | M22: 22.49 | N22: 133.01
A23: 1 | B23: 2 | C23: 3 | D23: 4 | E23: 5 | F23: 6 | G23: 7 | H23: 8 | I23: 9 | J23: 10
A24: 1 | C24: Утилизация отходов КР | J24: =(H25+H26+H27)/$L$17 -> 0.00070888092
B25: 09-02-01 | C25: По утвержденной смете | D25: 0 | E25: 0 | F25: 0 | G25: 0 | H25: =SUM(D25:G25) -> 0 | I25: 0
C26: Исключенные работы | D26: 0 | E26: 0 | F26: 0 | G26: 0 | H26: =(SUM(D26:G26)) -> 0 | I26: 0
C27: Добавленные работы | D27: 0 | E27: 0 | F27: 0 | G27: 0.89 | H27: =SUM(D27:G27) -> 0.89 | I27: 0
A28: 2 | C28: Утилизация отходов АР | J28: =(H29+H30+H31)/$L$17 -> 0.054368777
B29: 09-02-02 | C29: По утвержденной смете | D29: 0 | E29: 0 | F29: 0 | G29: 0 | H29: =SUM(D29:G29) -> 0 | I29: 0
C30: Исключенные работы | D30: 0 | E30: 0 | F30: 0 | G30: 0 | H30: =SUM(D30:G30) -> 0 | I30: 0
C31: Добавленные работы | D31: 0 | E31: 0 | F31: 0 | G31: 68.26 | H31: =SUM(D31:G31) -> 68.26 | I31: 0
A32: 3 | C32: Утилизация отходов ПЗУ | J32: =(H33+H34+H35)/$L$17 -> 0.014926324
B33: 09-02-03 | C33: По утвержденной смете | D33: 0 | E33: 0 | F33: 0 | G33: 0 | H33: =SUM(D33:G33) -> 0 | I33: 0
C34: Исключенные работы | D34: 0 | E34: 0 | F34: 0 | G34: 0 | H34: =SUM(D34:G34) -> 0 | I34: 0
C35: Добавленные работы | D35: 0 | E35: 0 | F35: 0 | G35: 18.74 | H35: =SUM(D35:G35) -> 18.74 | I35: 0
C36: ИТОГО: | D36: =D37+D38+D39 -> 0 | E36: =E37+E38+E39 -> 0 | F36: =F37+F38+F39 -> 0 | G36: =G37+G38+G39 -> 87.89 | H36: =H37+H38+H39 -> 87.89 | I36: =I37+I38+I39 -> 0
C37: По утвержденной смете | D37: =D25+D29+D33 -> 0 | E37: =E25+E29+E33 -> 0 | F37: =F25+F29+F33 -> 0 | G37: =G25+G29+G33 -> 0 | H37: =H25+H29+H33 -> 0 | I37: =I25+I29+I33 -> 0
C38: Исключенные работы | D38: =D26+D30+D34 -> 0 | E38: =E26+E30+E34 -> 0 | F38: =F26+F30+F34 -> 0 | G38: =G26+G30+G34 -> 0 | H38: =H26+H30+H34 -> 0 | I38: =I26+I30+I34 -> 0
C39: Добавленные работы | D39: =D27+D31+D35 -> 0 | E39: =E27+E31+E35 -> 0 | F39: =F27+F31+F35 -> 0 | G39: =G27+G31+G35 -> 87.89 | H39: =H27+H31+H35 -> 87.89 | I39: =I27+I31+I35 -> 0
A44: Главный инженер проекта
A45: С.Е. Михеев
A46: [подпись (инициалы, фамилия)]
A48: Главный инженер
A49: О.В. Новичков
A50: [подпись (инициалы, фамилия)]
A52: Составил
A53: И.А. Козлов
A54: [подпись (инициалы, фамилия)]
A56: Проверил
A57: Д.А. Ададимов
...

Sheet ОСР_09-02 тек
J2: Форма 3
B4: Корректировка проектной документации на капитальный ремонт ГБУДО г. Москвы «ДШИ «СТАРТ» по адресу: г. Москва, Глазовский переулок пер. 4, стр. 8
B5: (Наименование стройки)
A8: ОБЪЕКТНАЯ СМЕТА № | D8: ОС № 09-02
D9: (объектная смета)
A11: на строительство (капитальный ремонт) | D11: Корректировка проектной документации на капитальный ремонт ГБУДО г. Москвы «ДШИ «СТАРТ» по адресу: г. Москва, Глазовский переулок пер. 4, стр. 8. Утилизация отходов
A13: Сметная стоимость, тыс.руб. | D13: =H36 -> 654.44848 | E13: тыс.руб.
A15: Средства на оплату труда | D15: =I36 -> 0 | E15: тыс.руб.
A17: Расчетный измеритель единичной стоимости | D17: =D13/L17 -> 0.52126522 | E17: тыс. руб./кв.м | L17: 1255.5 | M17: м2
A19: Составлен(а) в смешанном уровне цен по состоянию на март 2018 г. и III квартал 2025 года
A21: № п/п | B21: Номера сметных расчетов (смет) | C21: Наименование работ и затрат | D21: Сметная стоимость, тыс.руб. | I21: Средства на оплату труда, тыс. руб. | J21: Показатели единичной стоимости, тыс. руб./кв.м
D22: строите-льных работ | E22: монтажных работ | F22: оборудо-вания, мебели, инвентаря | G22: прочих затрат | H22: Всего | N22: 68.26 | O22: 426.01
A23: 1 | B23: 2 | C23: 3 | D23: 4 | E23: 5 | F23: 6 | G23: 7 | H23: 8 | I23: 9 | J23: 10 | N23: 0 | O23: 0
A24: 1 | C24: Утилизация отходов КР | J24: =(H25+H26+H27)/$L$17 -> 0.0025752529 | N24: 0 | O24: 0
B25: 09-02-01 | C25: По утвержденной смете | D25: 0 | E25: 0 | F25: 0 | G25: 0 | H25: =SUM(D25:G25) -> 0 | I25: 0 | N25: 0 | O25: 0
C26: Исключенные работы | D26: 0 | E26: 0 | F26: 0 | G26: 0 | H26: =(SUM(D26:G26)) -> 0 | I26: 0 | N26: 68.26 | O26: 426.01
C27: Добавленные работы | D27: 0 | E27: 0 | F27: 0 | G27: 3.23323 | H27: =SUM(D27:G27) -> 3.23323 | I27: 0 | N27: 0 | O27: 0
A28: 2 | C28: Утилизация отходов АР | J28: =(H29+H30+H31)/$L$17 -> 0.39960628
B29: 09-02-02 | C29: По утвержденной смете | D29: 0 | E29: 0 | F29: 0 | G29: 0 | H29: =SUM(D29:G29) -> 0 | I29: 0
C30: Исключенные работы | D30: 0 | E30: 0 | F30: 0 | G30: 0 | H30: =SUM(D30:G30) -> 0 | I30: 0
C31: Добавленные работы | D31: 0 | E31: 0 | F31: 0 | G31: 501.70568 | H31: =SUM(D31:G31) -> 501.70568 | I31: 0
A32: 3 | C32: Утилизация отходов ПЗУ | J32: =(H33+H34+H35)/$L$17 -> 0.11908369
B33: 09-02-03 | C33: По утвержденной смете | D33: 0 | E33: 0 | F33: 0 | G33: 0 | H33: =SUM(D33:G33) -> 0 | I33: 0
C34: Исключенные работы | D34: 0 | E34: 0 | F34: 0 | G34: 0 | H34: =SUM(D34:G34) -> 0 | I34: 0 | L34: 22.49 | M34: 133.01
C35: Добавленные работы | D35: 0 | E35: 0 | F35: 0 | G35: 149.50957 | H35: =SUM(D35:G35) -> 149.50957 | I35: 0
C36: ИТОГО: | D36: =D37+D38+D39 -> 0 | E36: =E37+E38+E39 -> 0 | F36: =F37+F38+F39 -> 0 | G36: =G37+G38+G39 -> 654.44848 | H36: =H37+H38+H39 -> 654.44848 | I36: =I37+I38+I39 -> 0
C37: По утвержденной смете | D37: =D25+D29+D33 -> 0 | E37: =E25+E29+E33 -> 0 | F37: =F25+F29+F33 -> 0 | G37: =G25+G29+G33 -> 0 | H37: =H25+H29+H33 -> 0 | I37: =I25+I29+I33 -> 0
C38: Исключенные работы | D38: =D26+D30+D34 -> 0 | E38: =E26+E30+E34 -> 0 | F38: =F26+F30+F34 -> 0 | G38: =G26+G30+G34 -> 0 | H38: =H26+H30+H34 -> 0 | I38: =I26+I30+I34 -> 0
C39: Добавленные работы | D39: =D27+D31+D35 -> 0 | E39: =E27+E31+E35 -> 0 | F39: =F27+F31+F35 -> 0 | G39: =G27+G31+G35 -> 654.44848 | H39: =H27+H31+H35 -> 654.44848 | I39: =I27+I31+I35 -> 0
A44: Главный инженер проекта
A45: С.Е. Михеев
A46: [подпись (инициалы, фамилия)]
A48: Главный инженер
A49: О.В. Новичков
A50: [подпись (инициалы, фамилия)]
A52: Составил
A53: И.А. Козлов
A54: [подпись (инициалы, фамилия)]
A56: Проверил
A57: Д.А. Ададимов
...
