Workbook

Sheet Смета по ТСН-2001(с доп.81
A1: Smeta.RU (495) 974-1589 | AQ1: zcity-super-generator
J2: Форма № 4б
A3: г. Москва, объект Посольства Ливии, Мосфильмовская ул., 38, ремонтные и инженерные работы
A4: (наименование стройки и/или объекта)
A6: ЛОКАЛЬНЫЙ СМЕТНЫЙ РАСЧЕТ № ДВ-39
A8: на ремонтные и инженерные работы
A9: (наименование работ и затрат)
A11: Основание: -
E14: Сметная стоимость | I14: 127247.44 | J14: 152680 | K14: тыс.руб.
E15: Строительные работы | I15: 87820.96 | J15: 103394.82 | K15: тыс.руб.
E16: Работы по монтажу оборудования | I16: 1073.93 | J16: 10932.64 | K16: тыс.руб.
E17: Оборудование | I17: 38352.54 | J17: 38352.55 | K17: тыс.руб.
E18: Прочие работы и затраты | I18: 0 | J18: 0 | K18: тыс.руб.
E19: Средства на оплату труда | I19: 498.68 | J19: 5076.5399 | K19: тыс.руб.
E20: Затраты труда | I20: 60118.53 | J20: 60118.53 | K20: чел.-ч.
E21: Кроме того:
E22: Возврат материалов | I22: 0 | J22: 0 | K22: тыс.руб.
A24: Составлен(а) по ТСН-2001 с учетом Дополнения №: 81
A25: № и период сборника коэффициентов (индексов) пересчета: МКЭ-ОД/26-26 от 25.03.2026, Выпуск 220, Доп.81
A26: № п/п | B26: Шифр расценки и коды ресурсов | C26: Наименование работ и затрат | D26: Ед. изм. | E26: Кол-во единиц | F26: Цена на ед. изм., руб. | G26: Попра- вочные коэффи- циенты | H26: Коэффи- циенты зимних удорожа- ний | I26: Всего в ценах на январь 2000 года, руб. | J26: Коэффи- циенты (индек- сы) пере- счета, нормы НР и СП | K26: ВСЕГО затрат в текущем уровне цен, руб.
A27: 1 | B27: 2 | C27: 3 | D27: 4 | E27: 5 | F27: 6 | G27: 7 | H27: 8 | I27: 9 | J27: 10 | K27: 11
A29: Локальная смета:
A30: 1 | B30: Калькуляция - 001 | C30: Обмер, дефектовка, маркировка границ ремонта | D30: м2 | E30: 1440.5
C31: ЗП | F31: 2.37 | H31: 1 | I31: 3407.81 | J31: 10.18 | K31: 34691.57
C32: ЭМ | F32: 0.26 | H32: 1 | I32: 378.64 | J32: 10.18 | K32: 3854.62
C33: в т.ч. ЗПМ | F33: 0 | H33: 1 | I33: 0 | J33: 10.18 | K33: 0
C34: НР от ЗП | D34: % | E34: 112 | I34: 3445.67 | J34: 112 | K34: 35077.03
C35: СП от ЗП | D35: % | E35: 80 | I35: 2650.52 | J35: 80 | K35: 26982.33
C36: ЗТР | D36: чел-ч | E36: 1440.5 | H36: 1 | I36: 1440.5
C37: ВСЕГО работ по позиции: | H37: 18932.3 | J37: 192730.95
C38: ВСЕГО оборудование по позиции: | H38: 0 | J38: 0
C39: ВСЕГО по позиции: | H39: 18932.3 | J39: 192730.95
A40: 2 | B40: 6.69-43-1 | C40: Укрытие и защита существующих конструкций и оборудования | D40: м2 | E40: 1440.5
C41: ЗП | F41: 3.39 | H41: 1 | I41: 4876.17 | J41: 10.18 | K41: 49639.39
C42: ЭМ | F42: 0.38 | H42: 1 | I42: 541.8 | J42: 10.18 | K42: 5515.48
C43: в т.ч. ЗПМ | F43: 0 | H43: 1 | I43: 0 | J43: 10.18 | K43: 0
C44: НР от ЗП | D44: % | E44: 112 | I44: 4930.35 | J44: 112 | K44: 50190.94
C45: СП от ЗП | D45: % | E45: 80 | I45: 3792.58 | J45: 80 | K45: 38608.41
C46: ЗТР | D46: чел-ч | E46: 1440.5 | H46: 1 | I46: 1440.5
C47: ВСЕГО работ по позиции: | H47: 27089.83 | J47: 275774.4
...

Sheet Source
A1: 0 | B1: Smeta.RU (495) 974-1589 | D1: _PS_ | F1: 0 | G1: 0 | H1: 0 | I1: Smeta.RU | K1: 1 | IU1: zcity-template
A12: 1 | B12: 108 | C12: 0 | D12: ДВ-39 | E12: 0 | F12: ремонтные и инженерные работы, смета 152-153 млн | G12: г. Москва, объект Посольства Ливии, Мосфильмовская ул., 38, ремонтные и инженерные работы, смета 152-153 млн. | I12: 0 | J12: Дефектная ведомость № 39 | K12: 0 | L12: 0 | M12: 4098 | CY12: ДВ №39;
A18: 52 | B18: 39 | C18: 1 | D18: 12 | E18: ТСН-2001 | F18: ремонтные и инженерные работы, смета 152-153 млн | G18: г. Москва, объект Посольства Ливии, Мосфильмовская ул., 38, ремонтные и инженерные работы, смета 152-153 млн. | O18: 152680000 | P18: 10.18 | Q18: 10.18 | R18: 7.54 | S18: 0
A22: 52 | B22: =B31 | C22: =C31 | D22: =D31 | E22: =E31 | F22: =F31 | G22: =G31 | H22: =H31 | O22: =O31 | P22: =P31 | Q22: =Q31 | R22: =R31 | S22: =S31 | T22: =T31 | U22: =U31 | V22: =V31 | ... GX22: =GX31
A24: 17 | B24: 1 | C24: =ROW(SmtRes!A1) | D24: =ROW(EtalonRes!A1) | E24: 1 | F24: Калькуляция - 001 | G24: Обмер, дефектовка, маркировка границ ремонта | H24: 1 М2 | I24: 1440.5 | J24: 8.91 | K24: 192730.95 | O24: =ROUND((Z24+AC24+AD24),2) | P24: =ROUND((U24+X24+Y24),2) | Q24: =ROUND(10.18,2) | R24: =ROUND(AH24,2) | S24: ТСН-2001 Калькуляция - 001 | T24: work | U24: 130671.58 | V24: 34691.57 | W24: 3854.62 | X24: 35077.03 | Y24: 26982.33 | Z24: 12836.11 | AA24: 3407.81 | AB24: 378.64 | AC24: 3445.67 | AD24: 2650.52 | AE24: work | AF24: 426.75 | AG24: 41.92 | AH24: 1440.5 | AI24: =(((EX24*0.3)*1.1)) | AJ24: =(AS24) | AK24: 3407.81 | AL24: 0 | AM24: 3445.67 | AN24: 378.64 | AO24: =ROUND(O24,2) | AP24: 0 | AQ24: =ROUND(R24,2) | AR24: 0 | AS24: 0 | AT24: 97 | AU24: 51 | AV24: 1 | AW24: 1 | AZ24: 1 | BA24: 1 | BB24: 1 | BC24: 1 | BH24: 0 | BI24: 1440.5 | BJ24: ТСН-2001 Калькуляция - 001, Калькуляция - 001 | BM24: 0 | BN24: 0 | BO24: Калькуляция - 001 | BP24: 1 | BQ24: 40 | BR24: 0 | BS24: 1 | BT24: 1 | BU24: 1 | BV24: 1 | BW24: 1 | BX24: 1 | BZ24: 97 | CA24: 51 | CE24: 30 | CF24: 0 | CG24: 0 | CM24: 0 | CO24: 0 | CP24: =ROUND(P24,2) | CQ24: =ROUND(V24,2) | CR24: =ROUND(W24,2) | CS24: =ROUND(X24,2) | CT24: =ROUND(Y24,2) | CU24: =ROUND(AF24,2) | CV24: =ROUND((AH24*AV24),2) | CW24: =ROUND(AI24,2) | CX24: =ROUND(AJ24,2) | CY24: =ROUND(((P24*AT24)/100),2) | CZ24: =ROUND(((P24*AU24)/100),2) | DB24: 1 | DD24: *0)*1 | DE24: *0,3)*1,1 | DF24: *0,3)*1,1 | DG24: *0,3)*1,1 | DI24: *0,3)*1,1 | DJ24: *0,3)*1,1 | DN24: 0 | DO24: 0 | DP24: 1 | DQ24: 1 | DU24: 1000 | DV24: 1 М2. | DW24: 1 М2. | DX24: 1 | EE24: 1730059269 | EF24: 40 | EG24: Строительные работы | EH24: 0 | EJ24: 1440.5 | EK24: 0 | EL24: ТСН-2001 Калькуляция - 001 | EM24: Калькуляция - 001 | EQ24: 131072 | ER24: 3407.81 | ES24: 0 | ET24: 3445.67 | EU24: 378.64 | EV24: 2650.52 | EW24: 1440.5 | EX24: 0 | EY24: 0 | FQ24: 0 | FR24: =ROUND(IF(BI24=3,GM24,0),2) | FS24: 0 | FX24: 97 | FY24: 51 | GD24: 1 | GF24: 1730059269 | GG24: 2 | GH24: 1 | GI24: 2 | GJ24: 0 | GK24: 0 | GL24: =ROUND(IF(AND(BH24=3,BI24=3,FS24<>0),P24,0),2) | GM24: =ROUND(O24+X24+Y24,2)+GX24 | GN24: =IF(OR(BI24=0,BI24=1),GM24-GX24,0) | GO24: =IF(BI24=2,GM24-GX24,0) | GP24: =IF(BI24=4,GM24-GX24,0) | GR24: 0 | GS24: 0 | GT24: 0 | GV24: =ROUND((GT24),6) | GW24: 1 | GX24: =ROUND(HC24*I24,2) | GY24: 0 | GZ24: 0 | HA24: 0 | HB24: 0 | HC24: =GV24*GW24 | HD24: 0
A25: 17 | B25: 1 | C25: =ROW(SmtRes!A2) | D25: =ROW(EtalonRes!A2) | E25: 1 | F25: 6.69-43-1 | G25: Укрытие и защита существующих конструкций и оборудования | H25: 1 М2 | I25: 1440.5 | J25: 12.75 | K25: 275774.4 | O25: =ROUND((Z25+AC25+AD25),2) | P25: =ROUND((U25+X25+Y25),2) | Q25: =ROUND(10.18,2) | R25: =ROUND(AH25,2) | S25: ТСН-2001 6.69-43-1 | T25: work | U25: 186975.05 | V25: 49639.39 | W25: 5515.48 | X25: 50190.94 | Y25: 38608.41 | Z25: 18366.9 | AA25: 4876.17 | AB25: 541.8 | AC25: 4930.35 | AD25: 3792.58 | AE25: work | AF25: 610.59 | AG25: 59.98 | AH25: 1440.5 | AI25: =(((EX25*0.3)*1.1)) | AJ25: =(AS25) | AK25: 4876.17 | AL25: 0 | AM25: 4930.35 | AN25: 541.8 | AO25: =ROUND(O25,2) | AP25: 0 | AQ25: =ROUND(R25,2) | AR25: 0 | AS25: 0 | AT25: 97 | AU25: 51 | AV25: 1 | AW25: 1 | AZ25: 1 | BA25: 1 | BB25: 1 | BC25: 1 | BH25: 0 | BI25: 1440.5 | BJ25: ТСН-2001 6.69-43-1, 6.69-43-1 | BM25: 669 | BN25: 0 | BO25: 6.69-43-1 | BP25: 1 | BQ25: 40 | BR25: 0 | BS25: 1 | BT25: 1 | BU25: 1 | BV25: 1 | BW25: 1 | BX25: 1 | BZ25: 97 | CA25: 51 | CE25: 30 | CF25: 0 | CG25: 0 | CM25: 0 | CO25: 0 | CP25: =ROUND(P25,2) | CQ25: =ROUND(V25,2) | CR25: =ROUND(W25,2) | CS25: =ROUND(X25,2) | CT25: =ROUND(Y25,2) | CU25: =ROUND(AF25,2) | CV25: =ROUND((AH25*AV25),2) | CW25: =ROUND(AI25,2) | CX25: =ROUND(AJ25,2) | CY25: =ROUND(((P25*AT25)/100),2) | CZ25: =ROUND(((P25*AU25)/100),2) | DB25: 3 | DD25: *0)*1 | DE25: *0,3)*1,1 | DF25: *0,3)*1,1 | DG25: *0,3)*1,1 | DI25: *0,3)*1,1 | DJ25: *0,3)*1,1 | DN25: 0 | DO25: 0 | DP25: 1 | DQ25: 1 | DU25: 1000 | DV25: 1 М2. | DW25: 1 М2. | DX25: 1 | EE25: 1115971397 | EF25: 40 | EG25: Строительные работы | EH25: 0 | EJ25: 1440.5 | EK25: 669 | EL25: ТСН-2001 6.69-43-1 | EM25: ТСН-2001.6-69 | EQ25: 131072 | ER25: 4876.17 | ES25: 0 | ET25: 4930.35 | EU25: 541.8 | EV25: 3792.58 | EW25: 1440.5 | EX25: 0 | EY25: 0 | FQ25: 0 | FR25: =ROUND(IF(BI25=3,GM25,0),2) | FS25: 0 | FX25: 97 | FY25: 51 | GD25: 1 | GF25: 1115971397 | GG25: 2 | GH25: 1 | GI25: 2 | GJ25: 0 | GK25: 0 | GL25: =ROUND(IF(AND(BH25=3,BI25=3,FS25<>0),P25,0),2) | GM25: =ROUND(O25+X25+Y25,2)+GX25 | GN25: =IF(OR(BI25=0,BI25=1),GM25-GX25,0) | GO25: =IF(BI25=2,GM25-GX25,0) | GP25: =IF(BI25=4,GM25-GX25,0) | GR25: 0 | GS25: 0 | GT25: 0 | GV25: =ROUND((GT25),6) | GW25: 1 | GX25: =ROUND(HC25*I25,2) | GY25: 0 | GZ25: 0 | HA25: 0 | HB25: 0 | HC25: =GV25*GW25 | HD25: 0
A26: 17 | B26: 1 | C26: =ROW(SmtRes!A3) | D26: =ROW(EtalonRes!A3) | E26: 1 | F26: 6.57-2-7 | G26: Демонтаж напольных покрытий | H26: 1 М2 | I26: 1440.5 | J26: 19.73 | K26: 396417.43 | O26: =ROUND((Z26+AC26+AD26),2) | P26: =ROUND((U26+X26+Y26),2) | Q26: =ROUND(10.18,2) | R26: =ROUND(AH26,2) | S26: ТСН-2001 6.57-2-7 | T26: work | U26: 289384.73 | V26: 71355.14 | W26: 7928.35 | X26: 63426.79 | Y26: 43605.92 | Z26: 28426.79 | AA26: 7009.35 | AB26: 778.82 | AC26: 6230.53 | AD26: 4283.49 | AE26: work | AF26: 877.72 | AG26: 86.22 | AH26: 1440.5 | AI26: =(((EX26*0.3)*1.1)) | AJ26: =(AS26) | AK26: 7009.35 | AL26: 0 | AM26: 6230.53 | AN26: 778.82 | AO26: =ROUND(O26,2) | AP26: 0 | AQ26: =ROUND(R26,2) | AR26: 0 | AS26: 0 | AT26: 97 | AU26: 51 | AV26: 1 | AW26: 1 | AZ26: 1 | BA26: 1 | BB26: 1 | BC26: 1 | BH26: 0 | BI26: 1440.5 | BJ26: ТСН-2001 6.57-2-7, 6.57-2-7 | BM26: 657 | BN26: 0 | BO26: 6.57-2-7 | BP26: 1 | BQ26: 40 | BR26: 0 | BS26: 1 | BT26: 1 | BU26: 1 | BV26: 1 | BW26: 1 | BX26: 1 | BZ26: 97 | CA26: 51 | CE26: 30 | CF26: 0 | CG26: 0 | CM26: 0 | CO26: 0 | CP26: =ROUND(P26,2) | CQ26: =ROUND(V26,2) | CR26: =ROUND(W26,2) | CS26: =ROUND(X26,2) | CT26: =ROUND(Y26,2) | CU26: =ROUND(AF26,2) | CV26: =ROUND((AH26*AV26),2) | CW26: =ROUND(AI26,2) | CX26: =ROUND(AJ26,2) | CY26: =ROUND(((P26*AT26)/100),2) | CZ26: =ROUND(((P26*AU26)/100),2) | DB26: 5 | DD26: *0)*1 | DE26: *0,3)*1,1 | DF26: *0,3)*1,1 | DG26: *0,3)*1,1 | DI26: *0,3)*1,1 | DJ26: *0,3)*1,1 | DN26: 0 | DO26: 0 | DP26: 1 | DQ26: 1 | DU26: 1000 | DV26: 1 М2. | DW26: 1 М2. | DX26: 1 | EE26: 1558008675 | EF26: 40 | EG26: Строительные работы | EH26: 0 | EJ26: 1440.5 | EK26: 657 | EL26: ТСН-2001 6.57-2-7 | EM26: ТСН-2001.6-57 | EQ26: 131072 | ER26: 7009.35 | ES26: 0 | ET26: 6230.53 | EU26: 778.82 | EV26: 4283.49 | EW26: 1440.5 | EX26: 0 | EY26: 0 | FQ26: 0 | FR26: =ROUND(IF(BI26=3,GM26,0),2) | FS26: 0 | FX26: 97 | FY26: 51 | GD26: 1 | GF26: 1558008675 | GG26: 2 | GH26: 1 | GI26: 2 | GJ26: 0 | GK26: 0 | GL26: =ROUND(IF(AND(BH26=3,BI26=3,FS26<>0),P26,0),2) | GM26: =ROUND(O26+X26+Y26,2)+GX26 | GN26: =IF(OR(BI26=0,BI26=1),GM26-GX26,0) | GO26: =IF(BI26=2,GM26-GX26,0) | GP26: =IF(BI26=4,GM26-GX26,0) | GR26: 0 | GS26: 0 | GT26: 0 | GV26: =ROUND((GT26),6) | GW26: 1 | GX26: =ROUND(HC26*I26,2) | GY26: 0 | GZ26: 0 | HA26: 0 | HB26: 0 | HC26: =GV26*GW26 | HD26: 0
A27: 17 | B27: 1 | C27: =ROW(SmtRes!A4) | D27: =ROW(EtalonRes!A4) | E27: 1 | F27: 6.54-1-6 | G27: Демонтаж отделки потолка | H27: 1 М2 | I27: 1440.5 | J27: 17.32 | K27: 347862.31 | O27: =ROUND((Z27+AC27+AD27),2) | P27: =ROUND((U27+X27+Y27),2) | Q27: =ROUND(10.18,2) | R27: =ROUND(AH27,2) | S27: ТСН-2001 6.54-1-6 | T27: work | U27: 253939.49 | V27: 62615.22 | W27: 6957.25 | X27: 55657.97 | Y27: 38264.85 | Z27: 24944.94 | AA27: 6150.81 | AB27: 683.42 | AC27: 5467.39 | AD27: 3758.83 | AE27: work | AF27: 770.12 | AG27: 75.65 | AH27: 1440.5 | AI27: =(((EX27*0.3)*1.1)) | AJ27: =(AS27) | AK27: 6150.81 | AL27: 0 | AM27: 5467.39 | AN27: 683.42 | AO27: =ROUND(O27,2) | AP27: 0 | AQ27: =ROUND(R27,2) | AR27: 0 | AS27: 0 | AT27: 97 | AU27: 51 | AV27: 1 | AW27: 1 | AZ27: 1 | BA27: 1 | BB27: 1 | BC27: 1 | BH27: 0 | BI27: 1440.5 | BJ27: ТСН-2001 6.54-1-6, 6.54-1-6 | BM27: 654 | BN27: 0 | BO27: 6.54-1-6 | BP27: 1 | BQ27: 40 | BR27: 0 | BS27: 1 | BT27: 1 | BU27: 1 | BV27: 1 | BW27: 1 | BX27: 1 | BZ27: 97 | CA27: 51 | CE27: 30 | CF27: 0 | CG27: 0 | CM27: 0 | CO27: 0 | CP27: =ROUND(P27,2) | CQ27: =ROUND(V27,2) | CR27: =ROUND(W27,2) | CS27: =ROUND(X27,2) | CT27: =ROUND(Y27,2) | CU27: =ROUND(AF27,2) | CV27: =ROUND((AH27*AV27),2) | CW27: =ROUND(AI27,2) | CX27: =ROUND(AJ27,2) | CY27: =ROUND(((P27*AT27)/100),2) | CZ27: =ROUND(((P27*AU27)/100),2) | DB27: 7 | DD27: *0)*1 | DE27: *0,3)*1,1 | DF27: *0,3)*1,1 | DG27: *0,3)*1,1 | DI27: *0,3)*1,1 | DJ27: *0,3)*1,1 | DN27: 0 | DO27: 0 | DP27: 1 | DQ27: 1 | DU27: 1000 | DV27: 1 М2. | DW27: 1 М2. | DX27: 1 | EE27: 1237869465 | EF27: 40 | EG27: Строительные работы | EH27: 0 | EJ27: 1440.5 | EK27: 654 | EL27: ТСН-2001 6.54-1-6 | EM27: ТСН-2001.6-54 | EQ27: 131072 | ER27: 6150.81 | ES27: 0 | ET27: 5467.39 | EU27: 683.42 | EV27: 3758.83 | EW27: 1440.5 | EX27: 0 | EY27: 0 | FQ27: 0 | FR27: =ROUND(IF(BI27=3,GM27,0),2) | FS27: 0 | FX27: 97 | FY27: 51 | GD27: 1 | GF27: 1237869465 | GG27: 2 | GH27: 1 | GI27: 2 | GJ27: 0 | GK27: 0 | GL27: =ROUND(IF(AND(BH27=3,BI27=3,FS27<>0),P27,0),2) | GM27: =ROUND(O27+X27+Y27,2)+GX27 | GN27: =IF(OR(BI27=0,BI27=1),GM27-GX27,0) | GO27: =IF(BI27=2,GM27-GX27,0) | GP27: =IF(BI27=4,GM27-GX27,0) | GR27: 0 | GS27: 0 | GT27: 0 | GV27: =ROUND((GT27),6) | GW27: 1 | GX27: =ROUND(HC27*I27,2) | GY27: 0 | GZ27: 0 | HA27: 0 | HB27: 0 | HC27: =GV27*GW27 | HD27: 0
A28: 17 | B28: 1 | C28: =ROW(SmtRes!A5) | D28: =ROW(EtalonRes!A5) | E28: 1 | F28: 6.62-31-1 | G28: Расчистка и демонтаж отделки стен | H28: 1 М2 | I28: 3317.24 | J28: 15.18 | K28: 702006.37 | O28: =ROUND((Z28+AC28+AD28),2) | P28: =ROUND((U28+X28+Y28),2) | Q28: =ROUND(10.18,2) | R28: =ROUND(AH28,2) | S28: ТСН-2001 6.62-31-1 | T28: work | U28: 512464.66 | V28: 126361.15 | W28: 14040.12 | X28: 112321.02 | Y28: 77220.7 | Z28: 50340.34 | AA28: 12412.69 | AB28: 1379.19 | AC28: 11033.5 | AD28: 7585.53 | AE28: work | AF28: 1554.28 | AG28: 152.68 | AH28: 3317.24 | AI28: =(((EX28*0.3)*1.1)) | AJ28: =(AS28) | AK28: 12412.69 | AL28: 0 | AM28: 11033.5 | AN28: 1379.19 | AO28: =ROUND(O28,2) | AP28: 0 | AQ28: =ROUND(R28,2) | AR28: 0 | AS28: 0 | AT28: 97 | AU28: 51 | AV28: 1 | AW28: 1 | AZ28: 1 | BA28: 1 | BB28: 1 | BC28: 1 | BH28: 0 | BI28: 3317.24 | BJ28: ТСН-2001 6.62-31-1, 6.62-31-1 | BM28: 662 | BN28: 0 | BO28: 6.62-31-1 | BP28: 1 | BQ28: 40 | BR28: 0 | BS28: 1 | BT28: 1 | BU28: 1 | BV28: 1 | BW28: 1 | BX28: 1 | BZ28: 97 | CA28: 51 | CE28: 30 | CF28: 0 | CG28: 0 | CM28: 0 | CO28: 0 | CP28: =ROUND(P28,2) | CQ28: =ROUND(V28,2) | CR28: =ROUND(W28,2) | CS28: =ROUND(X28,2) | CT28: =ROUND(Y28,2) | CU28: =ROUND(AF28,2) | CV28: =ROUND((AH28*AV28),2) | CW28: =ROUND(AI28,2) | CX28: =ROUND(AJ28,2) | CY28: =ROUND(((P28*AT28)/100),2) | CZ28: =ROUND(((P28*AU28)/100),2) | DB28: 9 | DD28: *0)*1 | DE28: *0,3)*1,1 | DF28: *0,3)*1,1 | DG28: *0,3)*1,1 | DI28: *0,3)*1,1 | DJ28: *0,3)*1,1 | DN28: 0 | DO28: 0 | DP28: 1 | DQ28: 1 | DU28: 1000 | DV28: 1 М2. | DW28: 1 М2. | DX28: 1 | EE28: 1723085295 | EF28: 40 | EG28: Строительные работы | EH28: 0 | EJ28: 3317.24 | EK28: 662 | EL28: ТСН-2001 6.62-31-1 | EM28: ТСН-2001.6-62 | EQ28: 131072 | ER28: 12412.69 | ES28: 0 | ET28: 11033.5 | EU28: 1379.19 | EV28: 7585.53 | EW28: 3317.24 | EX28: 0 | EY28: 0 | FQ28: 0 | FR28: =ROUND(IF(BI28=3,GM28,0),2) | FS28: 0 | FX28: 97 | FY28: 51 | GD28: 1 | GF28: 1723085295 | GG28: 2 | GH28: 1 | GI28: 2 | GJ28: 0 | GK28: 0 | GL28: =ROUND(IF(AND(BH28=3,BI28=3,FS28<>0),P28,0),2) | GM28: =ROUND(O28+X28+Y28,2)+GX28 | GN28: =IF(OR(BI28=0,BI28=1),GM28-GX28,0) | GO28: =IF(BI28=2,GM28-GX28,0) | GP28: =IF(BI28=4,GM28-GX28,0) | GR28: 0 | GS28: 0 | GT28: 0 | GV28: =ROUND((GT28),6) | GW28: 1 | GX28: =ROUND(HC28*I28,2) | GY28: 0 | GZ28: 0 | HA28: 0 | HB28: 0 | HC28: =GV28*GW28 | HD28: 0
A29: 17 | B29: 1 | C29: =ROW(SmtRes!A6) | D29: =ROW(EtalonRes!A6) | E29: 1 | F29: 6.67-7-1 | G29: Демонтаж существующих электроустановочных и слаботочных изделий | H29: 1 ТОЧКА | I29: 1028 | J29: 13.11 | K29: 187883.65 | O29: =ROUND((Z29+AC29+AD29),2) | P29: =ROUND((U29+X29+Y29),2) | Q29: =ROUND(10.18,2) | R29: =ROUND(AH29,2) | S29: ТСН-2001 6.67-7-1 | T29: work | U29: 137155.07 | V29: 33819.06 | W29: 3757.67 | X29: 30061.38 | Y29: 20667.2 | Z29: 13472.99 | AA29: 3322.1 | AB29: 369.12 | AC29: 2952.98 | AD29: 2030.17 | AE29: work | AF29: 415.96 | AG29: 40.86 | AH29: 1028 | AI29: =(((EX29*0.3)*1.1)) | AJ29: =(AS29) | AK29: 3322.1 | AL29: 0 | AM29: 2952.98 | AN29: 369.12 | AO29: =ROUND(O29,2) | AP29: 0 | AQ29: =ROUND(R29,2) | AR29: 0 | AS29: 0 | AT29: 97 | AU29: 51 | AV29: 1 | AW29: 1 | AZ29: 1 | BA29: 1 | BB29: 1 | BC29: 1 | BH29: 0 | BI29: 1028 | BJ29: ТСН-2001 6.67-7-1, 6.67-7-1 | BM29: 667 | BN29: 0 | BO29: 6.67-7-1 | BP29: 1 | BQ29: 40 | BR29: 0 | BS29: 1 | BT29: 1 | BU29: 1 | BV29: 1 | BW29: 1 | BX29: 1 | BZ29: 97 | CA29: 51 | CE29: 30 | CF29: 0 | CG29: 0 | CM29: 0 | CO29: 0 | CP29: =ROUND(P29,2) | CQ29: =ROUND(V29,2) | CR29: =ROUND(W29,2) | CS29: =ROUND(X29,2) | CT29: =ROUND(Y29,2) | CU29: =ROUND(AF29,2) | CV29: =ROUND((AH29*AV29),2) | CW29: =ROUND(AI29,2) | CX29: =ROUND(AJ29,2) | CY29: =ROUND(((P29*AT29)/100),2) | CZ29: =ROUND(((P29*AU29)/100),2) | DB29: 11 | DD29: *0)*1 | DE29: *0,3)*1,1 | DF29: *0,3)*1,1 | DG29: *0,3)*1,1 | DI29: *0,3)*1,1 | DJ29: *0,3)*1,1 | DN29: 0 | DO29: 0 | DP29: 1 | DQ29: 1 | DU29: 1000 | DV29: 1 ТОЧКА. | DW29: 1 ТОЧКА. | DX29: 1 | EE29: 1775408119 | EF29: 40 | EG29: Строительные работы | EH29: 0 | EJ29: 1028 | EK29: 667 | EL29: ТСН-2001 6.67-7-1 | EM29: ТСН-2001.6-67 | EQ29: 131072 | ER29: 3322.1 | ES29: 0 | ET29: 2952.98 | EU29: 369.12 | EV29: 2030.17 | EW29: 1028 | EX29: 0 | EY29: 0 | FQ29: 0 | FR29: =ROUND(IF(BI29=3,GM29,0),2) | FS29: 0 | FX29: 97 | FY29: 51 | GD29: 1 | GF29: 1775408119 | GG29: 2 | GH29: 1 | GI29: 2 | GJ29: 0 | GK29: 0 | GL29: =ROUND(IF(AND(BH29=3,BI29=3,FS29<>0),P29,0),2) | GM29: =ROUND(O29+X29+Y29,2)+GX29 | GN29: =IF(OR(BI29=0,BI29=1),GM29-GX29,0) | GO29: =IF(BI29=2,GM29-GX29,0) | GP29: =IF(BI29=4,GM29-GX29,0) | GR29: 0 | GS29: 0 | GT29: 0 | GV29: =ROUND((GT29),6) | GW29: 1 | GX29: =ROUND(HC29*I29,2) | GY29: 0 | GZ29: 0 | HA29: 0 | HB29: 0 | HC29: =GV29*GW29 | HD29: 0
A30: 17 | B30: 1 | C30: =ROW(SmtRes!A7) | D30: =ROW(EtalonRes!A7) | E30: 1 | F30: 6.56-38-3 | G30: Демонтаж дверных блоков, шкафных фасадов и элементов проемов | H30: 1 КОМПЛ. | I30: 107 | J30: 98.46 | K30: 146912.69 | O30: =ROUND((Z30+AC30+AD30),2) | P30: =ROUND((U30+X30+Y30),2) | Q30: =ROUND(10.18,2) | R30: =ROUND(AH30,2) | S30: ТСН-2001 6.56-38-3 | T30: work | U30: 107246.27 | V30: 26444.28 | W30: 2938.25 | X30: 23506.03 | Y30: 16160.4 | Z30: 10534.99 | AA30: 2597.67 | AB30: 288.63 | AC30: 2309.04 | AD30: 1587.47 | AE30: work | AF30: 325.25 | AG30: 31.95 | AH30: 107 | AI30: =(((EX30*0.3)*1.1)) | AJ30: =(AS30) | AK30: 2597.67 | AL30: 0 | AM30: 2309.04 | AN30: 288.63 | AO30: =ROUND(O30,2) | AP30: 0 | AQ30: =ROUND(R30,2) | AR30: 0 | AS30: 0 | AT30: 97 | AU30: 51 | AV30: 1 | AW30: 1 | AZ30: 1 | BA30: 1 | BB30: 1 | BC30: 1 | BH30: 0 | BI30: 107 | BJ30: ТСН-2001 6.56-38-3, 6.56-38-3 | BM30: 656 | BN30: 0 | BO30: 6.56-38-3 | BP30: 1 | BQ30: 40 | BR30: 0 | BS30: 1 | BT30: 1 | BU30: 1 | BV30: 1 | BW30: 1 | BX30: 1 | BZ30: 97 | CA30: 51 | CE30: 30 | CF30: 0 | CG30: 0 | CM30: 0 | CO30: 0 | CP30: =ROUND(P30,2) | CQ30: =ROUND(V30,2) | CR30: =ROUND(W30,2) | CS30: =ROUND(X30,2) | CT30: =ROUND(Y30,2) | CU30: =ROUND(AF30,2) | CV30: =ROUND((AH30*AV30),2) | CW30: =ROUND(AI30,2) | CX30: =ROUND(AJ30,2) | CY30: =ROUND(((P30*AT30)/100),2) | CZ30: =ROUND(((P30*AU30)/100),2) | DB30: 13 | DD30: *0)*1 | DE30: *0,3)*1,1 | DF30: *0,3)*1,1 | DG30: *0,3)*1,1 | DI30: *0,3)*1,1 | DJ30: *0,3)*1,1 | DN30: 0 | DO30: 0 | DP30: 1 | DQ30: 1 | DU30: 1000 | DV30: 1 КОМПЛ.. | DW30: 1 КОМПЛ.. | DX30: 1 | EE30: 1018977349 | EF30: 40 | EG30: Строительные работы | EH30: 0 | EJ30: 107 | EK30: 656 | EL30: ТСН-2001 6.56-38-3 | EM30: ТСН-2001.6-56 | EQ30: 131072 | ER30: 2597.67 | ES30: 0 | ET30: 2309.04 | EU30: 288.63 | EV30: 1587.47 | EW30: 107 | EX30: 0 | EY30: 0 | FQ30: 0 | FR30: =ROUND(IF(BI30=3,GM30,0),2) | FS30: 0 | FX30: 97 | FY30: 51 | GD30: 1 | GF30: 1018977349 | GG30: 2 | GH30: 1 | GI30: 2 | GJ30: 0 | GK30: 0 | GL30: =ROUND(IF(AND(BH30=3,BI30=3,FS30<>0),P30,0),2) | GM30: =ROUND(O30+X30+Y30,2)+GX30 | GN30: =IF(OR(BI30=0,BI30=1),GM30-GX30,0) | GO30: =IF(BI30=2,GM30-GX30,0) | GP30: =IF(BI30=4,GM30-GX30,0) | GR30: 0 | GS30: 0 | GT30: 0 | GV30: =ROUND((GT30),6) | GW30: 1 | GX30: =ROUND(HC30*I30,2) | GY30: 0 | GZ30: 0 | HA30: 0 | HB30: 0 | HC30: =GV30*GW30 | HD30: 0
A31: 51 | B31: =IF(B20<>"",B20,1) | C31: =IF(A20<>"",A20,3) | D31: =ROW(A20) | E31: 1 | F31: =IF(F20<>"",F20,"") | G31: =IF(G20<>"",G20,"") | H31: 0 | I31: 49 | J31: 33.96 | K31: 23206.95 | O31: =ROUND(AB31,2) | P31: =ROUND(AC31,2) | Q31: =ROUND(AD31,2) | R31: =SUM(Source!$AG$24:$AG$416) | S31: =SUM(Source!$AA$24:$AA$416) | T31: =ROUND(AG31,2) | U31: =AH31 | V31: =AI31 | W31: =ROUND(AJ31,2) | X31: =ROUND(AK31,2) | Y31: =ROUND(AL31,2) | Z31: 1664.15 | AA31: 410.35 | AB31: =ROUND(SUMIF(Source!$AE$24:$AE$416,"work",Source!$O$24:$O$416),2) | AC31: =ROUND(SUMIF(Source!$AE$24:$AE$416,"work",Source!$P$24:$P$416),2) | AD31: =ROUND(SUMIF(Source!$AE$24:$AE$416,"work",Source!$Q$24:$Q$416),2) | AE31: =ROUND(SUMIF(Source!$AE$24:$AE$416,"work",Source!$R$24:$R$416),2) | AF31: =ROUND(SUMIF(Source!$AE$24:$AE$416,"work",Source!$AA$24:$AA$416),2) | AG31: =ROUND(SUMIF(Source!$AE$24:$AE$416,"work",Source!$AB$24:$AB$416),2) | AH31: =SUMIF(Source!$AE$24:$AE$416,"work",Source!$AH$24:$AH$416) | AI31: =SUMIF(Source!$AE$24:$AE$416,"work",Source!$AI$24:$AI$416) | AJ31: =ROUND(SUMIF(Source!$AE$24:$AE$416,"work",Source!$W$24:$W$416),2) | AK31: =ROUND(SUMIF(Source!$AE$24:$AE$416,"work",Source!$X$24:$X$416),2) | AL31: =ROUND(SUMIF(Source!$AE$24:$AE$416,"work",Source!$Y$24:$Y$416),2) | AM31: 364.76 | AN31: 45.6 | AO31: =ROUND(BX31,2) | AP31: =ROUND(BY31,2) | AQ31: =ROUND(BZ31,2) | AR31: =ROUND(CA31,2) | AS31: =ROUND(CB31,2) | AT31: =ROUND(CC31,2) | AU31: =ROUND(CD31,2) | AV31: =ROUND(CE31,2) | ... BD31: =ROUND(CM31,2) | BH31: 0 | BI31: 49 | BJ31: ТСН-2001 6.56-3-2, 6.56-3-2 | BM31: 656 | BN31: 0 | BO31: 6.56-3-2 | BP31: 1 | BQ31: 40 | BR31: 0 | BS31: 1 | BT31: 1 | BU31: 1 | BV31: 1 | BW31: 1 | BX31: =ROUND(SUMIF(Source!$AE$24:$AE$416,"equipment",Source!$CP$24:$CP$416),2) | BY31: =ROUND(SUMIF(Source!$AE$24:$AE$416,"equipment",Source!$CQ$24:$CQ$416),2) | BZ31: =ROUND(SUMIF(Source!$AE$24:$AE$416,"equipment",Source!$CR$24:$CR$416),2) | CA31: =ROUND(SUMIF(Source!$AE$24:$AE$416,"equipment",Source!$CS$24:$CS$416),2) | CB31: =ROUND(SUMIF(Source!$AE$24:$AE$416,"equipment",Source!$CT$24:$CT$416),2) | CC31: =ROUND(SUMIF(Source!$AE$24:$AE$416,"equipment",Source!$CY$24:$CY$416),2) | CD31: =ROUND(SUMIF(Source!$AE$24:$AE$416,"equipment",Source!$CZ$24:$CZ$416),2) | CE31: =ROUND(BX31+CA31+CB31,2) | CF31: =ROUND(BY31+BZ31,2) | CG31: =ROUND(CA31+CB31,2) | CH31: =ROUND(CC31+CD31,2) | CI31: =ROUND(CF31+CG31,2) | CJ31: =ROUND(SUMIF(Source!$AE$24:$AE$416,"material",Source!$CY$24:$CY$416),2) | CK31: =ROUND(SUMIF(Source!$AE$24:$AE$416,"material",Source!$CZ$24:$CZ$416),2) | CL31: =ROUND(SUMIF(Source!$AE$24:$AE$416,"material",Source!$CP$24:$CP$416),2) | CM31: =ROUND(SUMIF(Source!$AE$24:$AE$416,"material",Source!$CQ$24:$CQ$416),2) | CO31: 0 | CP31: =ROUND(P31,2) | CQ31: =ROUND(V31,2) | CR31: =ROUND(W31,2) | CS31: =ROUND(X31,2) | CT31: =ROUND(Y31,2) | CU31: =ROUND(AF31,2) | CV31: =ROUND((AH31*AV31),2) | CW31: =ROUND(AI31,2) | CX31: =ROUND(AJ31,2) | CY31: =ROUND(((P31*AT31)/100),2) | CZ31: =ROUND(((P31*AU31)/100),2) | DB31: 15 | DD31: *0)*1 | DE31: *0,3)*1,1 | DF31: *0,3)*1,1 | DG31: =ROUND(DT31,2) | DH31: =ROUND(DU31,2) | DI31: =ROUND(DV31,2) | DJ31: =ROUND(DW31,2) | DK31: =ROUND(DX31,2) | DL31: =ROUND(DY31,2) | DM31: =DZ31 | DN31: =EA31 | DO31: =ROUND(EB31,2) | DP31: =ROUND(EC31,2) | DQ31: =ROUND(ED31,2) | DT31: =ROUND(SUMIF(Source!$AE$24:$AE$416,"work",Source!$CP$24:$CP$416),2) | DU31: =ROUND(SUMIF(Source!$AE$24:$AE$416,"work",Source!$CQ$24:$CQ$416),2) | DV31: =ROUND(SUMIF(Source!$AE$24:$AE$416,"work",Source!$CR$24:$CR$416),2) | DW31: =ROUND(SUMIF(Source!$AE$24:$AE$416,"work",Source!$CS$24:$CS$416),2) | DX31: =ROUND(SUMIF(Source!$AE$24:$AE$416,"work",Source!$CT$24:$CT$416),2) | DY31: =ROUND(SUMIF(Source!$AE$24:$AE$416,"work",Source!$CU$24:$CU$416),2) | DZ31: =ROUND(SUMIF(Source!$AE$24:$AE$416,"work",Source!$CV$24:$CV$416),2) | EA31: =ROUND(SUMIF(Source!$AE$24:$AE$416,"work",Source!$CW$24:$CW$416),2) | EB31: =ROUND(SUMIF(Source!$AE$24:$AE$416,"work",Source!$CX$24:$CX$416),2) | EC31: =ROUND(SUMIF(Source!$AE$24:$AE$416,"work",Source!$CY$24:$CY$416),2) | ED31: =ROUND(SUMIF(Source!$AE$24:$AE$416,"work",Source!$CZ$24:$CZ$416),2) | EE31: 1302433104 | EF31: 40 | EG31: =ROUND(BX31+CL31,2) | EH31: =SUMIF(Source!$AE$24:$AE$416,"equipment",Source!$U$24:$U$416) | EI31: =ROUND(DT31,2) | EJ31: =SUM(Source!$U$24:$U$416)+SUM(Source!$X$24:$X$416)+SUM(Source!$Y$24:$Y$416) | EK31: =SUMIF(Source!$AE$24:$AE$416,"material",Source!$U$24:$U$416)+SUMIFS(Source!$U$24:$U$416,Source!$T$24:$T$416,"stroitel")+SUMIFS(Source!$X$24:$X$416,Source!$T$24:$T$416,"stroitel")+SUMIFS(Source!$Y$24:$Y$416,Source!$T$24:$T$416,"stroitel") | EL31: =SUMIFS(Source!$U$24:$U$416,Source!$T$24:$T$416,"montazh")+SUMIFS(Source!$X$24:$X$416,Source!$T$24:$T$416,"montazh")+SUMIFS(Source!$Y$24:$Y$416,Source!$T$24:$T$416,"montazh") | EM31: =ROUND(EC31+ED31,2) | EN31: =ROUND(FW31,2) | EO31: =ROUND(FX31,2) | EP31: =ROUND(FY31,2) | EQ31: =ROUND(FZ31,2) | ER31: =ROUND(GA31,2) | ES31: =ROUND(GB31,2) | ET31: =ROUND(GC31,2) | EU31: =ROUND(GD31,2) | EV31: =ROUND(GE31,2) | EW31: 49 | EX31: 0 | EY31: 0 | FP31: =ROUND(SUMIF(Source!$AE$24:$AE$416,"work",Source!$FQ$24:$FQ$416),2) | FQ31: =ROUND(SUMIF(Source!$AE$24:$AE$416,"work",Source!$FR$24:$FR$416),2) | FR31: =ROUND(SUMIF(Source!$AE$24:$AE$416,"work",Source!$GL$24:$GL$416),2) | FS31: =ROUND(SUMIF(Source!$AE$24:$AE$416,"work",Source!$GM$24:$GM$416),2) | FT31: =ROUND(SUMIF(Source!$AE$24:$AE$416,"work",Source!$GN$24:$GN$416),2) | FU31: =ROUND(SUMIF(Source!$AE$24:$AE$416,"work",Source!$GO$24:$GO$416),2) | FV31: =ROUND(SUMIF(Source!$AE$24:$AE$416,"work",Source!$GP$24:$GP$416),2) | FW31: =DU31-FP31 | FX31: =DU31-FQ31 | FY31: =FP31-FR31 | FZ31: =DU31-FP31-FQ31+FR31 | GA31: =FQ31-FR31 | GB31: =ROUND(SUMIF(Source!$AE$24:$AE$416,"work",Source!$GX$24:$GX$416),2) | GC31: =ROUND(SUMIF(Source!$AE$24:$AE$416,"work",Source!$GY$24:$GY$416),2) | GD31: =ROUND(SUMIF(Source!$AE$24:$AE$416,"work",Source!$GZ$24:$GZ$416),2) | GE31: =ROUND(SUMIF(Source!$AE$24:$AE$416,"work",Source!$HD$24:$HD$416),2) | GF31: 1302433104 | GG31: 2 | GH31: 1 | GI31: 2 | GJ31: 0 | GK31: 0 | GL31: =ROUND(IF(AND(BH31=3,BI31=3,FS31<>0),P31,0),2) | GM31: =ROUND(O31+X31+Y31,2)+GX31 | GN31: =IF(OR(BI31=0,BI31=1),GM31-GX31,0) | GO31: =IF(BI31=2,GM31-GX31,0) | GP31: =IF(BI31=4,GM31-GX31,0) | GR31: 0 | GS31: 0 | GT31: 0 | GV31: =ROUND((GT31),6) | GW31: 1 | GX31: 0 | GY31: 0 | GZ31: 0 | HA31: 0 | HB31: 0 | HC31: =GV31*GW31 | HD31: 0
A32: 17 | B32: 1 | C32: =ROW(SmtRes!A9) | D32: =ROW(EtalonRes!A9) | E32: 1 | F32: 6.56-15-1 | G32: Снятие дверных и оконных приборов | H32: 1 ШТ. | I32: 49 | J32: 19.41 | K32: 13261.12 | O32: =ROUND((Z32+AC32+AD32),2) | P32: =ROUND((U32+X32+Y32),2) | Q32: =ROUND(10.18,2) | R32: =ROUND(AH32,2) | S32: ТСН-2001 6.56-15-1 | T32: work | U32: 9680.61 | V32: 2387 | W32: 265.22 | X32: 2121.78 | Y32: 1458.72 | Z32: 950.95 | AA32: 234.48 | AB32: 26.05 | AC32: 208.43 | AD32: 143.29 | AE32: work | AF32: 29.32 | AG32: 2.88 | AH32: 49 | AI32: =(((EX32*0.3)*1.1)) | AJ32: =(AS32) | AK32: 234.48 | AL32: 0 | AM32: 208.43 | AN32: 26.05 | AO32: =ROUND(O32,2) | AP32: 0 | AQ32: =ROUND(R32,2) | AR32: 0 | AS32: 0 | AT32: 97 | AU32: 51 | AV32: 1 | AW32: 1 | AZ32: 1 | BA32: 1 | BB32: 1 | BC32: 1 | BH32: 0 | BI32: 49 | BJ32: ТСН-2001 6.56-15-1, 6.56-15-1 | BM32: 656 | BN32: 0 | BO32: 6.56-15-1 | BP32: 1 | BQ32: 40 | BR32: 0 | BS32: 1 | BT32: 1 | BU32: 1 | BV32: 1 | BW32: 1 | BX32: 1 | BZ32: 97 | CA32: 51 | CE32: 30 | CF32: 0 | CG32: 0 | CM32: 0 | CO32: 0 | CP32: =ROUND(P32,2) | CQ32: =ROUND(V32,2) | CR32: =ROUND(W32,2) | CS32: =ROUND(X32,2) | CT32: =ROUND(Y32,2) | CU32: =ROUND(AF32,2) | CV32: =ROUND((AH32*AV32),2) | CW32: =ROUND(AI32,2) | CX32: =ROUND(AJ32,2) | CY32: =ROUND(((P32*AT32)/100),2) | CZ32: =ROUND(((P32*AU32)/100),2) | DB32: 17 | DD32: *0)*1 | DE32: *0,3)*1,1 | DF32: *0,3)*1,1 | DG32: *0,3)*1,1 | DI32: *0,3)*1,1 | DJ32: *0,3)*1,1 | DN32: 0 | DO32: 0 | DP32: 1 | DQ32: 1 | DU32: 1000 | DV32: 1 ШТ.. | DW32: 1 ШТ.. | DX32: 1 | EE32: 1294685572 | EF32: 40 | EG32: Строительные работы | EH32: 0 | EJ32: 49 | EK32: 656 | EL32: ТСН-2001 6.56-15-1 | EM32: ТСН-2001.6-56 | EQ32: 131072 | ER32: 234.48 | ES32: 0 | ET32: 208.43 | EU32: 26.05 | EV32: 143.29 | EW32: 49 | EX32: 0 | EY32: 0 | FQ32: 0 | FR32: =ROUND(IF(BI32=3,GM32,0),2) | FS32: 0 | FX32: 97 | FY32: 51 | GD32: 1 | GF32: 1294685572 | GG32: 2 | GH32: 1 | GI32: 2 | GJ32: 0 | GK32: 0 | GL32: =ROUND(IF(AND(BH32=3,BI32=3,FS32<>0),P32,0),2) | GM32: =ROUND(O32+X32+Y32,2)+GX32 | GN32: =IF(OR(BI32=0,BI32=1),GM32-GX32,0) | GO32: =IF(BI32=2,GM32-GX32,0) | GP32: =IF(BI32=4,GM32-GX32,0) | GR32: 0 | GS32: 0 | GT32: 0 | GV32: =ROUND((GT32),6) | GW32: 1 | GX32: =ROUND(HC32*I32,2) | GY32: 0 | GZ32: 0 | HA32: 0 | HB32: 0 | HC32: =GV32*GW32 | HD32: 0
A33: 17 | B33: 1 | C33: =ROW(SmtRes!A10) | D33: =ROW(EtalonRes!A10) | E33: 1 | F33: 6.62-31-1 | G33: Расчистка откосов от старых покрытий | H33: 1 М2 | I33: 147 | J33: 9.7 | K33: 19891.67 | O33: =ROUND((Z33+AC33+AD33),2) | P33: =ROUND((U33+X33+Y33),2) | Q33: =ROUND(10.18,2) | R33: =ROUND(AH33,2) | S33: ТСН-2001 6.62-31-1 | T33: work | U33: 14520.92 | V33: 3580.5 | W33: 397.83 | X33: 3182.67 | Y33: 2188.08 | Z33: 1426.42 | AA33: 351.72 | AB33: 39.09 | AC33: 312.64 | AD33: 214.94 | AE33: work | AF33: 44.07 | AG33: 4.33 | AH33: 147 | AI33: =(((EX33*0.3)*1.1)) | AJ33: =(AS33) | AK33: 351.72 | AL33: 0 | AM33: 312.64 | AN33: 39.09 | AO33: =ROUND(O33,2) | AP33: 0 | AQ33: =ROUND(R33,2) | AR33: 0 | AS33: 0 | AT33: 97 | AU33: 51 | AV33: 1 | AW33: 1 | AZ33: 1 | BA33: 1 | BB33: 1 | BC33: 1 | BH33: 0 | BI33: 147 | BJ33: ТСН-2001 6.62-31-1, 6.62-31-1 | BM33: 662 | BN33: 0 | BO33: 6.62-31-1 | BP33: 1 | BQ33: 40 | BR33: 0 | BS33: 1 | BT33: 1 | BU33: 1 | BV33: 1 | BW33: 1 | BX33: 1 | BZ33: 97 | CA33: 51 | CE33: 30 | CF33: 0 | CG33: 0 | CM33: 0 | CO33: 0 | CP33: =ROUND(P33,2) | CQ33: =ROUND(V33,2) | CR33: =ROUND(W33,2) | CS33: =ROUND(X33,2) | CT33: =ROUND(Y33,2) | CU33: =ROUND(AF33,2) | CV33: =ROUND((AH33*AV33),2) | CW33: =ROUND(AI33,2) | CX33: =ROUND(AJ33,2) | CY33: =ROUND(((P33*AT33)/100),2) | CZ33: =ROUND(((P33*AU33)/100),2) | DB33: 19 | DD33: *0)*1 | DE33: *0,3)*1,1 | DF33: *0,3)*1,1 | DG33: *0,3)*1,1 | DI33: *0,3)*1,1 | DJ33: *0,3)*1,1 | DN33: 0 | DO33: 0 | DP33: 1 | DQ33: 1 | DU33: 1000 | DV33: 1 М2. | DW33: 1 М2. | DX33: 1 | EE33: 1268359269 | EF33: 40 | EG33: Строительные работы | EH33: 0 | EJ33: 147 | EK33: 662 | EL33: ТСН-2001 6.62-31-1 | EM33: ТСН-2001.6-62 | EQ33: 131072 | ER33: 351.72 | ES33: 0 | ET33: 312.64 | EU33: 39.09 | EV33: 214.94 | EW33: 147 | EX33: 0 | EY33: 0 | FQ33: 0 | FR33: =ROUND(IF(BI33=3,GM33,0),2) | FS33: 0 | FX33: 97 | FY33: 51 | GD33: 1 | GF33: 1268359269 | GG33: 2 | GH33: 1 | GI33: 2 | GJ33: 0 | GK33: 0 | GL33: =ROUND(IF(AND(BH33=3,BI33=3,FS33<>0),P33,0),2) | GM33: =ROUND(O33+X33+Y33,2)+GX33 | GN33: =IF(OR(BI33=0,BI33=1),GM33-GX33,0) | GO33: =IF(BI33=2,GM33-GX33,0) | GP33: =IF(BI33=4,GM33-GX33,0) | GR33: 0 | GS33: 0 | GT33: 0 | GV33: =ROUND((GT33),6) | GW33: 1 | GX33: =ROUND(HC33*I33,2) | GY33: 0 | GZ33: 0 | HA33: 0 | HB33: 0 | HC33: =GV33*GW33 | HD33: 0
A34: 17 | B34: 1 | C34: =ROW(SmtRes!A11) | D34: =ROW(EtalonRes!A11) | E34: 1 | F34: 6.69-19-1 | G34: Погрузка и выгрузка вручную мусора от демонтажа откосов и фурнитуры | H34: 1 Т | I34: 0.49 | J34: 1455.51 | K34: 9945.84 | O34: =ROUND((Z34+AC34+AD34),2) | P34: =ROUND((U34+X34+Y34),2) | Q34: =ROUND(10.18,2) | R34: =ROUND(AH34,2) | S34: ТСН-2001 6.69-19-1 | T34: work | U34: 7260.46 | V34: 1790.25 | W34: 198.92 | X34: 1591.33 | Y34: 1094.04 | Z34: 713.2 | AA34: 175.86 | AB34: 19.54 | AC34: 156.32 | AD34: 107.47 | AE34: work | AF34: 21.99 | AG34: 2.16 | AH34: 0.49 | AI34: =(((EX34*0.3)*1.1)) | AJ34: =(AS34) | AK34: 175.86 | AL34: 0 | AM34: 156.32 | AN34: 19.54 | AO34: =ROUND(O34,2) | AP34: 0 | AQ34: =ROUND(R34,2) | AR34: 0 | AS34: 0 | AT34: 97 | AU34: 51 | AV34: 1 | AW34: 1 | AZ34: 1 | BA34: 1 | BB34: 1 | BC34: 1 | BH34: 0 | BI34: 0.49 | BJ34: ТСН-2001 6.69-19-1, 6.69-19-1 | BM34: 669 | BN34: 0 | BO34: 6.69-19-1 | BP34: 1 | BQ34: 40 | BR34: 0 | BS34: 1 | BT34: 1 | BU34: 1 | BV34: 1 | BW34: 1 | BX34: 1 | BZ34: 97 | CA34: 51 | CE34: 30 | CF34: 0 | CG34: 0 | CM34: 0 | CO34: 0 | CP34: =ROUND(P34,2) | CQ34: =ROUND(V34,2) | CR34: =ROUND(W34,2) | CS34: =ROUND(X34,2) | CT34: =ROUND(Y34,2) | CU34: =ROUND(AF34,2) | CV34: =ROUND((AH34*AV34),2) | CW34: =ROUND(AI34,2) | CX34: =ROUND(AJ34,2) | CY34: =ROUND(((P34*AT34)/100),2) | CZ34: =ROUND(((P34*AU34)/100),2) | DB34: 21 | DD34: *0)*1 | DE34: *0,3)*1,1 | DF34: *0,3)*1,1 | DG34: *0,3)*1,1 | DI34: *0,3)*1,1 | DJ34: *0,3)*1,1 | DN34: 0 | DO34: 0 | DP34: 1 | DQ34: 1 | DU34: 1000 | DV34: 1 Т. | DW34: 1 Т. | DX34: 1 | EE34: 1243369168 | EF34: 40 | EG34: Строительные работы | EH34: 0 | EJ34: 0.49 | EK34: 669 | EL34: ТСН-2001 6.69-19-1 | EM34: ТСН-2001.6-69 | EQ34: 131072 | ER34: 175.86 | ES34: 0 | ET34: 156.32 | EU34: 19.54 | EV34: 107.47 | EW34: 0.49 | EX34: 0 | EY34: 0 | FQ34: 0 | FR34: =ROUND(IF(BI34=3,GM34,0),2) | FS34: 0 | FX34: 97 | FY34: 51 | GD34: 1 | GF34: 1243369168 | GG34: 2 | GH34: 1 | GI34: 2 | GJ34: 0 | GK34: 0 | GL34: =ROUND(IF(AND(BH34=3,BI34=3,FS34<>0),P34,0),2) | GM34: =ROUND(O34+X34+Y34,2)+GX34 | GN34: =IF(OR(BI34=0,BI34=1),GM34-GX34,0) | GO34: =IF(BI34=2,GM34-GX34,0) | GP34: =IF(BI34=4,GM34-GX34,0) | GR34: 0 | GS34: 0 | GT34: 0 | GV34: =ROUND((GT34),6) | GW34: 1 | GX34: =ROUND(HC34*I34,2) | GY34: 0 | GZ34: 0 | HA34: 0 | HB34: 0 | HC34: =GV34*GW34 | HD34: 0
A35: 17 | B35: 1 | C35: =ROW(SmtRes!A12) | D35: =ROW(EtalonRes!A12) | E35: 1 | F35: 6.65-12-1 | G35: Демонтаж/снятие радиаторов, арматуры и старых подводок | H35: 1 КОМПЛ. | I35: 62 | J35: 134.19 | K35: 116018.04 | O35: =ROUND((Z35+AC35+AD35),2) | P35: =ROUND((U35+X35+Y35),2) | Q35: =ROUND(10.18,2) | R35: =ROUND(AH35,2) | S35: ТСН-2001 6.65-12-1 | T35: work | U35: 84693.17 | V35: 20883.25 | W35: 2320.36 | X35: 18562.89 | Y35: 12761.98 | Z35: 8319.57 | AA35: 2051.4 | AB35: 227.93 | AC35: 1823.47 | AD35: 1253.63 | AE35: work | AF35: 256.85 | AG35: 25.23 | AH35: 62 | AI35: =(((EX35*0.3)*1.1)) | AJ35: =(AS35) | AK35: 2051.4 | AL35: 0 | AM35: 1823.47 | AN35: 227.93 | AO35: =ROUND(O35,2) | AP35: 0 | AQ35: =ROUND(R35,2) | AR35: 0 | AS35: 0 | AT35: 97 | AU35: 51 | AV35: 1 | AW35: 1 | AZ35: 1 | BA35: 1 | BB35: 1 | BC35: 1 | BH35: 0 | BI35: 62 | BJ35: ТСН-2001 6.65-12-1, 6.65-12-1 | BM35: 665 | BN35: 0 | BO35: 6.65-12-1 | BP35: 1 | BQ35: 40 | BR35: 0 | BS35: 1 | BT35: 1 | BU35: 1 | BV35: 1 | BW35: 1 | BX35: 1 | BZ35: 97 | CA35: 51 | CE35: 30 | CF35: 0 | CG35: 0 | CM35: 0 | CO35: 0 | CP35: =ROUND(P35,2) | CQ35: =ROUND(V35,2) | CR35: =ROUND(W35,2) | CS35: =ROUND(X35,2) | CT35: =ROUND(Y35,2) | CU35: =ROUND(AF35,2) | CV35: =ROUND((AH35*AV35),2) | CW35: =ROUND(AI35,2) | CX35: =ROUND(AJ35,2) | CY35: =ROUND(((P35*AT35)/100),2) | CZ35: =ROUND(((P35*AU35)/100),2) | DB35: 23 | DD35: *0)*1 | DE35: *0,3)*1,1 | DF35: *0,3)*1,1 | DG35: *0,3)*1,1 | DI35: *0,3)*1,1 | DJ35: *0,3)*1,1 | DN35: 0 | DO35: 0 | DP35: 1 | DQ35: 1 | DU35: 1000 | DV35: 1 КОМПЛ.. | DW35: 1 КОМПЛ.. | DX35: 1 | EE35: 1800068051 | EF35: 40 | EG35: Строительные работы | EH35: 0 | EJ35: 62 | EK35: 665 | EL35: ТСН-2001 6.65-12-1 | EM35: ТСН-2001.6-65 | EQ35: 131072 | ER35: 2051.4 | ES35: 0 | ET35: 1823.47 | EU35: 227.93 | EV35: 1253.63 | EW35: 62 | EX35: 0 | EY35: 0 | FQ35: 0 | FR35: =ROUND(IF(BI35=3,GM35,0),2) | FS35: 0 | FX35: 97 | FY35: 51 | GD35: 1 | GF35: 1800068051 | GG35: 2 | GH35: 1 | GI35: 2 | GJ35: 0 | GK35: 0 | GL35: =ROUND(IF(AND(BH35=3,BI35=3,FS35<>0),P35,0),2) | GM35: =ROUND(O35+X35+Y35,2)+GX35 | GN35: =IF(OR(BI35=0,BI35=1),GM35-GX35,0) | GO35: =IF(BI35=2,GM35-GX35,0) | GP35: =IF(BI35=4,GM35-GX35,0) | GR35: 0 | GS35: 0 | GT35: 0 | GV35: =ROUND((GT35),6) | GW35: 1 | GX35: =ROUND(HC35*I35,2) | GY35: 0 | GZ35: 0 | HA35: 0 | HB35: 0 | HC35: =GV35*GW35 | HD35: 0
A36: 17 | B36: 1 | C36: =ROW(SmtRes!A13) | D36: =ROW(EtalonRes!A13) | E36: 1 | F36: 6.69-19-1 | G36: Сбор, вынос и погрузка строительного мусора | H36: 1 М2 | I36: 1440.5 | J36: 16.93 | K36: 340018.05 | O36: =ROUND((Z36+AC36+AD36),2) | P36: =ROUND((U36+X36+Y36),2) | Q36: =ROUND(10.18,2) | R36: =ROUND(AH36,2) | S36: ТСН-2001 6.69-19-1 | T36: work | U36: 248213.17 | V36: 61203.25 | W36: 6800.36 | X36: 54402.89 | Y36: 37401.99 | Z36: 24382.43 | AA36: 6012.11 | AB36: 668.01 | AC36: 5344.1 | AD36: 3674.07 | AE36: work | AF36: 752.81 | AG36: 73.95 | AH36: 1440.5 | AI36: =(((EX36*0.3)*1.1)) | AJ36: =(AS36) | AK36: 6012.11 | AL36: 0 | AM36: 5344.1 | AN36: 668.01 | AO36: =ROUND(O36,2) | AP36: 0 | AQ36: =ROUND(R36,2) | AR36: 0 | AS36: 0 | AT36: 97 | AU36: 51 | AV36: 1 | AW36: 1 | AZ36: 1 | BA36: 1 | BB36: 1 | BC36: 1 | BH36: 0 | BI36: 1440.5 | BJ36: ТСН-2001 6.69-19-1, 6.69-19-1 | BM36: 669 | BN36: 0 | BO36: 6.69-19-1 | BP36: 1 | BQ36: 40 | BR36: 0 | BS36: 1 | BT36: 1 | BU36: 1 | BV36: 1 | BW36: 1 | BX36: 1 | BZ36: 97 | CA36: 51 | CE36: 30 | CF36: 0 | CG36: 0 | CM36: 0 | CO36: 0 | CP36: =ROUND(P36,2) | CQ36: =ROUND(V36,2) | CR36: =ROUND(W36,2) | CS36: =ROUND(X36,2) | CT36: =ROUND(Y36,2) | CU36: =ROUND(AF36,2) | CV36: =ROUND((AH36*AV36),2) | CW36: =ROUND(AI36,2) | CX36: =ROUND(AJ36,2) | CY36: =ROUND(((P36*AT36)/100),2) | CZ36: =ROUND(((P36*AU36)/100),2) | DB36: 25 | DD36: *0)*1 | DE36: *0,3)*1,1 | DF36: *0,3)*1,1 | DG36: *0,3)*1,1 | DI36: *0,3)*1,1 | DJ36: *0,3)*1,1 | DN36: 0 | DO36: 0 | DP36: 1 | DQ36: 1 | DU36: 1000 | DV36: 1 М2. | DW36: 1 М2. | DX36: 1 | EE36: 1252571557 | EF36: 40 | EG36: Строительные работы | EH36: 0 | EJ36: 1440.5 | EK36: 669 | EL36: ТСН-2001 6.69-19-1 | EM36: ТСН-2001.6-69 | EQ36: 131072 | ER36: 6012.11 | ES36: 0 | ET36: 5344.1 | EU36: 668.01 | EV36: 3674.07 | EW36: 1440.5 | EX36: 0 | EY36: 0 | FQ36: 0 | FR36: =ROUND(IF(BI36=3,GM36,0),2) | FS36: 0 | FX36: 97 | FY36: 51 | GD36: 1 | GF36: 1252571557 | GG36: 2 | GH36: 1 | GI36: 2 | GJ36: 0 | GK36: 0 | GL36: =ROUND(IF(AND(BH36=3,BI36=3,FS36<>0),P36,0),2) | GM36: =ROUND(O36+X36+Y36,2)+GX36 | GN36: =IF(OR(BI36=0,BI36=1),GM36-GX36,0) | GO36: =IF(BI36=2,GM36-GX36,0) | GP36: =IF(BI36=4,GM36-GX36,0) | GR36: 0 | GS36: 0 | GT36: 0 | GV36: =ROUND((GT36),6) | GW36: 1 | GX36: =ROUND(HC36*I36,2) | GY36: 0 | GZ36: 0 | HA36: 0 | HB36: 0 | HC36: =GV36*GW36 | HD36: 0
A37: 17 | B37: 1 | C37: =ROW(SmtRes!A14) | D37: =ROW(EtalonRes!A14) | E37: 1 | F37: Калькуляция - 014 | G37: Проверка оснований после демонтажа | H37: 1 М2 | I37: 1440.5 | J37: 7.33 | K37: 147287.1 | O37: =ROUND((Z37+AC37+AD37),2) | P37: =ROUND((U37+X37+Y37),2) | Q37: =ROUND(10.18,2) | R37: =ROUND(AH37,2) | S37: ТСН-2001 Калькуляция - 014 | T37: work | U37: 107519.58 | V37: 26511.67 | W37: 2945.75 | X37: 23565.94 | Y37: 16201.58 | Z37: 10561.85 | AA37: 2604.29 | AB37: 289.36 | AC37: 2314.93 | AD37: 1591.51 | AE37: work | AF37: 326.07 | AG37: 32.03 | AH37: 1440.5 | AI37: =(((EX37*0.3)*1.1)) | AJ37: =(AS37) | AK37: 2604.29 | AL37: 0 | AM37: 2314.93 | AN37: 289.36 | AO37: =ROUND(O37,2) | AP37: 0 | AQ37: =ROUND(R37,2) | AR37: 0 | AS37: 0 | AT37: 97 | AU37: 51 | AV37: 1 | AW37: 1 | AZ37: 1 | BA37: 1 | BB37: 1 | BC37: 1 | BH37: 0 | BI37: 1440.5 | BJ37: ТСН-2001 Калькуляция - 014, Калькуляция - 014 | BM37: 0 | BN37: 0 | BO37: Калькуляция - 014 | BP37: 1 | BQ37: 40 | BR37: 0 | BS37: 1 | BT37: 1 | BU37: 1 | BV37: 1 | BW37: 1 | BX37: 1 | BZ37: 97 | CA37: 51 | CE37: 30 | CF37: 0 | CG37: 0 | CM37: 0 | CO37: 0 | CP37: =ROUND(P37,2) | CQ37: =ROUND(V37,2) | CR37: =ROUND(W37,2) | CS37: =ROUND(X37,2) | CT37: =ROUND(Y37,2) | CU37: =ROUND(AF37,2) | CV37: =ROUND((AH37*AV37),2) | CW37: =ROUND(AI37,2) | CX37: =ROUND(AJ37,2) | CY37: =ROUND(((P37*AT37)/100),2) | CZ37: =ROUND(((P37*AU37)/100),2) | DB37: 27 | DD37: *0)*1 | DE37: *0,3)*1,1 | DF37: *0,3)*1,1 | DG37: *0,3)*1,1 | DI37: *0,3)*1,1 | DJ37: *0,3)*1,1 | DN37: 0 | DO37: 0 | DP37: 1 | DQ37: 1 | DU37: 1000 | DV37: 1 М2. | DW37: 1 М2. | DX37: 1 | EE37: 1138983621 | EF37: 40 | EG37: Строительные работы | EH37: 0 | EJ37: 1440.5 | EK37: 0 | EL37: ТСН-2001 Калькуляция - 014 | EM37: Калькуляция - 014 | EQ37: 131072 | ER37: 2604.29 | ES37: 0 | ET37: 2314.93 | EU37: 289.36 | EV37: 1591.51 | EW37: 1440.5 | EX37: 0 | EY37: 0 | FQ37: 0 | FR37: =ROUND(IF(BI37=3,GM37,0),2) | FS37: 0 | FX37: 97 | FY37: 51 | GD37: 1 | GF37: 1138983621 | GG37: 2 | GH37: 1 | GI37: 2 | GJ37: 0 | GK37: 0 | GL37: =ROUND(IF(AND(BH37=3,BI37=3,FS37<>0),P37,0),2) | GM37: =ROUND(O37+X37+Y37,2)+GX37 | GN37: =IF(OR(BI37=0,BI37=1),GM37-GX37,0) | GO37: =IF(BI37=2,GM37-GX37,0) | GP37: =IF(BI37=4,GM37-GX37,0) | GR37: 0 | GS37: 0 | GT37: 0 | GV37: =ROUND((GT37),6) | GW37: 1 | GX37: =ROUND(HC37*I37,2) | GY37: 0 | GZ37: 0 | HA37: 0 | HB37: 0 | HC37: =GV37*GW37 | HD37: 0
A38: 17 | B38: 1 | C38: =ROW(SmtRes!A15) | D38: =ROW(EtalonRes!A15) | E38: 1 | F38: 6.69-9-1 | G38: Заделка отверстий в местах прохода трубопроводов | H38: 1 ШТ. | I38: 94 | J38: 30.19 | K38: 42603.51 | O38: =ROUND((Z38+AC38+AD38),2) | P38: =ROUND((U38+X38+Y38),2) | Q38: =ROUND(10.18,2) | R38: =ROUND(AH38,2) | S38: ТСН-2001 6.69-9-1 | T38: work | U38: 28885.18 | V38: 7668.63 | W38: 852.07 | X38: 7753.84 | Y38: 5964.49 | Z38: 2837.45 | AA38: 753.3 | AB38: 83.7 | AC38: 761.67 | AD38: 585.9 | AE38: work | AF38: 94.37 | AG38: 9.27 | AH38: 94 | AI38: =(((EX38*0.3)*1.1)) | AJ38: =(AS38) | AK38: 753.3 | AL38: 0 | AM38: 761.67 | AN38: 83.7 | AO38: =ROUND(O38,2) | AP38: 0 | AQ38: =ROUND(R38,2) | AR38: 0 | AS38: 0 | AT38: 97 | AU38: 51 | AV38: 1 | AW38: 1 | AZ38: 1 | BA38: 1 | BB38: 1 | BC38: 1 | BH38: 0 | BI38: 94 | BJ38: ТСН-2001 6.69-9-1, 6.69-9-1 | BM38: 669 | BN38: 0 | BO38: 6.69-9-1 | BP38: 1 | BQ38: 40 | BR38: 0 | BS38: 1 | BT38: 1 | BU38: 1 | BV38: 1 | BW38: 1 | BX38: 1 | BZ38: 97 | CA38: 51 | CE38: 30 | CF38: 0 | CG38: 0 | CM38: 0 | CO38: 0 | CP38: =ROUND(P38,2) | CQ38: =ROUND(V38,2) | CR38: =ROUND(W38,2) | CS38: =ROUND(X38,2) | CT38: =ROUND(Y38,2) | CU38: =ROUND(AF38,2) | CV38: =ROUND((AH38*AV38),2) | CW38: =ROUND(AI38,2) | CX38: =ROUND(AJ38,2) | CY38: =ROUND(((P38*AT38)/100),2) | CZ38: =ROUND(((P38*AU38)/100),2) | DB38: 29 | DD38: *0)*1 | DE38: *0,3)*1,1 | DF38: *0,3)*1,1 | DG38: *0,3)*1,1 | DI38: *0,3)*1,1 | DJ38: *0,3)*1,1 | DN38: 0 | DO38: 0 | DP38: 1 | DQ38: 1 | DU38: 1000 | DV38: 1 ШТ.. | DW38: 1 ШТ.. | DX38: 1 | EE38: 1733191576 | EF38: 40 | EG38: Строительные работы | EH38: 0 | EJ38: 94 | EK38: 669 | EL38: ТСН-2001 6.69-9-1 | EM38: ТСН-2001.6-69 | EQ38: 131072 | ER38: 753.3 | ES38: 0 | ET38: 761.67 | EU38: 83.7 | EV38: 585.9 | EW38: 94 | EX38: 0 | EY38: 0 | FQ38: 0 | FR38: =ROUND(IF(BI38=3,GM38,0),2) | FS38: 0 | FX38: 97 | FY38: 51 | GD38: 1 | GF38: 1733191576 | GG38: 2 | GH38: 1 | GI38: 2 | GJ38: 0 | GK38: 0 | GL38: =ROUND(IF(AND(BH38=3,BI38=3,FS38<>0),P38,0),2) | GM38: =ROUND(O38+X38+Y38,2)+GX38 | GN38: =IF(OR(BI38=0,BI38=1),GM38-GX38,0) | GO38: =IF(BI38=2,GM38-GX38,0) | GP38: =IF(BI38=4,GM38-GX38,0) | GR38: 0 | GS38: 0 | GT38: 0 | GV38: =ROUND((GT38),6) | GW38: 1 | GX38: =ROUND(HC38*I38,2) | GY38: 0 | GZ38: 0 | HA38: 0 | HB38: 0 | HC38: =GV38*GW38 | HD38: 0
A39: 17 | B39: 1 | C39: =ROW(SmtRes!A16) | D39: =ROW(EtalonRes!A16) | E39: 1 | F39: 6.69-42-1 | G39: Заделка отверстий в железобетонных стенах и перегородках | H39: 1 ШТ. | I39: 94 | J39: 30.19 | K39: 42603.51 | O39: =ROUND((Z39+AC39+AD39),2) | P39: =ROUND((U39+X39+Y39),2) | Q39: =ROUND(10.18,2) | R39: =ROUND(AH39,2) | S39: ТСН-2001 6.69-42-1 | T39: work | U39: 28885.18 | V39: 7668.63 | W39: 852.07 | X39: 7753.84 | Y39: 5964.49 | Z39: 2837.45 | AA39: 753.3 | AB39: 83.7 | AC39: 761.67 | AD39: 585.9 | AE39: work | AF39: 94.37 | AG39: 9.27 | AH39: 94 | AI39: =(((EX39*0.3)*1.1)) | AJ39: =(AS39) | AK39: 753.3 | AL39: 0 | AM39: 761.67 | AN39: 83.7 | AO39: =ROUND(O39,2) | AP39: 0 | AQ39: =ROUND(R39,2) | AR39: 0 | AS39: 0 | AT39: 97 | AU39: 51 | AV39: 1 | AW39: 1 | AZ39: 1 | BA39: 1 | BB39: 1 | BC39: 1 | BH39: 0 | BI39: 94 | BJ39: ТСН-2001 6.69-42-1, 6.69-42-1 | BM39: 669 | BN39: 0 | BO39: 6.69-42-1 | BP39: 1 | BQ39: 40 | BR39: 0 | BS39: 1 | BT39: 1 | BU39: 1 | BV39: 1 | BW39: 1 | BX39: 1 | BZ39: 97 | CA39: 51 | CE39: 30 | CF39: 0 | CG39: 0 | CM39: 0 | CO39: 0 | CP39: =ROUND(P39,2) | CQ39: =ROUND(V39,2) | CR39: =ROUND(W39,2) | CS39: =ROUND(X39,2) | CT39: =ROUND(Y39,2) | CU39: =ROUND(AF39,2) | CV39: =ROUND((AH39*AV39),2) | CW39: =ROUND(AI39,2) | CX39: =ROUND(AJ39,2) | CY39: =ROUND(((P39*AT39)/100),2) | CZ39: =ROUND(((P39*AU39)/100),2) | DB39: 31 | DD39: *0)*1 | DE39: *0,3)*1,1 | DF39: *0,3)*1,1 | DG39: *0,3)*1,1 | DI39: *0,3)*1,1 | DJ39: *0,3)*1,1 | DN39: 0 | DO39: 0 | DP39: 1 | DQ39: 1 | DU39: 1000 | DV39: 1 ШТ.. | DW39: 1 ШТ.. | DX39: 1 | EE39: 1266656538 | EF39: 40 | EG39: Строительные работы | EH39: 0 | EJ39: 94 | EK39: 669 | EL39: ТСН-2001 6.69-42-1 | EM39: ТСН-2001.6-69 | EQ39: 131072 | ER39: 753.3 | ES39: 0 | ET39: 761.67 | EU39: 83.7 | EV39: 585.9 | EW39: 94 | EX39: 0 | EY39: 0 | FQ39: 0 | FR39: =ROUND(IF(BI39=3,GM39,0),2) | FS39: 0 | FX39: 97 | FY39: 51 | GD39: 1 | GF39: 1266656538 | GG39: 2 | GH39: 1 | GI39: 2 | GJ39: 0 | GK39: 0 | GL39: =ROUND(IF(AND(BH39=3,BI39=3,FS39<>0),P39,0),2) | GM39: =ROUND(O39+X39+Y39,2)+GX39 | GN39: =IF(OR(BI39=0,BI39=1),GM39-GX39,0) | GO39: =IF(BI39=2,GM39-GX39,0) | GP39: =IF(BI39=4,GM39-GX39,0) | GR39: 0 | GS39: 0 | GT39: 0 | GV39: =ROUND((GT39),6) | GW39: 1 | GX39: =ROUND(HC39*I39,2) | GY39: 0 | GZ39: 0 | HA39: 0 | HB39: 0 | HC39: =GV39*GW39 | HD39: 0
A40: 50 | B40: 0 | C40: 0 | D40: 1 | E40: 216 | F40: =ROUND(Source!AP31,O40) | G40: Оборуд | H40: Стоимость оборудования (всего) | I40: 94 | J40: 48.3 | K40: 216 | L40: 8 | M40: 1 | O40: 2 | P40: =ROUND(Source!EH31,O40) | Q40: =ROUND(10.18,2) | R40: =ROUND(AH40,2) | S40: ТСН-2001 Калькуляция - 017 | T40: work | U40: 46216.28 | V40: 12269.81 | W40: 38352540 | X40: 1 | Y40: 38352540 | Z40: 38352550 | AA40: 1205.29 | AB40: 133.93 | AC40: 1218.68 | AD40: 937.45 | AE40: work | AF40: 150.96 | AG40: 14.83 | AH40: 94 | AI40: =(((EX40*0.3)*1.1)) | AJ40: =(AS40) | AK40: 1205.29 | AL40: 0 | AM40: 1218.68 | AN40: 133.93 | AO40: =ROUND(O40,2) | AP40: 0 | AQ40: =ROUND(R40,2) | AR40: 0 | AS40: 0 | AT40: 97 | AU40: 51 | AV40: 1 | AW40: 1 | AZ40: 1 | BA40: 1 | BB40: 1 | BC40: 1 | BH40: 0 | BI40: 94 | BJ40: ТСН-2001 Калькуляция - 017, Калькуляция - 017 | BM40: 0 | BN40: 0 | BO40: Калькуляция - 017 | BP40: 1 | BQ40: 40 | BR40: 0 | BS40: 1 | BT40: 1 | BU40: 1 | BV40: 1 | BW40: 1 | BX40: 1 | BZ40: 97 | CA40: 51 | CE40: 30 | CF40: 0 | CG40: 0 | CM40: 0 | CO40: 0 | CP40: =ROUND(P40,2) | CQ40: =ROUND(V40,2) | CR40: =ROUND(W40,2) | CS40: =ROUND(X40,2) | CT40: =ROUND(Y40,2) | CU40: =ROUND(AF40,2) | CV40: =ROUND((AH40*AV40),2) | CW40: =ROUND(AI40,2) | CX40: =ROUND(AJ40,2) | CY40: =ROUND(((P40*AT40)/100),2) | CZ40: =ROUND(((P40*AU40)/100),2) | DB40: 33 | DD40: *0)*1 | DE40: *0,3)*1,1 | DF40: *0,3)*1,1 | DG40: *0,3)*1,1 | DI40: *0,3)*1,1 | DJ40: *0,3)*1,1 | DN40: 0 | DO40: 0 | DP40: 1 | DQ40: 1 | DU40: 1000 | DV40: 1 ШТ.. | DW40: 1 ШТ.. | DX40: 1 | EE40: 1309563674 | EF40: 40 | EG40: Строительные работы | EH40: 0 | EJ40: 94 | EK40: 0 | EL40: ТСН-2001 Калькуляция - 017 | EM40: Калькуляция - 017 | EQ40: 131072 | ER40: 1205.29 | ES40: 0 | ET40: 1218.68 | EU40: 133.93 | EV40: 937.45 | EW40: 94 | EX40: 0 | EY40: 0 | FQ40: 0 | FR40: =ROUND(IF(BI40=3,GM40,0),2) | FS40: 0 | FX40: 97 | FY40: 51 | GD40: 1 | GF40: 1309563674 | GG40: 2 | GH40: 1 | GI40: 2 | GJ40: 0 | GK40: 0 | GL40: =ROUND(IF(AND(BH40=3,BI40=3,FS40<>0),P40,0),2) | GM40: =ROUND(O40+X40+Y40,2)+GX40 | GN40: =IF(OR(BI40=0,BI40=1),GM40-GX40,0) | GO40: =IF(BI40=2,GM40-GX40,0) | GP40: =IF(BI40=4,GM40-GX40,0) | GR40: 0 | GS40: 0 | GT40: 0 | GV40: =ROUND((GT40),6) | GW40: 1 | GX40: =ROUND(HC40*I40,2) | GY40: 0 | GZ40: 0 | HA40: 0 | HB40: 0 | HC40: =GV40*GW40 | HD40: 0
A41: 17 | B41: 1 | C41: =ROW(SmtRes!A18) | D41: =ROW(EtalonRes!A18) | E41: 1 | F41: Калькуляция - 018 | G41: Фотофиксация и акты скрытых работ по проходкам | H41: 1 КОМПЛ. | I41: 9.4 | J41: 120.74 | K41: 17041.4 | O41: =ROUND((Z41+AC41+AD41),2) | P41: =ROUND((U41+X41+Y41),2) | Q41: =ROUND(10.18,2) | R41: =ROUND(AH41,2) | S41: ТСН-2001 Калькуляция - 018 | T41: work | U41: 11554.08 | V41: 3067.45 | W41: 340.83 | X41: 3101.53 | Y41: 2385.8 | Z41: 1134.97 | AA41: 301.32 | AB41: 33.48 | AC41: 304.67 | AD41: 234.36 | AE41: work | AF41: 37.77 | AG41: 3.71 | AH41: 9.4 | AI41: =(((EX41*0.3)*1.1)) | AJ41: =(AS41) | AK41: 301.32 | AL41: 0 | AM41: 304.67 | AN41: 33.48 | AO41: =ROUND(O41,2) | AP41: 0 | AQ41: =ROUND(R41,2) | AR41: 0 | AS41: 0 | AT41: 97 | AU41: 51 | AV41: 1 | AW41: 1 | AZ41: 1 | BA41: 1 | BB41: 1 | BC41: 1 | BH41: 0 | BI41: 9.4 | BJ41: ТСН-2001 Калькуляция - 018, Калькуляция - 018 | BM41: 0 | BN41: 0 | BO41: Калькуляция - 018 | BP41: 1 | BQ41: 40 | BR41: 0 | BS41: 1 | BT41: 1 | BU41: 1 | BV41: 1 | BW41: 1 | BX41: 1 | BZ41: 97 | CA41: 51 | CE41: 30 | CF41: 0 | CG41: 0 | CM41: 0 | CO41: 0 | CP41: =ROUND(P41,2) | CQ41: =ROUND(V41,2) | CR41: =ROUND(W41,2) | CS41: =ROUND(X41,2) | CT41: =ROUND(Y41,2) | CU41: =ROUND(AF41,2) | CV41: =ROUND((AH41*AV41),2) | CW41: =ROUND(AI41,2) | CX41: =ROUND(AJ41,2) | CY41: =ROUND(((P41*AT41)/100),2) | CZ41: =ROUND(((P41*AU41)/100),2) | DB41: 35 | DD41: *0)*1 | DE41: *0,3)*1,1 | DF41: *0,3)*1,1 | DG41: *0,3)*1,1 | DI41: *0,3)*1,1 | DJ41: *0,3)*1,1 | DN41: 0 | DO41: 0 | DP41: 1 | DQ41: 1 | DU41: 1000 | DV41: 1 КОМПЛ.. | DW41: 1 КОМПЛ.. | DX41: 1 | EE41: 1156087134 | EF41: 40 | EG41: Строительные работы | EH41: 0 | EJ41: 9.4 | EK41: 0 | EL41: ТСН-2001 Калькуляция - 018 | EM41: Калькуляция - 018 | EQ41: 131072 | ER41: 301.32 | ES41: 0 | ET41: 304.67 | EU41: 33.48 | EV41: 234.36 | EW41: 9.4 | EX41: 0 | EY41: 0 | FQ41: 0 | FR41: =ROUND(IF(BI41=3,GM41,0),2) | FS41: 0 | FX41: 97 | FY41: 51 | GD41: 1 | GF41: 1156087134 | GG41: 2 | GH41: 1 | GI41: 2 | GJ41: 0 | GK41: 0 | GL41: =ROUND(IF(AND(BH41=3,BI41=3,FS41<>0),P41,0),2) | GM41: =ROUND(O41+X41+Y41,2)+GX41 | GN41: =IF(OR(BI41=0,BI41=1),GM41-GX41,0) | GO41: =IF(BI41=2,GM41-GX41,0) | GP41: =IF(BI41=4,GM41-GX41,0) | GR41: 0 | GS41: 0 | GT41: 0 | GV41: =ROUND((GT41),6) | GW41: 1 | GX41: =ROUND(HC41*I41,2) | GY41: 0 | GZ41: 0 | HA41: 0 | HB41: 0 | HC41: =GV41*GW41 | HD41: 0
A42: 17 | B42: 1 | C42: =ROW(SmtRes!A19) | D42: =ROW(EtalonRes!A19) | E42: 1 | F42: 3.15-165-1 | G42: Обеспыливание, грунтование и ремонт основания пола | H42: 1 М2 | I42: 1440.5 | J42: 10.24 | K42: 230330.54 | O42: =ROUND((Z42+AC42+AD42),2) | P42: =ROUND((U42+X42+Y42),2) | Q42: =ROUND(10.18,2) | R42: =ROUND(AH42,2) | S42: ТСН-2001 3.15-165-1 | T42: work | U42: 150175.52 | V42: 41459.5 | W42: 4606.61 | X42: 47908.75 | Y42: 32246.28 | Z42: 14752.01 | AA42: 4072.64 | AB42: 452.52 | AC42: 4706.16 | AD42: 3167.61 | AE42: work | AF42: 509.91 | AG42: 50.09 | AH42: 1440.5 | AI42: =(((EX42*0.3)*1.1)) | AJ42: =(AS42) | AK42: 4072.64 | AL42: 0 | AM42: 4706.16 | AN42: 452.52 | AO42: =ROUND(O42,2) | AP42: 0 | AQ42: =ROUND(R42,2) | AR42: 0 | AS42: 0 | AT42: 97 | AU42: 51 | AV42: 1 | AW42: 1 | AZ42: 1 | BA42: 1 | BB42: 1 | BC42: 1 | BH42: 0 | BI42: 1440.5 | BJ42: ТСН-2001 3.15-165-1, 3.15-165-1 | BM42: 315 | BN42: 0 | BO42: 3.15-165-1 | BP42: 1 | BQ42: 40 | BR42: 0 | BS42: 1 | BT42: 1 | BU42: 1 | BV42: 1 | BW42: 1 | BX42: 1 | BZ42: 97 | CA42: 51 | CE42: 30 | CF42: 0 | CG42: 0 | CM42: 0 | CO42: 0 | CP42: =ROUND(P42,2) | CQ42: =ROUND(V42,2) | CR42: =ROUND(W42,2) | CS42: =ROUND(X42,2) | CT42: =ROUND(Y42,2) | CU42: =ROUND(AF42,2) | CV42: =ROUND((AH42*AV42),2) | CW42: =ROUND(AI42,2) | CX42: =ROUND(AJ42,2) | CY42: =ROUND(((P42*AT42)/100),2) | CZ42: =ROUND(((P42*AU42)/100),2) | DB42: 37 | DD42: *0)*1 | DE42: *0,3)*1,1 | DF42: *0,3)*1,1 | DG42: *0,3)*1,1 | DI42: *0,3)*1,1 | DJ42: *0,3)*1,1 | DN42: 0 | DO42: 0 | DP42: 1 | DQ42: 1 | DU42: 1000 | DV42: 1 М2. | DW42: 1 М2. | DX42: 1 | EE42: 1142688733 | EF42: 40 | EG42: Строительные работы | EH42: 0 | EJ42: 1440.5 | EK42: 315 | EL42: ТСН-2001 3.15-165-1 | EM42: ТСН-2001.3-15 | EQ42: 131072 | ER42: 4072.64 | ES42: 0 | ET42: 4706.16 | EU42: 452.52 | EV42: 3167.61 | EW42: 1440.5 | EX42: 0 | EY42: 0 | FQ42: 0 | FR42: =ROUND(IF(BI42=3,GM42,0),2) | FS42: 0 | FX42: 97 | FY42: 51 | GD42: 1 | GF42: 1142688733 | GG42: 2 | GH42: 1 | GI42: 2 | GJ42: 0 | GK42: 0 | GL42: =ROUND(IF(AND(BH42=3,BI42=3,FS42<>0),P42,0),2) | GM42: =ROUND(O42+X42+Y42,2)+GX42 | GN42: =IF(OR(BI42=0,BI42=1),GM42-GX42,0) | GO42: =IF(BI42=2,GM42-GX42,0) | GP42: =IF(BI42=4,GM42-GX42,0) | GR42: 0 | GS42: 0 | GT42: 0 | GV42: =ROUND((GT42),6) | GW42: 1 | GX42: =ROUND(HC42*I42,2) | GY42: 0 | GZ42: 0 | HA42: 0 | HB42: 0 | HC42: =GV42*GW42 | HD42: 0
A43: 17 | B43: 1 | C43: =ROW(SmtRes!A20) | D43: =ROW(EtalonRes!A20) | E43: 1 | F43: 3.11-10-1 | G43: Выравнивание основания пола | H43: 1 М2 | I43: 1440.5 | J43: 55.46 | K43: 1247273.4 | O43: =ROUND((Z43+AC43+AD43),2) | P43: =ROUND((U43+X43+Y43),2) | Q43: =ROUND(10.18,2) | R43: =ROUND(AH43,2) | S43: ТСН-2001 3.11-10-1 | T43: work | U43: 813222.27 | V43: 224509.21 | W43: 24945.47 | X43: 259432.87 | Y43: 174618.28 | Z43: 79884.31 | AA43: 22053.95 | AB43: 2450.44 | AC43: 25484.56 | AD43: 17153.07 | AE43: work | AF43: 2761.43 | AG43: 271.26 | AH43: 1440.5 | AI43: =(((EX43*0.3)*1.1)) | AJ43: =(AS43) | AK43: 22053.95 | AL43: 0 | AM43: 25484.56 | AN43: 2450.44 | AO43: =ROUND(O43,2) | AP43: 0 | AQ43: =ROUND(R43,2) | AR43: 0 | AS43: 0 | AT43: 97 | AU43: 51 | AV43: 1 | AW43: 1 | AZ43: 1 | BA43: 1 | BB43: 1 | BC43: 1 | BH43: 0 | BI43: 1440.5 | BJ43: ТСН-2001 3.11-10-1, 3.11-10-1 | BM43: 311 | BN43: 0 | BO43: 3.11-10-1 | BP43: 1 | BQ43: 40 | BR43: 0 | BS43: 1 | BT43: 1 | BU43: 1 | BV43: 1 | BW43: 1 | BX43: 1 | BZ43: 97 | CA43: 51 | CE43: 30 | CF43: 0 | CG43: 0 | CM43: 0 | CO43: 0 | CP43: =ROUND(P43,2) | CQ43: =ROUND(V43,2) | CR43: =ROUND(W43,2) | CS43: =ROUND(X43,2) | CT43: =ROUND(Y43,2) | CU43: =ROUND(AF43,2) | CV43: =ROUND((AH43*AV43),2) | CW43: =ROUND(AI43,2) | CX43: =ROUND(AJ43,2) | CY43: =ROUND(((P43*AT43)/100),2) | CZ43: =ROUND(((P43*AU43)/100),2) | DB43: 39 | DD43: *0)*1 | DE43: *0,3)*1,1 | DF43: *0,3)*1,1 | DG43: *0,3)*1,1 | DI43: *0,3)*1,1 | DJ43: *0,3)*1,1 | DN43: 0 | DO43: 0 | DP43: 1 | DQ43: 1 | DU43: 1000 | DV43: 1 М2. | DW43: 1 М2. | DX43: 1 | EE43: 1276480581 | EF43: 40 | EG43: Строительные работы | EH43: 0 | EJ43: 1440.5 | EK43: 311 | EL43: ТСН-2001 3.11-10-1 | EM43: ТСН-2001.3-11 | EQ43: 131072 | ER43: 22053.95 | ES43: 0 | ET43: 25484.56 | EU43: 2450.44 | EV43: 17153.07 | EW43: 1440.5 | EX43: 0 | EY43: 0 | FQ43: 0 | FR43: =ROUND(IF(BI43=3,GM43,0),2) | FS43: 0 | FX43: 97 | FY43: 51 | GD43: 1 | GF43: 1276480581 | GG43: 2 | GH43: 1 | GI43: 2 | GJ43: 0 | GK43: 0 | GL43: =ROUND(IF(AND(BH43=3,BI43=3,FS43<>0),P43,0),2) | GM43: =ROUND(O43+X43+Y43,2)+GX43 | GN43: =IF(OR(BI43=0,BI43=1),GM43-GX43,0) | GO43: =IF(BI43=2,GM43-GX43,0) | GP43: =IF(BI43=4,GM43-GX43,0) | GR43: 0 | GS43: 0 | GT43: 0 | GV43: =ROUND((GT43),6) | GW43: 1 | GX43: =ROUND(HC43*I43,2) | GY43: 0 | GZ43: 0 | HA43: 0 | HB43: 0 | HC43: =GV43*GW43 | HD43: 0
A44: 17 | B44: 1 | C44: =ROW(SmtRes!A21) | D44: =ROW(EtalonRes!A21) | E44: 1 | F44: 3.11-26-2 | G44: Устройство покрытий из линолеума/эластичного покрытия в обычных зонах | H44: 1 М2 | I44: 679.745 | J44: 42.23 | K44: 448184.79 | O44: =ROUND((Z44+AC44+AD44),2) | P44: =ROUND((U44+X44+Y44),2) | Q44: =ROUND(10.18,2) | R44: =ROUND(AH44,2) | S44: ТСН-2001 3.11-26-2 | T44: work | U44: 292216.48 | V44: 80673.26 | W44: 8963.7 | X44: 93222.43 | Y44: 62745.88 | Z44: 28704.96 | AA44: 7924.68 | AB44: 880.53 | AC44: 9157.41 | AD44: 6163.64 | AE44: work | AF44: 992.23 | AG44: 97.47 | AH44: 679.75 | AI44: =(((EX44*0.3)*1.1)) | AJ44: =(AS44) | AK44: 7924.68 | AL44: 0 | AM44: 9157.41 | AN44: 880.53 | AO44: =ROUND(O44,2) | AP44: 0 | AQ44: =ROUND(R44,2) | AR44: 0 | AS44: 0 | AT44: 97 | AU44: 51 | AV44: 1 | AW44: 1 | AZ44: 1 | BA44: 1 | BB44: 1 | BC44: 1 | BH44: 0 | BI44: 679.75 | BJ44: ТСН-2001 3.11-26-2, 3.11-26-2 | BM44: 311 | BN44: 0 | BO44: 3.11-26-2 | BP44: 1 | BQ44: 40 | BR44: 0 | BS44: 1 | BT44: 1 | BU44: 1 | BV44: 1 | BW44: 1 | BX44: 1 | BZ44: 97 | CA44: 51 | CE44: 30 | CF44: 0 | CG44: 0 | CM44: 0 | CO44: 0 | CP44: =ROUND(P44,2) | CQ44: =ROUND(V44,2) | CR44: =ROUND(W44,2) | CS44: =ROUND(X44,2) | CT44: =ROUND(Y44,2) | CU44: =ROUND(AF44,2) | CV44: =ROUND((AH44*AV44),2) | CW44: =ROUND(AI44,2) | CX44: =ROUND(AJ44,2) | CY44: =ROUND(((P44*AT44)/100),2) | CZ44: =ROUND(((P44*AU44)/100),2) | DB44: 41 | DD44: *0)*1 | DE44: *0,3)*1,1 | DF44: *0,3)*1,1 | DG44: *0,3)*1,1 | DI44: *0,3)*1,1 | DJ44: *0,3)*1,1 | DN44: 0 | DO44: 0 | DP44: 1 | DQ44: 1 | DU44: 1000 | DV44: 1 М2. | DW44: 1 М2. | DX44: 1 | EE44: 1531225079 | EF44: 40 | EG44: Строительные работы | EH44: 0 | EJ44: 679.745 | EK44: 311 | EL44: ТСН-2001 3.11-26-2 | EM44: ТСН-2001.3-11 | EQ44: 131072 | ER44: 7924.68 | ES44: 0 | ET44: 9157.41 | EU44: 880.53 | EV44: 6163.64 | EW44: 679.75 | EX44: 0 | EY44: 0 | FQ44: 0 | FR44: =ROUND(IF(BI44=3,GM44,0),2) | FS44: 0 | FX44: 97 | FY44: 51 | GD44: 1 | GF44: 1531225079 | GG44: 2 | GH44: 1 | GI44: 2 | GJ44: 0 | GK44: 0 | GL44: =ROUND(IF(AND(BH44=3,BI44=3,FS44<>0),P44,0),2) | GM44: =ROUND(O44+X44+Y44,2)+GX44 | GN44: =IF(OR(BI44=0,BI44=1),GM44-GX44,0) | GO44: =IF(BI44=2,GM44-GX44,0) | GP44: =IF(BI44=4,GM44-GX44,0) | GR44: 0 | GS44: 0 | GT44: 0 | GV44: =ROUND((GT44),6) | GW44: 1 | GX44: =ROUND(HC44*I44,2) | GY44: 0 | GZ44: 0 | HA44: 0 | HB44: 0 | HC44: =GV44*GW44 | HD44: 0
A45: 50 | B45: 1 | C45: 0 | D45: 1 | E45: 204 | F45: =ROUND(Source!R31,O45) | G45: ЗПМ | H45: ЗП машинистов | I45: 308.975 | J45: 72.26 | K45: 204 | L45: 9 | M45: 1 | O45: 2 | P45: =ROUND(Source!DJ31,O45) | Q45: =ROUND(10.18,2) | R45: =ROUND(AH45,2) | S45: ТСН-2001 3.11-36-1 | T45: work | U45: 227279.48 | V45: 62745.86 | W45: 0 | X45: 1 | Y45: 0 | Z45: 0 | AA45: 6163.64 | AB45: 684.85 | AC45: 7122.43 | AD45: 4793.94 | AE45: work | AF45: 771.75 | AG45: 75.81 | AH45: 308.98 | AI45: =(((EX45*0.3)*1.1)) | AJ45: =(AS45) | AK45: 6163.64 | AL45: 0 | AM45: 7122.43 | AN45: 684.85 | AO45: =ROUND(O45,2) | AP45: 0 | AQ45: =ROUND(R45,2) | AR45: 0 | AS45: 0 | AT45: 97 | AU45: 51 | AV45: 1 | AW45: 1 | AZ45: 1 | BA45: 1 | BB45: 1 | BC45: 1 | BH45: 0 | BI45: 308.98 | BJ45: ТСН-2001 3.11-36-1, 3.11-36-1 | BM45: 311 | BN45: 0 | BO45: 3.11-36-1 | BP45: 1 | BQ45: 40 | BR45: 0 | BS45: 1 | BT45: 1 | BU45: 1 | BV45: 1 | BW45: 1 | BX45: 1 | BZ45: 97 | CA45: 51 | CE45: 30 | CF45: 0 | CG45: 0 | CM45: 0 | CO45: 0 | CP45: =ROUND(P45,2) | CQ45: =ROUND(V45,2) | CR45: =ROUND(W45,2) | CS45: =ROUND(X45,2) | CT45: =ROUND(Y45,2) | CU45: =ROUND(AF45,2) | CV45: =ROUND((AH45*AV45),2) | CW45: =ROUND(AI45,2) | CX45: =ROUND(AJ45,2) | CY45: =ROUND(((P45*AT45)/100),2) | CZ45: =ROUND(((P45*AU45)/100),2) | DB45: 43 | DD45: *0)*1 | DE45: *0,3)*1,1 | DF45: *0,3)*1,1 | DG45: *0,3)*1,1 | DI45: *0,3)*1,1 | DJ45: *0,3)*1,1 | DN45: 0 | DO45: 0 | DP45: 1 | DQ45: 1 | DU45: 1000 | DV45: 1 М2. | DW45: 1 М2. | DX45: 1 | EE45: 1358424629 | EF45: 40 | EG45: Строительные работы | EH45: 0 | EJ45: 308.975 | EK45: 311 | EL45: ТСН-2001 3.11-36-1 | EM45: ТСН-2001.3-11 | EQ45: 131072 | ER45: 6163.64 | ES45: 0 | ET45: 7122.43 | EU45: 684.85 | EV45: 4793.94 | EW45: 308.98 | EX45: 0 | EY45: 0 | FQ45: 0 | FR45: =ROUND(IF(BI45=3,GM45,0),2) | FS45: 0 | FX45: 97 | FY45: 51 | GD45: 1 | GF45: 1358424629 | GG45: 2 | GH45: 1 | GI45: 2 | GJ45: 0 | GK45: 0 | GL45: =ROUND(IF(AND(BH45=3,BI45=3,FS45<>0),P45,0),2) | GM45: =ROUND(O45+X45+Y45,2)+GX45 | GN45: =IF(OR(BI45=0,BI45=1),GM45-GX45,0) | GO45: =IF(BI45=2,GM45-GX45,0) | GP45: =IF(BI45=4,GM45-GX45,0) | GR45: 0 | GS45: 0 | GT45: 0 | GV45: =ROUND((GT45),6) | GW45: 1 | GX45: =ROUND(HC45*I45,2) | GY45: 0 | GZ45: 0 | HA45: 0 | HB45: 0 | HC45: =GV45*GW45 | HD45: 0
