Workbook

Sheet Итог
A1: Коммерческое предложение
A2: Смета на устройство полов и плит перекрытий по объекту: Производственно-складской комплекс «Цифровой промышленный коворкинг Индастриал Сити «Дмитровский I»
A3: Заказчик: ООО «Гефест». Дата: 12.05.2026. Основание расчета: исходная ведомость объемов и рабочая документация.
A4: Стоимость указана без выделения НДС. Доставка основных материалов по Москве/МО учтена укрупненно. Срок действия цен: 10 календарных дней.
A5: Раздел | B5: Блок | C5: Материалы, руб. | D5: Работа и механизация, руб. | E5: Итого, руб. | F5: Доля, %
A6: Полы | B6: Блок А | C6: =SUMIF(Полы!B:B,B6,Полы!J:J) -> 60504183 | D6: =SUMIF(Полы!B:B,B6,Полы!K:K) -> 36028900 | E6: =SUMIF(Полы!B:B,B6,Полы!L:L) -> 96533083 | F6: =E6/$E$13*100 -> 56.008914
A7: Полы | B7: Блок U1.U2 | C7: =SUMIF(Полы!B:B,B7,Полы!J:J) -> 16711774 | D7: =SUMIF(Полы!B:B,B7,Полы!K:K) -> 9363200 | E7: =SUMIF(Полы!B:B,B7,Полы!L:L) -> 26074974 | F7: =E7/$E$13*100 -> 15.128813
A8: Полы | B8: Блок U3.U4 | C8: =SUMIF(Полы!B:B,B8,Полы!J:J) -> 17112442 | D8: =SUMIF(Полы!B:B,B8,Полы!K:K) -> 9819032 | E8: =SUMIF(Полы!B:B,B8,Полы!L:L) -> 26931474 | F8: =E8/$E$13*100 -> 15.625758
A9: Полы | B9: Блок КПП | C9: =SUMIF(Полы!B:B,B9,Полы!J:J) -> 435970 | D9: =SUMIF(Полы!B:B,B9,Полы!K:K) -> 229213 | E9: =SUMIF(Полы!B:B,B9,Полы!L:L) -> 665183 | F9: =E9/$E$13*100 -> 0.38594206
A10: Плиты перекрытия | B10: Блок А ПЛИТЫ ПЕРЕКРЫТИЯ | C10: =SUMIF(Перекрытия!B:B,B10,Перекрытия!K:K) -> 13044538 | D10: =SUMIF(Перекрытия!B:B,B10,Перекрытия!L:L) -> 5813243 | E10: =SUMIF(Перекрытия!B:B,B10,Перекрытия!M:M) -> 18857781 | F10: =E10/$E$13*100 -> 10.941366
A11: Плиты перекрытия | B11: Блок U1.U2 ПЛИТЫ ПЕРЕКРЫТИЯ | C11: =SUMIF(Перекрытия!B:B,B11,Перекрытия!K:K) -> 1134923 | D11: =SUMIF(Перекрытия!B:B,B11,Перекрытия!L:L) -> 510365 | E11: =SUMIF(Перекрытия!B:B,B11,Перекрытия!M:M) -> 1645288 | F11: =E11/$E$13*100 -> 0.95460324
A12: Плиты перекрытия | B12: Блок U3.U4 ПЛИТЫ ПЕРЕКРЫТИЯ | C12: =SUMIF(Перекрытия!B:B,B12,Перекрытия!K:K) -> 1134923 | D12: =SUMIF(Перекрытия!B:B,B12,Перекрытия!L:L) -> 510365 | E12: =SUMIF(Перекрытия!B:B,B12,Перекрытия!M:M) -> 1645288 | F12: =E12/$E$13*100 -> 0.95460324
A13: Итого | C13: =SUM(C6:C12) -> 110078753 | D13: =SUM(D6:D12) -> 62274318 | E13: =SUM(E6:E12) -> 172353071 | F13: =SUM(F6:F12) -> 100
A15: Комментарии
A16: Расчет выполнен по исходной ведомости объемов. Позиции, отсутствующие в ведомости, в стоимость не включены.
A17: По PDF U1.U2 в стоимость не включены стабилизация грунта, защитный слой щебня 539 м3 и труба ПНД 8 пог. м, так как эти позиции отсутствуют в исходной ведомости объемов.
A18: Позиции с исходным примечанием «Исключили из расчета» оставлены в ведомости с нулевой стоимостью.

Sheet Полы
A1: Коммерческая смета. Полы
A2: Объект: Производственно-складской комплекс «Цифровой промышленный коворкинг Индастриал Сити «Дмитровский I», Московская область, Дмитровский район, г/п Икша, д. Спас-Каменка
A3: Коммерческие расценки, Москва и Московская область, дата составления 12.05.2026. Цены указаны в рублях, НДС не выделен.
A5: № | B5: Блок | C5: Раздел | D5: Наименование работ, материалов, оборудования | E5: Ед. изм. | F5: Кол-во | G5: Материалы, руб./ед. | H5: Работа и механизация, руб./ед. | I5: Итого, руб./ед. | J5: Материалы, руб. | K5: Работа и механизация, руб. | L5: Итого, руб. | M5: Примечание
A6: Блок А
A7: 1 | B7: Блок А | D7: Комплекс работ по устройству плиты пола производственно-складской части блока здания | M7: 37-ИЧ/24/1-КЖ5-A
A8: 1.1 | B8: Блок А | C8: Комплекс работ по устройству плиты пола производственно-складской части блока здания | D8: Послойная укладка геосетки Славрос СД-40 / 5 слоёв | E8: м2 | F8: 420 | G8: 130 | H8: 90 | I8: =ROUND(G8+H8,0) -> 220 | J8: =ROUND(F8*G8,0) -> 54600 | K8: =ROUND(F8*H8,0) -> 37800 | L8: =ROUND(J8+K8,0) -> 92400
A9: 1.2 | B9: Блок А | C9: Комплекс работ по устройству плиты пола производственно-складской части блока здания | D9: Песчаная подготовка толщиной 100 мм (песок ср.крупности с коэф. уплотнения Кcom=0.97) | E9: м3 | F9: 2600 | G9: 1800 | H9: 850 | I9: =ROUND(G9+H9,0) -> 2650 | J9: =ROUND(F9*G9,0) -> 4680000 | K9: =ROUND(F9*H9,0) -> 2210000 | L9: =ROUND(J9+K9,0) -> 6890000 | M9: Объем с учетом коэффициента уплотнения песка.
A10: 1.3 | B10: Блок А | C10: Комплекс работ по устройству плиты пола производственно-складской части блока здания | D10: Укладка слоя утеплителя пеноплекс 45C по периметру, t=80, шириной 900 мм | E10: м2 | F10: 322 | G10: 400 | H10: 180 | I10: =ROUND(G10+H10,0) -> 580 | J10: =ROUND(F10*G10,0) -> 128800 | K10: =ROUND(F10*H10,0) -> 57960 | L10: =ROUND(J10+K10,0) -> 186760
A11: 1.4 | B11: Блок А | C11: Комплекс работ по устройству плиты пола производственно-складской части блока здания | D11: Штамповые испытания подстилающего слоя | E11: испыт. | F11: 22 | G11: 0 | H11: 60000 | I11: =ROUND(G11+H11,0) -> 60000 | J11: =ROUND(F11*G11,0) -> 0 | K11: =ROUND(F11*H11,0) -> 1320000 | L11: =ROUND(J11+K11,0) -> 1320000 | M11: Штамповые испытания с оформлением протокола.
A12: 1.5 | B12: Блок А | C12: Комплекс работ по устройству плиты пола производственно-складской части блока здания | D12: Укладка слоя геотекстиля 60 г/м2 | E12: м2 | F12: 23500 | G12: 25 | H12: 35 | I12: =ROUND(G12+H12,0) -> 60 | J12: =ROUND(F12*G12,0) -> 587500 | K12: =ROUND(F12*H12,0) -> 822500 | L12: =ROUND(J12+K12,0) -> 1410000 | M12: Объем с учетом перехлеста.
A13: 1.6 | B13: Блок А | C13: Комплекс работ по устройству плиты пола производственно-складской части блока здания | D13: Изоляция периметра и примыкания других конструкций швом в виде прослойки листового вспененного полиэтилена (изолона) 10 мм | E13: м2 | F13: 140 | G13: 180 | H13: 120 | I13: =ROUND(G13+H13,0) -> 300 | J13: =ROUND(F13*G13,0) -> 25200 | K13: =ROUND(F13*H13,0) -> 16800 | L13: =ROUND(J13+K13,0) -> 42000
A14: 1.7 | B14: Блок А | C14: Комплекс работ по устройству плиты пола производственно-складской части блока здания | D14: Армирование плиты пола арматурной сеткой ∅10 А500С, арматурой ∅8 А500С, штифты для компенсационного шва ∅16 А240 | E14: т | F14: 156.81 | G14: 75000 | H14: 28000 | I14: =ROUND(G14+H14,0) -> 103000 | J14: =ROUND(F14*G14,0) -> 11760750 | K14: =ROUND(F14*H14,0) -> 4390680 | L14: =ROUND(J14+K14,0) -> 16151430 | M14: Объем арматуры с учетом нахлеста 10%.
A15: 1.8 | B15: Блок А | C15: Комплекс работ по устройству плиты пола производственно-складской части блока здания | D15: Монтаж закладных деталей МН-1 , МН-2, МН-3, МН-4 | E15: т | F15: 1.67 | G15: 120000 | H15: 45000 | I15: =ROUND(G15+H15,0) -> 165000 | J15: =ROUND(F15*G15,0) -> 200400 | K15: =ROUND(F15*H15,0) -> 75150 | L15: =ROUND(J15+K15,0) -> 275550
A16: 1.9 | B16: Блок А | C16: Комплекс работ по устройству плиты пола производственно-складской части блока здания | D16: Антикоррозийная защита закладных деталей грунт-эмалью ПФ-115 по грунтовке ГФ-021 в 2 слоя | E16: к-т | F16: 1 | G16: 45000 | H16: 35000 | I16: =ROUND(G16+H16,0) -> 80000 | J16: =ROUND(F16*G16,0) -> 45000 | K16: =ROUND(F16*H16,0) -> 35000 | L16: =ROUND(J16+K16,0) -> 80000
A17: 1.10 | B17: Блок А | C17: Комплекс работ по устройству плиты пола производственно-складской части блока здания | D17: Установка в проектное положение несъемную металлическую опалубку Peikko Tera Joint TJ6-185-3000 или аналог | E17: пог. м | F17: 654 | G17: 3500 | H17: 950 | I17: =ROUND(G17+H17,0) -> 4450 | J17: =ROUND(F17*G17,0) -> 2289000 | K17: =ROUND(F17*H17,0) -> 621300 | L17: =ROUND(J17+K17,0) -> 2910300 | M17: Единица и объем приняты по исходной ведомости.
A18: 1.11 | B18: Блок А | C18: Комплекс работ по устройству плиты пола производственно-складской части блока здания | D18: Устройство бетонной плиты (B25 F100 W4) t=200 мм | E18: м3 | F18: 4425 | G18: 6500 | H18: 3000 | I18: =ROUND(G18+H18,0) -> 9500 | J18: =ROUND(F18*G18,0) -> 28762500 | K18: =ROUND(F18*H18,0) -> 13275000 | L18: =ROUND(J18+K18,0) -> 42037500 | M18: Бетонирование после прокладки инженерных сетей.
A19: 1.12 | B19: Блок А | C19: Комплекс работ по устройству плиты пола производственно-складской части блока здания | D19: Затирка поверхности бетона при помощи бетоноотделочных машин | E19: м2 | F19: 22125 | G19: 0 | H19: 180 | I19: =ROUND(G19+H19,0) -> 180 | J19: =ROUND(F19*G19,0) -> 0 | K19: =ROUND(F19*H19,0) -> 3982500 | L19: =ROUND(J19+K19,0) -> 3982500
A20: 1.13 | B20: Блок А | C20: Комплекс работ по устройству плиты пола производственно-складской части блока здания | D20: Нанесение упрочняющей смеси Sikafloor (или аналог) | E20: м2 | F20: 22125 | G20: 140 | H20: 140 | I20: =ROUND(G20+H20,0) -> 280 | J20: =ROUND(F20*G20,0) -> 3097500 | K20: =ROUND(F20*H20,0) -> 3097500 | L20: =ROUND(J20+K20,0) -> 6195000
A21: 1.14 | B21: Блок А | C21: Комплекс работ по устройству плиты пола производственно-складской части блока здания | D21: Нарезка усадочных швов (3х3), шириной не более 5 мм с последующим заполнением герметиком (твердостью по Шору А70) | E21: пог. м | F21: 14850 | G21: 130 | H21: 170 | I21: =ROUND(G21+H21,0) -> 300 | J21: =ROUND(F21*G21,0) -> 1930500 | K21: =ROUND(F21*H21,0) -> 2524500 | L21: =ROUND(J21+K21,0) -> 4455000
A22: 1.15 | B22: Блок А | C22: Комплекс работ по устройству плиты пола производственно-складской части блока здания | D22: Заделка деформационного шва утеплителем Пеноплэкс Основа t=80 | E22: м2 | F22: 66 | G22: 400 | H22: 180 | I22: =ROUND(G22+H22,0) -> 580 | J22: =ROUND(F22*G22,0) -> 26400 | K22: =ROUND(F22*H22,0) -> 11880 | L22: =ROUND(J22+K22,0) -> 38280
A23: 2 | B23: Блок А | D23: Комплекс работ по устройству плиты пола АБК в осях 1/4-1/5 | M23: 37-ИЧ/24/1-КЖ5-A
A24: 2.1 | B24: Блок А | C24: Комплекс работ по устройству плиты пола АБК в осях 1/4-1/5 | D24: Послойная отсыпка слоев основания h=300мм песком средней крупности (при согласовании местным грунтом) и уплотнением до К=0,97 | E24: м3 | F24: 1234 | G24: 1800 | H24: 850 | I24: =ROUND(G24+H24,0) -> 2650 | J24: =ROUND(F24*G24,0) -> 2221200 | K24: =ROUND(F24*H24,0) -> 1048900 | L24: =ROUND(J24+K24,0) -> 3270100
A25: 2.2 | B25: Блок А | C25: Комплекс работ по устройству плиты пола АБК в осях 1/4-1/5 | D25: Укладка слоя утеплителя Пеноплэкс Основа по периметру, t=80, шириной 1200 мм | E25: м2 | F25: 709 | G25: 400 | H25: 180 | I25: =ROUND(G25+H25,0) -> 580 | J25: =ROUND(F25*G25,0) -> 283600 | K25: =ROUND(F25*H25,0) -> 127620 | L25: =ROUND(J25+K25,0) -> 411220
A26: 2.3 | B26: Блок А | C26: Комплекс работ по устройству плиты пола АБК в осях 1/4-1/5 | D26: Укладка слоя полиэтиленовой пленки 60 мкм в 2 слоя | E26: м2 | F26: 6562 | G26: 45 | H26: 35 | I26: =ROUND(G26+H26,0) -> 80 | J26: =ROUND(F26*G26,0) -> 295290 | K26: =ROUND(F26*H26,0) -> 229670 | L26: =ROUND(J26+K26,0) -> 524960
A27: 2.4 | B27: Блок А | C27: Комплекс работ по устройству плиты пола АБК в осях 1/4-1/5 | D27: Изоляция периметра и примыкания других конструкций швом в виде прослойки листового вспененного полиэтилена (изолона) 10 мм | E27: м2 | F27: 199.1 | G27: 180 | H27: 120 | I27: =ROUND(G27+H27,0) -> 300 | J27: =ROUND(F27*G27,0) -> 35838 | K27: =ROUND(F27*H27,0) -> 23892 | L27: =ROUND(J27+K27,0) -> 59730
A28: 2.5 | B28: Блок А | C28: Комплекс работ по устройству плиты пола АБК в осях 1/4-1/5 | D28: Армирование плиты пола арматурной сеткой ∅10 А500С | E28: т | F28: 22.371 | G28: 75000 | H28: 28000 | I28: =ROUND(G28+H28,0) -> 103000 | J28: =ROUND(F28*G28,0) -> 1677825 | K28: =ROUND(F28*H28,0) -> 626388 | L28: =ROUND(J28+K28,0) -> 2304213 | M28: Объем арматуры с учетом нахлеста 10%.
A29: 2.6 | B29: Блок А | C29: Комплекс работ по устройству плиты пола АБК в осях 1/4-1/5 | D29: Устройство бетонной плиты (B25 F100 W4) t=100 мм | E29: м3 | F29: 325.8 | G29: 6500 | H29: 3000 | I29: =ROUND(G29+H29,0) -> 9500 | J29: =ROUND(F29*G29,0) -> 2117700 | K29: =ROUND(F29*H29,0) -> 977400 | L29: =ROUND(J29+K29,0) -> 3095100 | M29: Бетонирование после прокладки инженерных сетей.
A30: 2.7 | B30: Блок А | C30: Комплекс работ по устройству плиты пола АБК в осях 1/4-1/5 | D30: Затирка поверхности бетона при помощи бетоноотделочных машин | E30: м2 | F30: 1054 | G30: 0 | H30: 180 | I30: =ROUND(G30+H30,0) -> 180 | J30: =ROUND(F30*G30,0) -> 0 | K30: =ROUND(F30*H30,0) -> 189720 | L30: =ROUND(J30+K30,0) -> 189720
A31: 2.8 | B31: Блок А | C31: Комплекс работ по устройству плиты пола АБК в осях 1/4-1/5 | D31: Нанесение упрочняющего покрытия производства «Master Builders Solutions», «Durocem», «Sika» RAL7004 | E31: м2 | F31: 1054 | G31: 140 | H31: 140 | I31: =ROUND(G31+H31,0) -> 280 | J31: =ROUND(F31*G31,0) -> 147560 | K31: =ROUND(F31*H31,0) -> 147560 | L31: =ROUND(J31+K31,0) -> 295120
A32: 2.9 | B32: Блок А | C32: Комплекс работ по устройству плиты пола АБК в осях 1/4-1/5 | D32: Нарезка усадочных швов (3х3), шириной не более 5 мм с последующим заполнением герметиком (твердостью по Шору А70) | E32: м2 | F32: 1054 | G32: 130 | H32: 170 | I32: =ROUND(G32+H32,0) -> 300 | J32: =ROUND(F32*G32,0) -> 137020 | K32: =ROUND(F32*H32,0) -> 179180 | L32: =ROUND(J32+K32,0) -> 316200 | M32: Единица измерения принята по исходной ведомости.
A33: Блок U1.U2
A34: 3 | B34: Блок U1.U2 | D34: Комплекс работ по устройству плиты пола производственно-складской части блока здания | M34: 37-ИЧ/24/1-КЖ5-U1.U2
A35: 3.1 | B35: Блок U1.U2 | C35: Комплекс работ по устройству плиты пола производственно-складской части блока здания | D35: Послойная укладка геосетки Славрос СД-40 / 5 слоёв | E35: м2 | F35: 1387 | G35: 130 | H35: 90 | I35: =ROUND(G35+H35,0) -> 220 | J35: =ROUND(F35*G35,0) -> 180310 | K35: =ROUND(F35*H35,0) -> 124830 | L35: =ROUND(J35+K35,0) -> 305140
A36: 3.2 | B36: Блок U1.U2 | C36: Комплекс работ по устройству плиты пола производственно-складской части блока здания | D36: Песчаная подготовка (песок ср.крупности с коэф. уплотнения Кcom=0.97) | E36: м3 | F36: 800 | G36: 1800 | H36: 850 | I36: =ROUND(G36+H36,0) -> 2650 | J36: =ROUND(F36*G36,0) -> 1440000 | K36: =ROUND(F36*H36,0) -> 680000 | L36: =ROUND(J36+K36,0) -> 2120000 | M36: Объем с учетом коэффициента уплотнения песка.
A37: 3.3 | B37: Блок U1.U2 | C37: Комплекс работ по устройству плиты пола производственно-складской части блока здания | D37: Укладка слоя утеплителя пеноплекс 45C по периметру, t=80, шириной 900 мм | E37: м2 | F37: 245 | G37: 400 | H37: 180 | I37: =ROUND(G37+H37,0) -> 580 | J37: =ROUND(F37*G37,0) -> 98000 | K37: =ROUND(F37*H37,0) -> 44100 | L37: =ROUND(J37+K37,0) -> 142100
A38: 3.4 | B38: Блок U1.U2 | C38: Комплекс работ по устройству плиты пола производственно-складской части блока здания | D38: Штамповые испытания подстилающего слоя | E38: испыт. | F38: 6 | G38: 0 | H38: 60000 | I38: =ROUND(G38+H38,0) -> 60000 | J38: =ROUND(F38*G38,0) -> 0 | K38: =ROUND(F38*H38,0) -> 360000 | L38: =ROUND(J38+K38,0) -> 360000 | M38: Количество принято по норме PDF: не менее 1 испытания на 1000 м2.
A39: 3.5 | B39: Блок U1.U2 | C39: Комплекс работ по устройству плиты пола производственно-складской части блока здания | D39: Укладка слоя геотекстиля 60 г/м2 | E39: м2 | F39: 6500 | G39: 25 | H39: 35 | I39: =ROUND(G39+H39,0) -> 60 | J39: =ROUND(F39*G39,0) -> 162500 | K39: =ROUND(F39*H39,0) -> 227500 | L39: =ROUND(J39+K39,0) -> 390000 | M39: Объем с учетом перехлеста.
A40: 3.6 | B40: Блок U1.U2 | C40: Комплекс работ по устройству плиты пола производственно-складской части блока здания | D40: Изоляция периметра и примыкания других конструкций швом в виде прослойки листового вспененного полиэтилена (изолона) 10 мм | E40: м2 | F40: 80 | G40: 180 | H40: 120 | I40: =ROUND(G40+H40,0) -> 300 | J40: =ROUND(F40*G40,0) -> 14400 | K40: =ROUND(F40*H40,0) -> 9600 | L40: =ROUND(J40+K40,0) -> 24000
A41: 3.7 | B41: Блок U1.U2 | C41: Комплекс работ по устройству плиты пола производственно-складской части блока здания | D41: Армирование плиты пола арматурной сеткой ∅10 А500С, арматурой ∅8 А500С, штифты для компенсационного шва ∅16 А240 | E41: т | F41: 62.6 | G41: 75000 | H41: 28000 | I41: =ROUND(G41+H41,0) -> 103000 | J41: =ROUND(F41*G41,0) -> 4695000 | K41: =ROUND(F41*H41,0) -> 1752800 | L41: =ROUND(J41+K41,0) -> 6447800
A42: 3.8 | B42: Блок U1.U2 | C42: Комплекс работ по устройству плиты пола производственно-складской части блока здания | D42: Монтаж закладных деталей МН-1 , МН-2, МН-3, МН-4, МН-5, МН-6, МН-7 | E42: т | F42: 0.21 | G42: 120000 | H42: 45000 | I42: =ROUND(G42+H42,0) -> 165000 | J42: =ROUND(F42*G42,0) -> 25200 | K42: =ROUND(F42*H42,0) -> 9450 | L42: =ROUND(J42+K42,0) -> 34650
A43: 3.9 | B43: Блок U1.U2 | C43: Комплекс работ по устройству плиты пола производственно-складской части блока здания | D43: Монтаж деталей полов Д1, из арматуры ∅8 А500С, Д2, Д3, Д4 из арматуры ∅10 А500С | E43: т | F43: 8.58 | G43: 75000 | H43: 28000 | I43: =ROUND(G43+H43,0) -> 103000 | J43: =ROUND(F43*G43,0) -> 643500 | K43: =ROUND(F43*H43,0) -> 240240 | L43: =ROUND(J43+K43,0) -> 883740 | M43: Детали Д1-Д4 по исходной ведомости.
A44: 3.10 | B44: Блок U1.U2 | C44: Комплекс работ по устройству плиты пола производственно-складской части блока здания | D44: Антикоррозийная защита закладных деталей грунт-эмалью ПФ-115 по грунтовке ГФ-021 в 2 слоя | E44: к-т | F44: 1 | G44: 45000 | H44: 35000 | I44: =ROUND(G44+H44,0) -> 80000 | J44: =ROUND(F44*G44,0) -> 45000 | K44: =ROUND(F44*H44,0) -> 35000 | L44: =ROUND(J44+K44,0) -> 80000
A45: 3.11 | B45: Блок U1.U2 | C45: Комплекс работ по устройству плиты пола производственно-складской части блока здания | D45: Установка в проектное положение несъемную металлическую опалубку Peikko Tera Joint TJ6-185-3000 или аналог | E45: пог. м | F45: 189.7 | G45: 3500 | H45: 950 | I45: =ROUND(G45+H45,0) -> 4450 | J45: =ROUND(F45*G45,0) -> 663950 | K45: =ROUND(F45*H45,0) -> 180215 | L45: =ROUND(J45+K45,0) -> 844165 | M45: Объем принят по исходной ведомости.
A46: 3.12 | B46: Блок U1.U2 | C46: Комплекс работ по устройству плиты пола производственно-складской части блока здания | D46: Устройство бетонной плиты (B25 F100 W4) t=200 мм | E46: м3 | F46: 1083 | G46: 6500 | H46: 3000 | I46: =ROUND(G46+H46,0) -> 9500 | J46: =ROUND(F46*G46,0) -> 7039500 | K46: =ROUND(F46*H46,0) -> 3249000 | L46: =ROUND(J46+K46,0) -> 10288500 | M46: Объем принят по проектной документации.
A47: 3.13 | B47: Блок U1.U2 | C47: Комплекс работ по устройству плиты пола производственно-складской части блока здания | D47: Затирка поверхности бетона при помощи бетоноотделочных машин | E47: м2 | F47: 5416 | G47: 0 | H47: 180 | I47: =ROUND(G47+H47,0) -> 180 | J47: =ROUND(F47*G47,0) -> 0 | K47: =ROUND(F47*H47,0) -> 974880 | L47: =ROUND(J47+K47,0) -> 974880
A48: 3.14 | B48: Блок U1.U2 | C48: Комплекс работ по устройству плиты пола производственно-складской части блока здания | D48: Нанесение упрочняющей смеси Sikafloor (или аналог) | E48: м2 | F48: 5416 | G48: 140 | H48: 140 | I48: =ROUND(G48+H48,0) -> 280 | J48: =ROUND(F48*G48,0) -> 758240 | K48: =ROUND(F48*H48,0) -> 758240 | L48: =ROUND(J48+K48,0) -> 1516480
A49: 3.15 | B49: Блок U1.U2 | C49: Комплекс работ по устройству плиты пола производственно-складской части блока здания | D49: Нарезка усадочных швов (6х6), шириной не более 5 мм с последующим заполнением герметиком (твердостью по Шору А70) | E49: пог. м | F49: 1848 | G49: 130 | H49: 170 | I49: =ROUND(G49+H49,0) -> 300 | J49: =ROUND(F49*G49,0) -> 240240 | K49: =ROUND(F49*H49,0) -> 314160 | L49: =ROUND(J49+K49,0) -> 554400 | M49: Карта швов по PDF U1.U2: не более 6х6 м.
A50: 3.16 | B50: Блок U1.U2 | C50: Комплекс работ по устройству плиты пола производственно-складской части блока здания | D50: Заделка деформационного шва утеплителем Пеноплэкс Основа/аналог t=20 | E50: м2 | F50: 22 | G50: 120 | H50: 150 | I50: =ROUND(G50+H50,0) -> 270 | J50: =ROUND(F50*G50,0) -> 2640 | K50: =ROUND(F50*H50,0) -> 3300 | L50: =ROUND(J50+K50,0) -> 5940 | M50: Толщина утеплителя по PDF U1.U2: t=20 мм.
A51: 3.17 | B51: Блок U1.U2 | C51: Комплекс работ по устройству плиты пола производственно-складской части блока здания | D51: Установка металлического щита Щ-1 в приямке в составе: | E51: шт. | F51: 2 | G51: 0 | H51: 4500 | I51: =ROUND(G51+H51,0) -> 4500 | J51: =ROUND(F51*G51,0) -> 0 | K51: =ROUND(F51*H51,0) -> 9000 | L51: =ROUND(J51+K51,0) -> 9000 | M51: В строке учтен монтаж щита; материалы указаны ниже.
B52: Блок U1.U2 | C52: Комплекс работ по устройству плиты пола производственно-складской части блока здания | D52: Арматура ∅12 A240 L=320 | E52: кг | F52: 0.56 | G52: 130 | H52: 65 | I52: =ROUND(G52+H52,0) -> 195 | J52: =ROUND(F52*G52,0) -> 73 | K52: =ROUND(F52*H52,0) -> 36 | L52: =ROUND(J52+K52,0) -> 109
B53: Блок U1.U2 | C53: Комплекс работ по устройству плиты пола производственно-складской части блока здания | D53: Гайка М12 | E53: кг | F53: 0.06 | G53: 180 | H53: 60 | I53: =ROUND(G53+H53,0) -> 240 | J53: =ROUND(F53*G53,0) -> 11 | K53: =ROUND(F53*H53,0) -> 4 | L53: =ROUND(J53+K53,0) -> 15
B54: Блок U1.U2 | C54: Комплекс работ по устройству плиты пола производственно-складской части блока здания | D54: Уголок 35х35х4 ГОСТ 8509-93 С255 ГОСТ 27772-2021 L=390 | E54: кг | F54: 1.64 | G54: 130 | H54: 65 | I54: =ROUND(G54+H54,0) -> 195 | J54: =ROUND(F54*G54,0) -> 213 | K54: =ROUND(F54*H54,0) -> 107 | L54: =ROUND(J54+K54,0) -> 320
B55: Блок U1.U2 | C55: Комплекс работ по устройству плиты пола производственно-складской части блока здания | D55: Уголок 35х35х4 ГОСТ 8509-93 С255 ГОСТ 27772-2021 L=380 | E55: кг | F55: 1.6 | G55: 130 | H55: 65 | I55: =ROUND(G55+H55,0) -> 195 | J55: =ROUND(F55*G55,0) -> 208 | K55: =ROUND(F55*H55,0) -> 104 | L55: =ROUND(J55+K55,0) -> 312
B56: Блок U1.U2 | C56: Комплекс работ по устройству плиты пола производственно-складской части блока здания | D56: Лист ромб В-К-ПУ-3x420x430 С255 ГОСТ 27772-2021 | E56: кг | F56: 4.53 | G56: 130 | H56: 65 | I56: =ROUND(G56+H56,0) -> 195 | J56: =ROUND(F56*G56,0) -> 589 | K56: =ROUND(F56*H56,0) -> 294 | L56: =ROUND(J56+K56,0) -> 883
A57: 3.18 | B57: Блок U1.U2 | C57: Комплекс работ по устройству плиты пола производственно-складской части блока здания | D57: Гидроизоляция поверхности битумно-полимерной мастикой в два слоя | E57: м2 | F57: 73 | G57: 180 | H57: 250 | I57: =ROUND(G57+H57,0) -> 430 | J57: =ROUND(F57*G57,0) -> 13140 | K57: =ROUND(F57*H57,0) -> 18250 | L57: =ROUND(J57+K57,0) -> 31390
A58: 4 | B58: Блок U1.U2 | D58: Комплекс работ по устройству плиты пола АБК в осях 3-7 | M58: 37-ИЧ/24/1-КЖ5-U1.U2
A59: 4.1 | B59: Блок U1.U2 | C59: Комплекс работ по устройству плиты пола АБК в осях 3-7 | D59: Послойная отсыпка слоев основания h=520мм песком средней крупности (при согласовании местным грунтом) и уплотнением до К=0,97 | E59: м3 | F59: 162 | G59: 1800 | H59: 850 | I59: =ROUND(G59+H59,0) -> 2650 | J59: =ROUND(F59*G59,0) -> 291600 | K59: =ROUND(F59*H59,0) -> 137700 | L59: =ROUND(J59+K59,0) -> 429300 | M59: Объем принят по исходной ведомости.
A60: 4.2 | B60: Блок U1.U2 | C60: Комплекс работ по устройству плиты пола АБК в осях 3-7 | D60: Укладка слоя утеплителя Пеноплэкс Основа по периметру, t=80, шириной 1200 мм | E60: м2 | F60: 39.5 | G60: 400 | H60: 180 | I60: =ROUND(G60+H60,0) -> 580 | J60: =ROUND(F60*G60,0) -> 15800 | K60: =ROUND(F60*H60,0) -> 7110 | L60: =ROUND(J60+K60,0) -> 22910
A61: 4.3 | B61: Блок U1.U2 | C61: Комплекс работ по устройству плиты пола АБК в осях 3-7 | D61: Укладка слоя геотекстиля 60 г/м2 | E61: м2 | F61: 320 | G61: 25 | H61: 35 | I61: =ROUND(G61+H61,0) -> 60 | J61: =ROUND(F61*G61,0) -> 8000 | K61: =ROUND(F61*H61,0) -> 11200 | L61: =ROUND(J61+K61,0) -> 19200
A62: 4.4 | B62: Блок U1.U2 | C62: Комплекс работ по устройству плиты пола АБК в осях 3-7 | D62: Изоляция периметра и примыкания других конструкций швом в виде прослойки листового вспененного полиэтилена (изолона) 10 мм | E62: м2 | F62: 12 | G62: 180 | H62: 120 | I62: =ROUND(G62+H62,0) -> 300 | J62: =ROUND(F62*G62,0) -> 2160 | K62: =ROUND(F62*H62,0) -> 1440 | L62: =ROUND(J62+K62,0) -> 3600
A63: 4.5 | B63: Блок U1.U2 | C63: Комплекс работ по устройству плиты пола АБК в осях 3-7 | D63: Армирование плиты пола арматурной сеткой ∅10 А500С | E63: т | F63: 2.18 | G63: 75000 | H63: 28000 | I63: =ROUND(G63+H63,0) -> 103000 | J63: =ROUND(F63*G63,0) -> 163500 | K63: =ROUND(F63*H63,0) -> 61040 | L63: =ROUND(J63+K63,0) -> 224540
A64: 4.6 | B64: Блок U1.U2 | C64: Комплекс работ по устройству плиты пола АБК в осях 3-7 | D64: Устройство бетонной плиты (B25 F100 W4) t=100 мм | E64: м3 | F64: 32 | G64: 6500 | H64: 3000 | I64: =ROUND(G64+H64,0) -> 9500 | J64: =ROUND(F64*G64,0) -> 208000 | K64: =ROUND(F64*H64,0) -> 96000 | L64: =ROUND(J64+K64,0) -> 304000 | M64: Бетонирование после прокладки инженерных сетей.
A65: 4.7 | B65: Блок U1.U2 | C65: Комплекс работ по устройству плиты пола АБК в осях 3-7 | D65: Затирка поверхности бетона при помощи бетоноотделочных машин | E65: м2 | F65: 320 | G65: 0 | H65: 180 | I65: =ROUND(G65+H65,0) -> 180 | J65: =ROUND(F65*G65,0) -> 0 | K65: =ROUND(F65*H65,0) -> 57600 | L65: =ROUND(J65+K65,0) -> 57600
A66: Блок U3.U4
A67: 5 | B67: Блок U3.U4 | D67: Комплекс работ по устройству плиты пола производственно-складской части блока здания | M67: 37-ИЧ/24/1-КЖ5-U3.U4
A68: 5.1 | B68: Блок U3.U4 | C68: Комплекс работ по устройству плиты пола производственно-складской части блока здания | D68: Уплотнение грунта основания | E68: м2 | F68: 4400 | G68: 0 | H68: 0 | I68: =ROUND(G68+H68,0) -> 0 | J68: =ROUND(F68*G68,0) -> 0 | K68: =ROUND(F68*H68,0) -> 0 | L68: =ROUND(J68+K68,0) -> 0 | M68: Исключено по исходной ведомости.
A69: 5.2 | B69: Блок U3.U4 | C69: Комплекс работ по устройству плиты пола производственно-складской части блока здания | D69: Стабилизация грунтов ресайклером с добавлением портландцемента М500 из расчета 40 кг/м2, t= 350 мм | E69: м2 | F69: 4400 | G69: 0 | H69: 0 | I69: =ROUND(G69+H69,0) -> 0 | J69: =ROUND(F69*G69,0) -> 0 | K69: =ROUND(F69*H69,0) -> 0 | L69: =ROUND(J69+K69,0) -> 0 | M69: Исключено по исходной ведомости.
A70: 5.3 | B70: Блок U3.U4 | C70: Комплекс работ по устройству плиты пола производственно-складской части блока здания | D70: Выемка грунта под устройство песчанного основания на глубину до 500мм | E70: м3 | F70: 700 | G70: 0 | H70: 850 | I70: =ROUND(G70+H70,0) -> 850 | J70: =ROUND(F70*G70,0) -> 0 | K70: =ROUND(F70*H70,0) -> 595000 | L70: =ROUND(J70+K70,0) -> 595000 | M70: Вывоз в отвал в границах площадки, без утилизации.
A71: 5.4 | B71: Блок U3.U4 | C71: Комплекс работ по устройству плиты пола производственно-складской части блока здания | D71: Послойная укладка геосетки Славрос СД-40 /5 слоёв | E71: м2 | F71: 811 | G71: 130 | H71: 90 | I71: =ROUND(G71+H71,0) -> 220 | J71: =ROUND(F71*G71,0) -> 105430 | K71: =ROUND(F71*H71,0) -> 72990 | L71: =ROUND(J71+K71,0) -> 178420
A72: 5.5 | B72: Блок U3.U4 | C72: Комплекс работ по устройству плиты пола производственно-складской части блока здания | D72: Послойная отсыпка слоев основания h=500мм песком средней крупности (при согласовании местным грунтом) и уплотнением до К=0,97 | E72: м3 | F72: 2500 | G72: 1800 | H72: 850 | I72: =ROUND(G72+H72,0) -> 2650 | J72: =ROUND(F72*G72,0) -> 4500000 | K72: =ROUND(F72*H72,0) -> 2125000 | L72: =ROUND(J72+K72,0) -> 6625000 | M72: Объем песка принят с учетом замещения грунта.
A73: 5.6 | B73: Блок U3.U4 | C73: Комплекс работ по устройству плиты пола производственно-складской части блока здания | D73: Укладка слоя утеплителя пеноплекс 45C по периметру, t=80, шириной 900 мм | E73: м2 | F73: 223 | G73: 400 | H73: 180 | I73: =ROUND(G73+H73,0) -> 580 | J73: =ROUND(F73*G73,0) -> 89200 | K73: =ROUND(F73*H73,0) -> 40140 | L73: =ROUND(J73+K73,0) -> 129340
A74: 5.7 | B74: Блок U3.U4 | C74: Комплекс работ по устройству плиты пола производственно-складской части блока здания | D74: Штамповые испытания подстилающего слоя | E74: испыт. | F74: 4 | G74: 0 | H74: 60000 | I74: =ROUND(G74+H74,0) -> 60000 | J74: =ROUND(F74*G74,0) -> 0 | K74: =ROUND(F74*H74,0) -> 240000 | L74: =ROUND(J74+K74,0) -> 240000 | M74: Штамповые испытания с оформлением протокола.
A75: 5.8 | B75: Блок U3.U4 | C75: Комплекс работ по устройству плиты пола производственно-складской части блока здания | D75: Укладка слоя геотекстиля 60 г/м2 | E75: м2 | F75: 4400 | G75: 25 | H75: 35 | I75: =ROUND(G75+H75,0) -> 60 | J75: =ROUND(F75*G75,0) -> 110000 | K75: =ROUND(F75*H75,0) -> 154000 | L75: =ROUND(J75+K75,0) -> 264000
A76: 5.9 | B76: Блок U3.U4 | C76: Комплекс работ по устройству плиты пола производственно-складской части блока здания | D76: Изоляция периметра и примыкания других конструкций швом в виде прослойки листового вспененного полиэтилена (изолона) 10 мм | E76: м2 | F76: 75 | G76: 180 | H76: 120 | I76: =ROUND(G76+H76,0) -> 300 | J76: =ROUND(F76*G76,0) -> 13500 | K76: =ROUND(F76*H76,0) -> 9000 | L76: =ROUND(J76+K76,0) -> 22500
A77: 5.10 | B77: Блок U3.U4 | C77: Комплекс работ по устройству плиты пола производственно-складской части блока здания | D77: Армирование плиты пола арматурной сеткой ∅10 А500С, арматурой ∅8 А500С, штифты для компенсационного шва ∅16 А240 | E77: т | F77: 50.79 | G77: 75000 | H77: 28000 | I77: =ROUND(G77+H77,0) -> 103000 | J77: =ROUND(F77*G77,0) -> 3809250 | K77: =ROUND(F77*H77,0) -> 1422120 | L77: =ROUND(J77+K77,0) -> 5231370
A78: 5.11 | B78: Блок U3.U4 | C78: Комплекс работ по устройству плиты пола производственно-складской части блока здания | D78: Монтаж закладных деталей МН-1 , МН-2, МН-3, МН-4 | E78: т | F78: 0.1796 | G78: 120000 | H78: 45000 | I78: =ROUND(G78+H78,0) -> 165000 | J78: =ROUND(F78*G78,0) -> 21552 | K78: =ROUND(F78*H78,0) -> 8082 | L78: =ROUND(J78+K78,0) -> 29634
A79: 5.12 | B79: Блок U3.U4 | C79: Комплекс работ по устройству плиты пола производственно-складской части блока здания | D79: Монтаж деталей полов Д1 из арматуры ∅8 А500С; Д2 из арматуры ∅10 А500С | E79: т | F79: 6.97 | G79: 75000 | H79: 28000 | I79: =ROUND(G79+H79,0) -> 103000 | J79: =ROUND(F79*G79,0) -> 522750 | K79: =ROUND(F79*H79,0) -> 195160 | L79: =ROUND(J79+K79,0) -> 717910 | M79: Детали Д1-Д2 по исходной ведомости.
A80: 5.13 | B80: Блок U3.U4 | C80: Комплекс работ по устройству плиты пола производственно-складской части блока здания | D80: Антикоррозийная защита закладных деталей грунт-эмалью ПФ-115 по грунтовке ГФ-021 в 2 слоя | E80: к-т | F80: 1 | G80: 45000 | H80: 35000 | I80: =ROUND(G80+H80,0) -> 80000 | J80: =ROUND(F80*G80,0) -> 45000 | K80: =ROUND(F80*H80,0) -> 35000 | L80: =ROUND(J80+K80,0) -> 80000
A81: 5.14 | B81: Блок U3.U4 | C81: Комплекс работ по устройству плиты пола производственно-складской части блока здания | D81: Установка в проектное положение несъемную металлическую опалубку Peikko Tera Joint TJ6-185-3000 или аналог | E81: пог. м | F81: 165 | G81: 3500 | H81: 950 | I81: =ROUND(G81+H81,0) -> 4450 | J81: =ROUND(F81*G81,0) -> 577500 | K81: =ROUND(F81*H81,0) -> 156750 | L81: =ROUND(J81+K81,0) -> 734250 | M81: Единица и объем приняты по исходной ведомости.
A82: 5.15 | B82: Блок U3.U4 | C82: Комплекс работ по устройству плиты пола производственно-складской части блока здания | D82: Устройство бетонной плиты (B25 F100 W4) t=200 мм | E82: м3 | F82: 880 | G82: 6500 | H82: 3000 | I82: =ROUND(G82+H82,0) -> 9500 | J82: =ROUND(F82*G82,0) -> 5720000 | K82: =ROUND(F82*H82,0) -> 2640000 | L82: =ROUND(J82+K82,0) -> 8360000 | M82: Объем принят по проектной документации.
A83: 5.16 | B83: Блок U3.U4 | C83: Комплекс работ по устройству плиты пола производственно-складской части блока здания | D83: Затирка поверхности бетона при помощи бетоноотделочных машин | E83: м2 | F83: 4400 | G83: 0 | H83: 180 | I83: =ROUND(G83+H83,0) -> 180 | J83: =ROUND(F83*G83,0) -> 0 | K83: =ROUND(F83*H83,0) -> 792000 | L83: =ROUND(J83+K83,0) -> 792000
A84: 5.17 | B84: Блок U3.U4 | C84: Комплекс работ по устройству плиты пола производственно-складской части блока здания | D84: Нанесение упрочняющей смеси Sikafloor (или аналог) | E84: м2 | F84: 4400 | G84: 140 | H84: 140 | I84: =ROUND(G84+H84,0) -> 280 | J84: =ROUND(F84*G84,0) -> 616000 | K84: =ROUND(F84*H84,0) -> 616000 | L84: =ROUND(J84+K84,0) -> 1232000
A85: 5.18 | B85: Блок U3.U4 | C85: Комплекс работ по устройству плиты пола производственно-складской части блока здания | D85: Нарезка усадочных швов (3х3), шириной не более 5 мм с последующим заполнением герметиком (твердостью по Шору А70) | E85: пог. м | F85: 1920 | G85: 130 | H85: 170 | I85: =ROUND(G85+H85,0) -> 300 | J85: =ROUND(F85*G85,0) -> 249600 | K85: =ROUND(F85*H85,0) -> 326400 | L85: =ROUND(J85+K85,0) -> 576000 | M85: Объем принят по проектной документации.
A86: 5.19 | B86: Блок U3.U4 | C86: Комплекс работ по устройству плиты пола производственно-складской части блока здания | D86: Заделка деформационного шва утеплителем Пеноплэкс Основа t=80 | E86: м2 | F86: 20 | G86: 400 | H86: 180 | I86: =ROUND(G86+H86,0) -> 580 | J86: =ROUND(F86*G86,0) -> 8000 | K86: =ROUND(F86*H86,0) -> 3600 | L86: =ROUND(J86+K86,0) -> 11600
A87: 6 | B87: Блок U3.U4 | D87: Комплекс работ по устройству плиты пола АБК в осях 3-7 | M87: 37-ИЧ/24/1-КЖ5-U3.U4
A88: 6.1 | B88: Блок U3.U4 | C88: Комплекс работ по устройству плиты пола АБК в осях 3-7 | D88: Послойная отсыпка слоев основания h=520мм песком средней крупности (при согласовании местным грунтом) и уплотнением до К=0,97 | E88: м3 | F88: 124 | G88: 1800 | H88: 850 | I88: =ROUND(G88+H88,0) -> 2650 | J88: =ROUND(F88*G88,0) -> 223200 | K88: =ROUND(F88*H88,0) -> 105400 | L88: =ROUND(J88+K88,0) -> 328600
A89: 6.2 | B89: Блок U3.U4 | C89: Комплекс работ по устройству плиты пола АБК в осях 3-7 | D89: Укладка слоя утеплителя Пеноплэкс Основа по периметру, t=80, шириной 1200 мм | E89: м2 | F89: 39.5 | G89: 400 | H89: 180 | I89: =ROUND(G89+H89,0) -> 580 | J89: =ROUND(F89*G89,0) -> 15800 | K89: =ROUND(F89*H89,0) -> 7110 | L89: =ROUND(J89+K89,0) -> 22910
A90: 6.3 | B90: Блок U3.U4 | C90: Комплекс работ по устройству плиты пола АБК в осях 3-7 | D90: Укладка слоя геотекстиля 60 г/м2 | E90: м2 | F90: 320 | G90: 25 | H90: 35 | I90: =ROUND(G90+H90,0) -> 60 | J90: =ROUND(F90*G90,0) -> 8000 | K90: =ROUND(F90*H90,0) -> 11200 | L90: =ROUND(J90+K90,0) -> 19200
A91: 6.4 | B91: Блок U3.U4 | C91: Комплекс работ по устройству плиты пола АБК в осях 3-7 | D91: Изоляция периметра и примыкания других конструкций швом в виде прослойки листового вспененного полиэтилена (изолона) 10 мм | E91: м2 | F91: 12 | G91: 180 | H91: 120 | I91: =ROUND(G91+H91,0) -> 300 | J91: =ROUND(F91*G91,0) -> 2160 | K91: =ROUND(F91*H91,0) -> 1440 | L91: =ROUND(J91+K91,0) -> 3600
A92: 6.5 | B92: Блок U3.U4 | C92: Комплекс работ по устройству плиты пола АБК в осях 3-7 | D92: Армирование плиты пола арматурной сеткой ∅10 А500С | E92: т | F92: 2.18 | G92: 75000 | H92: 28000 | I92: =ROUND(G92+H92,0) -> 103000 | J92: =ROUND(F92*G92,0) -> 163500 | K92: =ROUND(F92*H92,0) -> 61040 | L92: =ROUND(J92+K92,0) -> 224540
A93: 6.6 | B93: Блок U3.U4 | C93: Комплекс работ по устройству плиты пола АБК в осях 3-7 | D93: Устройство бетонной плиты (B25 F100 W4) t=100 мм | E93: м3 | F93: 48 | G93: 6500 | H93: 3000 | I93: =ROUND(G93+H93,0) -> 9500 | J93: =ROUND(F93*G93,0) -> 312000 | K93: =ROUND(F93*H93,0) -> 144000 | L93: =ROUND(J93+K93,0) -> 456000 | M93: Объем принят по проектной документации.
A94: 6.7 | B94: Блок U3.U4 | C94: Комплекс работ по устройству плиты пола АБК в осях 3-7 | D94: Затирка поверхности бетона при помощи бетоноотделочных машин | E94: м2 | F94: 320 | G94: 0 | H94: 180 | I94: =ROUND(G94+H94,0) -> 180 | J94: =ROUND(F94*G94,0) -> 0 | K94: =ROUND(F94*H94,0) -> 57600 | L94: =ROUND(J94+K94,0) -> 57600
A95: Блок КПП
A96: 7 | B96: Блок КПП | D96: Комплекс работ по устройству плиты пола КПП | M96: 37-ИЧ/24/1-КЖ,КМ-КПП
A97: 7.1 | B97: Блок КПП | C97: Комплекс работ по устройству плиты пола КПП | D97: Уплотнение грунта основания | E97: м2 | F97: 43.24 | G97: 0 | H97: 90 | I97: =ROUND(G97+H97,0) -> 90 | J97: =ROUND(F97*G97,0) -> 0 | K97: =ROUND(F97*H97,0) -> 3892 | L97: =ROUND(J97+K97,0) -> 3892
A98: 7.2 | B98: Блок КПП | C98: Комплекс работ по устройству плиты пола КПП | D98: Песчаная подготовка толщиной не менее 300 мм (песок ср.крупности с коэф. уплотнения Кcom=0.97) | E98: м3 | F98: 12.972 | G98: 1800 | H98: 850 | I98: =ROUND(G98+H98,0) -> 2650 | J98: =ROUND(F98*G98,0) -> 23350 | K98: =ROUND(F98*H98,0) -> 11026 | L98: =ROUND(J98+K98,0) -> 34376
A99: 7.3 | B99: Блок КПП | C99: Комплекс работ по устройству плиты пола КПП | D99: Гидроизоляция поверхности профилированной мембраной PLANTER STANDARD | E99: м2 | F99: 55 | G99: 180 | H99: 170 | I99: =ROUND(G99+H99,0) -> 350 | J99: =ROUND(F99*G99,0) -> 9900 | K99: =ROUND(F99*H99,0) -> 9350 | L99: =ROUND(J99+K99,0) -> 19250 | M99: Материал Planter Standard или аналог.
A100: 7.4 | B100: Блок КПП | C100: Комплекс работ по устройству плиты пола КПП | D100: Послойная отсыпка слоев основания h=200мм песком средней крупности (при согласовании местным грунтом) и уплотнением до К=0,97 | E100: м3 | F100: 15 | G100: 1800 | H100: 850 | I100: =ROUND(G100+H100,0) -> 2650 | J100: =ROUND(F100*G100,0) -> 27000 | K100: =ROUND(F100*H100,0) -> 12750 | L100: =ROUND(J100+K100,0) -> 39750 | M100: Объем принят по проектной документации.
A101: 7.5 | B101: Блок КПП | C101: Комплекс работ по устройству плиты пола КПП | D101: Укладка слоя утеплителя Пеноплекс Основа, вдоль фундамента t=80 | E101: м2 | F101: 28 | G101: 400 | H101: 180 | I101: =ROUND(G101+H101,0) -> 580 | J101: =ROUND(F101*G101,0) -> 11200 | K101: =ROUND(F101*H101,0) -> 5040 | L101: =ROUND(J101+K101,0) -> 16240 | M101: Объем принят по проектной документации.
...

Sheet Перекрытия
A1: Коммерческая смета. Плиты перекрытия
A2: Объект: Производственно-складской комплекс «Цифровой промышленный коворкинг Индастриал Сити «Дмитровский I», Московская область, Дмитровский район, г/п Икша, д. Спас-Каменка
A3: Коммерческие расценки, Москва и Московская область, дата составления 12.05.2026. Цены указаны в рублях, НДС не выделен.
A5: № | B5: Блок | C5: Раздел | D5: Наименование работ, материалов, оборудования | E5: Тип, марка | F5: Ед. изм. | G5: Кол-во | H5: Материалы, руб./ед. | I5: Работа и механизация, руб./ед. | J5: Итого, руб./ед. | K5: Материалы, руб. | L5: Работа и механизация, руб. | M5: Итого, руб. | N5: Примечание
A6: Блок А ПЛИТЫ ПЕРЕКРЫТИЯ
A7: 9 | B7: Блок А ПЛИТЫ ПЕРЕКРЫТИЯ | D7: Плита перекрытия | N7: 37-ИЧ/24/1-КЖ6-А изм.1
A8: 9.1 | B8: Блок А ПЛИТЫ ПЕРЕКРЫТИЯ | C8: Плита перекрытия | D8: В25, W6, F150 | E8: ГОСТ 7473-2010 | F8: м3 | G8: 105 | H8: 7000 | I8: 3200 | J8: =ROUND(H8+I8,0) -> 10200 | K8: =ROUND(G8*H8,0) -> 735000 | L8: =ROUND(G8*I8,0) -> 336000 | M8: =ROUND(K8+L8,0) -> 1071000 | N8: Объем принят по проектной документации.
A9: 9.2 | B9: Блок А ПЛИТЫ ПЕРЕКРЫТИЯ | C9: Плита перекрытия | D9: В30, W6, F150 | E9: ГОСТ 7473-2010 | F9: м3 | G9: 429 | H9: 7000 | I9: 3300 | J9: =ROUND(H9+I9,0) -> 10300 | K9: =ROUND(G9*H9,0) -> 3003000 | L9: =ROUND(G9*I9,0) -> 1415700 | M9: =ROUND(K9+L9,0) -> 4418700 | N9: Объем принят по проектной документации.
A10: 9.3 | B10: Блок А ПЛИТЫ ПЕРЕКРЫТИЯ | C10: Плита перекрытия | D10: Профилированный лист Н114-750-0,7 | E10: СТО 57398459-18-2006 | F10: кг | G10: 35792 | H10: 130 | I10: 65 | J10: =ROUND(H10+I10,0) -> 195 | K10: =ROUND(G10*H10,0) -> 4652960 | L10: =ROUND(G10*I10,0) -> 2326480 | M10: =ROUND(K10+L10,0) -> 6979440
B11: Блок А ПЛИТЫ ПЕРЕКРЫТИЯ | D11: Изделия Арматурные
A12: 9.4 | B12: Блок А ПЛИТЫ ПЕРЕКРЫТИЯ | C12: Изделия Арматурные | D12: ∅10 А500С | E12: ГОСТ 34028-2016 | F12: т | G12: 22.18076 | H12: 75000 | I12: 28000 | J12: =ROUND(H12+I12,0) -> 103000 | K12: =ROUND(G12*H12,0) -> 1663557 | L12: =ROUND(G12*I12,0) -> 621061 | M12: =ROUND(K12+L12,0) -> 2284618
A13: 9.6 | B13: Блок А ПЛИТЫ ПЕРЕКРЫТИЯ | C13: Изделия Арматурные | D13: ∅12 А500С | E13: ГОСТ 34028-2016 | F13: т | G13: 9.23427 | H13: 75000 | I13: 28000 | J13: =ROUND(H13+I13,0) -> 103000 | K13: =ROUND(G13*H13,0) -> 692570 | L13: =ROUND(G13*I13,0) -> 258560 | M13: =ROUND(K13+L13,0) -> 951130
A14: 9.7 | B14: Блок А ПЛИТЫ ПЕРЕКРЫТИЯ | C14: Изделия Арматурные | D14: ∅16 А500С | E14: ГОСТ 34028-2016 | F14: т | G14: 17.94766 | H14: 75000 | I14: 28000 | J14: =ROUND(H14+I14,0) -> 103000 | K14: =ROUND(G14*H14,0) -> 1346075 | L14: =ROUND(G14*I14,0) -> 502534 | M14: =ROUND(K14+L14,0) -> 1848609
A15: 9.8 | B15: Блок А ПЛИТЫ ПЕРЕКРЫТИЯ | C15: Изделия Арматурные | D15: ∅5 Bp-I | E15: ГОСТ 6727-80 | F15: т | G15: 3.0582 | H15: 78000 | I15: 28000 | J15: =ROUND(H15+I15,0) -> 106000 | K15: =ROUND(G15*H15,0) -> 238540 | L15: =ROUND(G15*I15,0) -> 85630 | M15: =ROUND(K15+L15,0) -> 324170
B16: Блок А ПЛИТЫ ПЕРЕКРЫТИЯ | D16: Изделия Закладные
A17: 9.10 | B17: Блок А ПЛИТЫ ПЕРЕКРЫТИЯ | C17: Изделия Закладные | D17: ∅10 А500С | E17: ГОСТ 34028-2016 | F17: т | G17: 0.28656 | H17: 75000 | I17: 28000 | J17: =ROUND(H17+I17,0) -> 103000 | K17: =ROUND(G17*H17,0) -> 21492 | L17: =ROUND(G17*I17,0) -> 8024 | M17: =ROUND(K17+L17,0) -> 29516
A18: 9.11 | B18: Блок А ПЛИТЫ ПЕРЕКРЫТИЯ | C18: Изделия Закладные | D18: 180x80x5 | E18: ГОСТ 8278-83 | F18: т | G18: 1.69356 | H18: 120000 | I18: 45000 | J18: =ROUND(H18+I18,0) -> 165000 | K18: =ROUND(G18*H18,0) -> 203227 | L18: =ROUND(G18*I18,0) -> 76210 | M18: =ROUND(K18+L18,0) -> 279437
A19: 9.12 | B19: Блок А ПЛИТЫ ПЕРЕКРЫТИЯ | C19: Изделия Закладные | D19: 125х125х10 | E19: ГОСТ 8509-93 | F19: т | G19: 0.33624 | H19: 120000 | I19: 45000 | J19: =ROUND(H19+I19,0) -> 165000 | K19: =ROUND(G19*H19,0) -> 40349 | L19: =ROUND(G19*I19,0) -> 15131 | M19: =ROUND(K19+L19,0) -> 55480
A20: 9.13 | B20: Блок А ПЛИТЫ ПЕРЕКРЫТИЯ | C20: Изделия Закладные | D20: Прокат листовой горячекатаный t6 | E20: ГОСТ 19903-2015 | F20: т | G20: 3.7314 | H20: 120000 | I20: 45000 | J20: =ROUND(H20+I20,0) -> 165000 | K20: =ROUND(G20*H20,0) -> 447768 | L20: =ROUND(G20*I20,0) -> 167913 | M20: =ROUND(K20+L20,0) -> 615681
A21: Блок U1.U2 ПЛИТЫ ПЕРЕКРЫТИЯ
A22: 10 | B22: Блок U1.U2 ПЛИТЫ ПЕРЕКРЫТИЯ | D22: Плита перекрытия | N22: 37-ИЧ/24/1-КЖ6-U1.U2
A23: 10.1 | B23: Блок U1.U2 ПЛИТЫ ПЕРЕКРЫТИЯ | C23: Плита перекрытия | D23: В25 W6 F150 | E23: ГОСТ 7473-2010 | F23: м3 | G23: 45 | H23: 7000 | I23: 3200 | J23: =ROUND(H23+I23,0) -> 10200 | K23: =ROUND(G23*H23,0) -> 315000 | L23: =ROUND(G23*I23,0) -> 144000 | M23: =ROUND(K23+L23,0) -> 459000 | N23: Объем принят по проектной документации.
B24: Блок U1.U2 ПЛИТЫ ПЕРЕКРЫТИЯ | D24: Изделия Арматурные
A25: 10.2 | B25: Блок U1.U2 ПЛИТЫ ПЕРЕКРЫТИЯ | C25: Изделия Арматурные | D25: ∅12 А500С | E25: ГОСТ 34028-2016 | F25: т | G25: 1.9 | H25: 75000 | I25: 28000 | J25: =ROUND(H25+I25,0) -> 103000 | K25: =ROUND(G25*H25,0) -> 142500 | L25: =ROUND(G25*I25,0) -> 53200 | M25: =ROUND(K25+L25,0) -> 195700 | N25: Объем принят по проектной документации.
A26: 10.3 | B26: Блок U1.U2 ПЛИТЫ ПЕРЕКРЫТИЯ | C26: Изделия Арматурные | D26: ∅5 B500C | E26: ГОСТ 23279-2012 | F26: т | G26: 1.4 | H26: 78000 | I26: 28000 | J26: =ROUND(H26+I26,0) -> 106000 | K26: =ROUND(G26*H26,0) -> 109200 | L26: =ROUND(G26*I26,0) -> 39200 | M26: =ROUND(K26+L26,0) -> 148400 | N26: Объем принят по проектной документации.
B27: Блок U1.U2 ПЛИТЫ ПЕРЕКРЫТИЯ | D27: Изделия Закладные
A28: 10.4 | B28: Блок U1.U2 ПЛИТЫ ПЕРЕКРЫТИЯ | C28: Изделия Закладные | D28: ∅10А500С | E28: ГОСТ 34028-2016 | F28: т | G28: 0.0095 | H28: 75000 | I28: 28000 | J28: =ROUND(H28+I28,0) -> 103000 | K28: =ROUND(G28*H28,0) -> 713 | L28: =ROUND(G28*I28,0) -> 266 | M28: =ROUND(K28+L28,0) -> 979
A29: 10.5 | B29: Блок U1.U2 ПЛИТЫ ПЕРЕКРЫТИЯ | C29: Изделия Закладные | D29: L100х7 С255 | E29: ГОСТ 8509-93 | F29: т | G29: 0.0081 | H29: 120000 | I29: 45000 | J29: =ROUND(H29+I29,0) -> 165000 | K29: =ROUND(G29*H29,0) -> 972 | L29: =ROUND(G29*I29,0) -> 365 | M29: =ROUND(K29+L29,0) -> 1337
A30: 10.6 | B30: Блок U1.U2 ПЛИТЫ ПЕРЕКРЫТИЯ | C30: Изделия Закладные | D30: Прокат листовой горячекатаный t10 | E30: ГОСТ 19903-2015 | F30: т | G30: 0.0033 | H30: 120000 | I30: 45000 | J30: =ROUND(H30+I30,0) -> 165000 | K30: =ROUND(G30*H30,0) -> 396 | L30: =ROUND(G30*I30,0) -> 149 | M30: =ROUND(K30+L30,0) -> 545
A31: 10.7 | B31: Блок U1.U2 ПЛИТЫ ПЕРЕКРЫТИЯ | C31: Изделия Закладные | D31: [ 180х80х5 | E31: ГОСТ 8278-83 | F31: т | G31: 0.1484 | H31: 120000 | I31: 45000 | J31: =ROUND(H31+I31,0) -> 165000 | K31: =ROUND(G31*H31,0) -> 17808 | L31: =ROUND(G31*I31,0) -> 6678 | M31: =ROUND(K31+L31,0) -> 24486
A32: 10.8 | B32: Блок U1.U2 ПЛИТЫ ПЕРЕКРЫТИЯ | C32: Изделия Закладные | D32: Профилированный лист Н114-750-0,7 | E32: СТО 57398459-18-2006 | F32: кг | G32: 3525.4 | H32: 130 | I32: 65 | J32: =ROUND(H32+I32,0) -> 195 | K32: =ROUND(G32*H32,0) -> 458302 | L32: =ROUND(G32*I32,0) -> 229151 | M32: =ROUND(K32+L32,0) -> 687453
A33: 11 | B33: Блок U1.U2 ПЛИТЫ ПЕРЕКРЫТИЯ | D33: Ограждения ОГ-1, ОГ-1а | N33: 37-ИЧ/24/1-КЖ6-U1.U2
A34: 11.1 | B34: Блок U1.U2 ПЛИТЫ ПЕРЕКРЫТИЯ | C34: Ограждения ОГ-1, ОГ-1а | D34: Стекло "Триплекс" (или аналог) | E34: Многослойное стекло по ГОСТ 30826-2014 | F34: м2 | G34: 10.2 | H34: 4600 | I34: 1800 | J34: =ROUND(H34+I34,0) -> 6400 | K34: =ROUND(G34*H34,0) -> 46920 | L34: =ROUND(G34*I34,0) -> 18360 | M34: =ROUND(K34+L34,0) -> 65280
A35: 11.2 | B35: Блок U1.U2 ПЛИТЫ ПЕРЕКРЫТИЯ | C35: Ограждения ОГ-1, ОГ-1а | D35: Квадр. стальные гнутые замкнутые сварные профили □40х3 | E35: ГОСТ 30245-2003 | F35: кг | G35: 143.2 | H35: 130 | I35: 65 | J35: =ROUND(H35+I35,0) -> 195 | K35: =ROUND(G35*H35,0) -> 18616 | L35: =ROUND(G35*I35,0) -> 9308 | M35: =ROUND(K35+L35,0) -> 27924
A36: 11.3 | B36: Блок U1.U2 ПЛИТЫ ПЕРЕКРЫТИЯ | C36: Ограждения ОГ-1, ОГ-1а | D36: Распорный анкер M8x75 HiltiHST-3 (или аналог) | F36: шт. | G36: 64 | H36: 360 | I36: 140 | J36: =ROUND(H36+I36,0) -> 500 | K36: =ROUND(G36*H36,0) -> 23040 | L36: =ROUND(G36*I36,0) -> 8960 | M36: =ROUND(K36+L36,0) -> 32000
A37: 11.4 | B37: Блок U1.U2 ПЛИТЫ ПЕРЕКРЫТИЯ | C37: Ограждения ОГ-1, ОГ-1а | D37: Прокат листовой горячекатаный t8 | E37: ГОСТ 27772-2021 | F37: кг | G37: 11 | H37: 130 | I37: 65 | J37: =ROUND(H37+I37,0) -> 195 | K37: =ROUND(G37*H37,0) -> 1430 | L37: =ROUND(G37*I37,0) -> 715 | M37: =ROUND(K37+L37,0) -> 2145
A38: 11.5 | B38: Блок U1.U2 ПЛИТЫ ПЕРЕКРЫТИЯ | C38: Ограждения ОГ-1, ОГ-1а | D38: Прокат листовой горячекатаный t4 | E38: ГОСТ 27772-2021 | F38: кг | G38: 0.2 | H38: 130 | I38: 65 | J38: =ROUND(H38+I38,0) -> 195 | K38: =ROUND(G38*H38,0) -> 26 | L38: =ROUND(G38*I38,0) -> 13 | M38: =ROUND(K38+L38,0) -> 39
A39: Блок U3.U4 ПЛИТЫ ПЕРЕКРЫТИЯ
A40: 12 | B40: Блок U3.U4 ПЛИТЫ ПЕРЕКРЫТИЯ | D40: Плита перекрытия | N40: 37-ИЧ/24/1-КЖ6-U3.U4
A41: 12.1 | B41: Блок U3.U4 ПЛИТЫ ПЕРЕКРЫТИЯ | C41: Плита перекрытия | D41: В25 W6 F150 | E41: ГОСТ 7473-2010 | F41: м3 | G41: 45 | H41: 7000 | I41: 3200 | J41: =ROUND(H41+I41,0) -> 10200 | K41: =ROUND(G41*H41,0) -> 315000 | L41: =ROUND(G41*I41,0) -> 144000 | M41: =ROUND(K41+L41,0) -> 459000 | N41: Объем принят по проектной документации.
B42: Блок U3.U4 ПЛИТЫ ПЕРЕКРЫТИЯ | D42: Изделия Арматурные
A43: 12.2 | B43: Блок U3.U4 ПЛИТЫ ПЕРЕКРЫТИЯ | C43: Изделия Арматурные | D43: ∅12 А500С | E43: ГОСТ 34028-2016 | F43: т | G43: 1.9 | H43: 75000 | I43: 28000 | J43: =ROUND(H43+I43,0) -> 103000 | K43: =ROUND(G43*H43,0) -> 142500 | L43: =ROUND(G43*I43,0) -> 53200 | M43: =ROUND(K43+L43,0) -> 195700 | N43: Объем принят по проектной документации.
A44: 12.3 | B44: Блок U3.U4 ПЛИТЫ ПЕРЕКРЫТИЯ | C44: Изделия Арматурные | D44: ∅5 B500C | E44: ГОСТ 23279-2012 | F44: т | G44: 1.4 | H44: 78000 | I44: 28000 | J44: =ROUND(H44+I44,0) -> 106000 | K44: =ROUND(G44*H44,0) -> 109200 | L44: =ROUND(G44*I44,0) -> 39200 | M44: =ROUND(K44+L44,0) -> 148400 | N44: Объем принят по проектной документации.
B45: Блок U3.U4 ПЛИТЫ ПЕРЕКРЫТИЯ | D45: Изделия Закладные
A46: 12.4 | B46: Блок U3.U4 ПЛИТЫ ПЕРЕКРЫТИЯ | C46: Изделия Закладные | D46: ∅10А500С | E46: ГОСТ 34028-2016 | F46: т | G46: 0.0095 | H46: 75000 | I46: 28000 | J46: =ROUND(H46+I46,0) -> 103000 | K46: =ROUND(G46*H46,0) -> 713 | L46: =ROUND(G46*I46,0) -> 266 | M46: =ROUND(K46+L46,0) -> 979
A47: 12.5 | B47: Блок U3.U4 ПЛИТЫ ПЕРЕКРЫТИЯ | C47: Изделия Закладные | D47: L100х7 С255 | E47: ГОСТ 8509-93 | F47: т | G47: 0.0081 | H47: 120000 | I47: 45000 | J47: =ROUND(H47+I47,0) -> 165000 | K47: =ROUND(G47*H47,0) -> 972 | L47: =ROUND(G47*I47,0) -> 365 | M47: =ROUND(K47+L47,0) -> 1337
A48: 12.6 | B48: Блок U3.U4 ПЛИТЫ ПЕРЕКРЫТИЯ | C48: Изделия Закладные | D48: Прокат листовой горячекатаный t10 | E48: ГОСТ 19903-2015 | F48: т | G48: 0.0033 | H48: 120000 | I48: 45000 | J48: =ROUND(H48+I48,0) -> 165000 | K48: =ROUND(G48*H48,0) -> 396 | L48: =ROUND(G48*I48,0) -> 149 | M48: =ROUND(K48+L48,0) -> 545
A49: 12.7 | B49: Блок U3.U4 ПЛИТЫ ПЕРЕКРЫТИЯ | C49: Изделия Закладные | D49: [ 180х80х5 | E49: ГОСТ 8278-83 | F49: т | G49: 0.1484 | H49: 120000 | I49: 45000 | J49: =ROUND(H49+I49,0) -> 165000 | K49: =ROUND(G49*H49,0) -> 17808 | L49: =ROUND(G49*I49,0) -> 6678 | M49: =ROUND(K49+L49,0) -> 24486
A50: 12.8 | B50: Блок U3.U4 ПЛИТЫ ПЕРЕКРЫТИЯ | C50: Изделия Закладные | D50: Профилированный лист Н114-750-0,7 | E50: СТО 57398459-18-2006 | F50: кг | G50: 3525.4 | H50: 130 | I50: 65 | J50: =ROUND(H50+I50,0) -> 195 | K50: =ROUND(G50*H50,0) -> 458302 | L50: =ROUND(G50*I50,0) -> 229151 | M50: =ROUND(K50+L50,0) -> 687453
A51: 13 | B51: Блок U3.U4 ПЛИТЫ ПЕРЕКРЫТИЯ | D51: Ограждения ОГ-1, ОГ-1а | N51: 37-ИЧ/24/1-КЖ6-U3.U4
A52: 13.1 | B52: Блок U3.U4 ПЛИТЫ ПЕРЕКРЫТИЯ | C52: Ограждения ОГ-1, ОГ-1а | D52: Стекло "Триплекс" (или аналог) | E52: Многослойное стекло по ГОСТ 30826-2014 | F52: м2 | G52: 10.2 | H52: 4600 | I52: 1800 | J52: =ROUND(H52+I52,0) -> 6400 | K52: =ROUND(G52*H52,0) -> 46920 | L52: =ROUND(G52*I52,0) -> 18360 | M52: =ROUND(K52+L52,0) -> 65280
A53: 13.2 | B53: Блок U3.U4 ПЛИТЫ ПЕРЕКРЫТИЯ | C53: Ограждения ОГ-1, ОГ-1а | D53: Квадр. стальные гнутые замкнутые сварные профили □40х3 | E53: ГОСТ 30245-2003 | F53: кг | G53: 143.2 | H53: 130 | I53: 65 | J53: =ROUND(H53+I53,0) -> 195 | K53: =ROUND(G53*H53,0) -> 18616 | L53: =ROUND(G53*I53,0) -> 9308 | M53: =ROUND(K53+L53,0) -> 27924
A54: 13.3 | B54: Блок U3.U4 ПЛИТЫ ПЕРЕКРЫТИЯ | C54: Ограждения ОГ-1, ОГ-1а | D54: Распорный анкер M8x75 HiltiHST-3 (или аналог) | F54: шт. | G54: 64 | H54: 360 | I54: 140 | J54: =ROUND(H54+I54,0) -> 500 | K54: =ROUND(G54*H54,0) -> 23040 | L54: =ROUND(G54*I54,0) -> 8960 | M54: =ROUND(K54+L54,0) -> 32000
A55: 13.4 | B55: Блок U3.U4 ПЛИТЫ ПЕРЕКРЫТИЯ | C55: Ограждения ОГ-1, ОГ-1а | D55: Прокат листовой горячекатаный t8 | E55: ГОСТ 27772-2021 | F55: кг | G55: 11 | H55: 130 | I55: 65 | J55: =ROUND(H55+I55,0) -> 195 | K55: =ROUND(G55*H55,0) -> 1430 | L55: =ROUND(G55*I55,0) -> 715 | M55: =ROUND(K55+L55,0) -> 2145
A56: 13.5 | B56: Блок U3.U4 ПЛИТЫ ПЕРЕКРЫТИЯ | C56: Ограждения ОГ-1, ОГ-1а | D56: Прокат листовой горячекатаный t4 | E56: ГОСТ 27772-2021 | F56: кг | G56: 0.2 | H56: 130 | I56: 65 | J56: =ROUND(H56+I56,0) -> 195 | K56: =ROUND(G56*H56,0) -> 26 | L56: =ROUND(G56*I56,0) -> 13 | M56: =ROUND(K56+L56,0) -> 39
A58: Итого по листу | K58: =SUM(K6:K56) -> 15314384 | L58: =SUM(L6:L56) -> 6833973 | M58: =SUM(M6:M56) -> 22148357
