Workbook

Sheet Итог
A1: Коммерческое предложение
A2: Смета на устройство полов и плит перекрытий по объекту: Производственно-складской комплекс «Цифровой промышленный коворкинг Индастриал Сити «Дмитровский I»
A3: Заказчик: ООО «Гефест». Дата: 12.05.2026. Основание расчета: исходная ведомость объемов и рабочая документация.
A4: Стоимость указана без выделения НДС. Доставка основных материалов по Москве/МО учтена укрупненно. Срок действия цен: 10 календарных дней.
A5: Раздел | B5: Блок | C5: Материалы, руб. | D5: Работа и механизация, руб. | E5: Итого, руб. | F5: Доля, %
A6: Полы | B6: Блок А | C6: =SUMIF(Полы!B:B,B6,Полы!J:J) -> 60504183 | D6: =SUMIF(Полы!B:B,B6,Полы!K:K) -> 36028900 | E6: =SUMIF(Полы!B:B,B6,Полы!L:L) -> 96533083 | F6: =E6/$E$13*100 -> 56.008914
A7: Полы | B7: Блок U1.U2 | C7: =SUMIF(Полы!B:B,B7,Полы!J:J) -> 16711774 | D7: =SUMIF(Полы!B:B,B7,Полы!K:K) -> 9363200 | E7: =SUMIF(Полы!B:B,B7,Полы!L:L) -> 26074974 | F7: =E7/$E$13*100 -> 15.128813
A8: Полы | B8: Блок U3.U4 | C8: =SUMIF(Полы!B:B,B8,Полы!J:J) -> 17112442 | D8: =SUMIF(Полы!B:B,B8,Полы!K:K) -> 9819032 | E8: =SUMIF(Полы!B:B,B8,Полы!L:L) -> 26931474 | F8: =E8/$E$13*100 -> 15.625758
A9: Полы | B9: Блок КПП | C9: =SUMIF(Полы!B:B,B9,Полы!J:J) -> 435970 | D9: =SUMIF(Полы!B:B,B9,Полы!K:K) -> 229213 | E9: =SUMIF(Полы!B:B,B9,Полы!L:L) -> 665183 | F9: =E9/$E$13*100 -> 0.38594206
A10: Плиты перекрытия | B10: Блок А ПЛИТЫ ПЕРЕКРЫТИЯ | C10: =SUMIF(Перекрытия!B:B,B10,Перекрытия!K:K) -> 13044538 | D10: =SUMIF(Перекрытия!B:B,B10,Перекрытия!L:L) -> 5813243 | E10: =SUMIF(Перекрытия!B:B,B10,Перекрытия!M:M) -> 18857781 | F10: =E10/$E$13*100 -> 10.941366
A11: Плиты перекрытия | B11: Блок U1.U2 ПЛИТЫ ПЕРЕКРЫТИЯ | C11: =SUMIF(Перекрытия!B:B,B11,Перекрытия!K:K) -> 1134923 | D11: =SUMIF(Перекрытия!B:B,B11,Перекрытия!L:L) -> 510365 | E11: =SUMIF(Перекрытия!B:B,B11,Перекрытия!M:M) -> 1645288 | F11: =E11/$E$13*100 -> 0.95460324
A12: Плиты перекрытия | B12: Блок U3.U4 ПЛИТЫ ПЕРЕКРЫТИЯ | C12: =SUMIF(Перекрытия!B:B,B12,Перекрытия!K:K) -> 1134923 | D12: =SUMIF(Перекрытия!B:B,B12,Перекрытия!L:L) -> 510365 | E12: =SUMIF(Перекрытия!B:B,B12,Перекрытия!M:M) -> 1645288 | F12: =E12/$E$13*100 -> 0.95460324
A13: Итого | C13: =SUM(C6:C12) -> 110078753 | D13: =SUM(D6:D12) -> 62274318 | E13: =SUM(E6:E12) -> 172353071 | F13: =SUM(F6:F12) -> 100
A15: Комментарии
A16: Расчет выполнен по исходной ведомости объемов. Позиции, отсутствующие в ведомости, в стоимость не включены.
A17: По PDF U1.U2 в стоимость не включены стабилизация грунта, защитный слой щебня 539 м3 и труба ПНД 8 пог. м, так как эти позиции отсутствуют в исходной ведомости объемов.
A18: Позиции с исходным примечанием «Исключили из расчета» оставлены в ведомости с нулевой стоимостью.

Sheet Полы
A1: Коммерческая смета. Полы
A2: Объект: Производственно-складской комплекс «Цифровой промышленный коворкинг Индастриал Сити «Дмитровский I», Московская область, Дмитровский район, г/п Икша, д. Спас-Каменка
A3: Коммерческие расценки, Москва и Московская область, дата составления 12.05.2026. Цены указаны в рублях, НДС не выделен.
A5: № | B5: Блок | C5: Раздел | D5: Наименование работ, материалов, оборудования | E5: Ед. изм. | F5: Кол-во | G5: Материалы, руб./ед. | H5: Работа и механизация, руб./ед. | I5: Итого, руб./ед. | J5: Материалы, руб. | K5: Работа и механизация, руб. | L5: Итого, руб. | M5: Примечание
A6: Блок А
A7: 1 | B7: Блок А | D7: Комплекс работ по устройству плиты пола производственно-складской части блока здания | M7: 37-ИЧ/24/1-КЖ5-A
A8: 1.1 | B8: Блок А | C8: Комплекс работ по устройству плиты пола производственно-складской части блока здания | D8: Послойная укладка геосетки Славрос СД-40 / 5 слоёв | E8: м2 | F8: 420 | G8: 130 | H8: 90 | I8: =ROUND(G8+H8,0) -> 220 | J8: =ROUND(F8*G8,0) -> 54600 | K8: =ROUND(F8*H8,0) -> 37800 | L8: =ROUND(J8+K8,0) -> 92400
A9: 1.2 | B9: Блок А | C9: Комплекс работ по устройству плиты пола производственно-складской части блока здания | D9: Песчаная подготовка толщиной 100 мм (песок ср.крупности с коэф. уплотнения Кcom=0.97) | E9: м3 | F9: 2600 | G9: 1800 | H9: 850 | I9: =ROUND(G9+H9,0) -> 2650 | J9: =ROUND(F9*G9,0) -> 4680000 | K9: =ROUND(F9*H9,0) -> 2210000 | L9: =ROUND(J9+K9,0) -> 6890000 | M9: Объем с учетом коэффициента уплотнения песка.
A10: 1.3 | B10: Блок А | C10: Комплекс работ по устройству плиты пола производственно-складской части блока здания | D10: Укладка слоя утеплителя пеноплекс 45C по периметру, t=80, шириной 900 мм | E10: м2 | F10: 322 | G10: 400 | H10: 180 | I10: =ROUND(G10+H10,0) -> 580 | J10: =ROUND(F10*G10,0) -> 128800 | K10: =ROUND(F10*H10,0) -> 57960 | L10: =ROUND(J10+K10,0) -> 186760
A11: 1.4 | B11: Блок А | C11: Комплекс работ по устройству плиты пола производственно-складской части блока здания | D11: Штамповые испытания подстилающего слоя | E11: испыт. | F11: 22 | G11: 0 | H11: 60000 | I11: =ROUND(G11+H11,0) -> 60000 | J11: =ROUND(F11*G11,0) -> 0 | K11: =ROUND(F11*H11,0) -> 1320000 | L11: =ROUND(J11+K11,0) -> 1320000 | M11: Штамповые испытания с оформлением протокола.
A12: 1.5 | B12: Блок А | C12: Комплекс работ по устройству плиты пола производственно-складской части блока здания | D12: Укладка слоя геотекстиля 60 г/м2 | E12: м2 | F12: 23500 | G12: 25 | H12: 35 | I12: =ROUND(G12+H12,0) -> 60 | J12: =ROUND(F12*G12,0) -> 587500 | K12: =ROUND(F12*H12,0) -> 822500 | L12: =ROUND(J12+K12,0) -> 1410000 | M12: Объем с учетом перехлеста.
A13: 1.6 | B13: Блок А | C13: Комплекс работ по устройству плиты пола производственно-складской части блока здания | D13: Изоляция периметра и примыкания других конструкций швом в виде прослойки листового вспененного полиэтилена (изолона) 10 мм | E13: м2 | F13: 140 | G13: 180 | H13: 120 | I13: =ROUND(G13+H13,0) -> 300 | J13: =ROUND(F13*G13,0) -> 25200 | K13: =ROUND(F13*H13,0) -> 16800 | L13: =ROUND(J13+K13,0) -> 42000
A14: 1.7 | B14: Блок А | C14: Комплекс работ по устройству плиты пола производственно-складской части блока здания | D14: Армирование плиты пола арматурной сеткой ∅10 А500С, арматурой ∅8 А500С, штифты для компенсационного шва ∅16 А240 | E14: т | F14: 156.81 | G14: 75000 | H14: 28000 | I14: =ROUND(G14+H14,0) -> 103000 | J14: =ROUND(F14*G14,0) -> 11760750 | K14: =ROUND(F14*H14,0) -> 4390680 | L14: =ROUND(J14+K14,0) -> 16151430 | M14: Объем арматуры с учетом нахлеста 10%.
A15: 1.8 | B15: Блок А | C15: Комплекс работ по устройству плиты пола производственно-складской части блока здания | D15: Монтаж закладных деталей МН-1 , МН-2, МН-3, МН-4 | E15: т | F15: 1.67 | G15: 120000 | H15: 45000 | I15: =ROUND(G15+H15,0) -> 165000 | J15: =ROUND(F15*G15,0) -> 200400 | K15: =ROUND(F15*H15,0) -> 75150 | L15: =ROUND(J15+K15,0) -> 275550
A16: 1.9 | B16: Блок А | C16: Комплекс работ по устройству плиты пола производственно-складской части блока здания | D16: Антикоррозийная защита закладных деталей грунт-эмалью ПФ-115 по грунтовке ГФ-021 в 2 слоя | E16: к-т | F16: 1 | G16: 45000 | H16: 35000 | I16: =ROUND(G16+H16,0) -> 80000 | J16: =ROUND(F16*G16,0) -> 45000 | K16: =ROUND(F16*H16,0) -> 35000 | L16: =ROUND(J16+K16,0) -> 80000
A17: 1.10 | B17: Блок А | C17: Комплекс работ по устройству плиты пола производственно-складской части блока здания | D17: Установка в проектное положение несъемную металлическую опалубку Peikko Tera Joint TJ6-185-3000 или аналог | E17: пог. м | F17: 654 | G17: 3500 | H17: 950 | I17: =ROUND(G17+H17,0) -> 4450 | J17: =ROUND(F17*G17,0) -> 2289000 | K17: =ROUND(F17*H17,0) -> 621300 | L17: =ROUND(J17+K17,0) -> 2910300 | M17: Единица и объем приняты по исходной ведомости.
A18: 1.11 | B18: Блок А | C18: Комплекс работ по устройству плиты пола производственно-складской части блока здания | D18: Устройство бетонной плиты (B25 F100 W4) t=200 мм | E18: м3 | F18: 4425 | G18: 6500 | H18: 3000 | I18: =ROUND(G18+H18,0) -> 9500 | J18: =ROUND(F18*G18,0) -> 28762500 | K18: =ROUND(F18*H18,0) -> 13275000 | L18: =ROUND(J18+K18,0) -> 42037500 | M18: Бетонирование после прокладки инженерных сетей.
A19: 1.12 | B19: Блок А | C19: Комплекс работ по устройству плиты пола производственно-складской части блока здания | D19: Затирка поверхности бетона при помощи бетоноотделочных машин | E19: м2 | F19: 22125 | G19: 0 | H19: 180 | I19: =ROUND(G19+H19,0) -> 180 | J19: =ROUND(F19*G19,0) -> 0 | K19: =ROUND(F19*H19,0) -> 3982500 | L19: =ROUND(J19+K19,0) -> 3982500
A20: 1.13 | B20: Блок А | C20: Комплекс работ по устройству плиты пола производственно-складской части блока здания | D20: Нанесение упрочняющей смеси Sikafloor (или аналог) | E20: м2 | F20: 22125 | G20: 140 | H20: 140 | I20: =ROUND(G20+H20,0) -> 280 | J20: =ROUND(F20*G20,0) -> 3097500 | K20: =ROUND(F20*H20,0) -> 3097500 | L20: =ROUND(J20+K20,0) -> 6195000
A21: 1.14 | B21: Блок А | C21: Комплекс работ по устройству плиты пола производственно-складской части блока здания | D21: Нарезка усадочных швов (3х3), шириной не более 5 мм с последующим заполнением герметиком (твердостью по Шору А70) | E21: пог. м | F21: 14850 | G21: 130 | H21: 170 | I21: =ROUND(G21+H21,0) -> 300 | J21: =ROUND(F21*G21,0) -> 1930500 | K21: =ROUND(F21*H21,0) -> 2524500 | L21: =ROUND(J21+K21,0) -> 4455000
A22: 1.15 | B22: Блок А | C22: Комплекс работ по устройству плиты пола производственно-складской части блока здания | D22: Заделка деформационного шва утеплителем Пеноплэкс Основа t=80 | E22: м2 | F22: 66 | G22: 400 | H22: 180 | I22: =ROUND(G22+H22,0) -> 580 | J22: =ROUND(F22*G22,0) -> 26400 | K22: =ROUND(F22*H22,0) -> 11880 | L22: =ROUND(J22+K22,0) -> 38280
A23: 2 | B23: Блок А | D23: Комплекс работ по устройству плиты пола АБК в осях 1/4-1/5 | M23: 37-ИЧ/24/1-КЖ5-A
A24: 2.1 | B24: Блок А | C24: Комплекс работ по устройству плиты пола АБК в осях 1/4-1/5 | D24: Послойная отсыпка слоев основания h=300мм песком средней крупности (при согласовании местным грунтом) и уплотнением до К=0,97 | E24: м3 | F24: 1234 | G24: 1800 | H24: 850 | I24: =ROUND(G24+H24,0) -> 2650 | J24: =ROUND(F24*G24,0) -> 2221200 | K24: =ROUND(F24*H24,0) -> 1048900 | L24: =ROUND(J24+K24,0) -> 3270100
A25: 2.2 | B25: Блок А | C25: Комплекс работ по устройству плиты пола АБК в осях 1/4-1/5 | D25: Укладка слоя утеплителя Пеноплэкс Основа по периметру, t=80, шириной 1200 мм | E25: м2 | F25: 709 | G25: 400 | H25: 180 | I25: =ROUND(G25+H25,0) -> 580 | J25: =ROUND(F25*G25,0) -> 283600 | K25: =ROUND(F25*H25,0) -> 127620 | L25: =ROUND(J25+K25,0) -> 411220
A26: 2.3 | B26: Блок А | C26: Комплекс работ по устройству плиты пола АБК в осях 1/4-1/5 | D26: Укладка слоя полиэтиленовой пленки 60 мкм в 2 слоя | E26: м2 | F26: 6562 | G26: 45 | H26: 35 | I26: =ROUND(G26+H26,0) -> 80 | J26: =ROUND(F26*G26,0) -> 295290 | K26: =ROUND(F26*H26,0) -> 229670 | L26: =ROUND(J26+K26,0) -> 524960
A27: 2.4 | B27: Блок А | C27: Комплекс работ по устройству плиты пола АБК в осях 1/4-1/5 | D27: Изоляция периметра и примыкания других конструкций швом в виде прослойки листового вспененного полиэтилена (изолона) 10 мм | E27: м2 | F27: 199.1 | G27: 180 | H27: 120 | I27: =ROUND(G27+H27,0) -> 300 | J27: =ROUND(F27*G27,0) -> 35838 | K27: =ROUND(F27*H27,0) -> 23892 | L27: =ROUND(J27+K27,0) -> 59730
A28: 2.5 | B28: Блок А | C28: Комплекс работ по устройству плиты пола АБК в осях 1/4-1/5 | D28: Армирование плиты пола арматурной сеткой ∅10 А500С | E28: т | F28: 22.371 | G28: 75000 | H28: 28000 | I28: =ROUND(G28+H28,0) -> 103000 | J28: =ROUND(F28*G28,0) -> 1677825 | K28: =ROUND(F28*H28,0) -> 626388 | L28: =ROUND(J28+K28,0) -> 2304213 | M28: Объем арматуры с учетом нахлеста 10%.
A29: 2.6 | B29: Блок А | C29: Комплекс работ по устройству плиты пола АБК в осях 1/4-1/5 | D29: Устройство бетонной плиты (B25 F100 W4) t=100 мм | E29: м3 | F29: 325.8 | G29: 6500 | H29: 3000 | I29: =ROUND(G29+H29,0) -> 9500 | J29: =ROUND(F29*G29,0) -> 2117700 | K29: =ROUND(F29*H29,0) -> 977400 | L29: =ROUND(J29+K29,0) -> 3095100 | M29: Бетонирование после прокладки инженерных сетей.
A30: 2.7 | B30: Блок А | C30: Комплекс работ по устройству плиты пола АБК в осях 1/4-1/5 | D30: Затирка поверхности бетона при помощи бетоноотделочных машин | E30: м2 | F30: 1054 | G30: 0 | H30: 180 | I30: =ROUND(G30+H30,0) -> 180 | J30: =ROUND(F30*G30,0) -> 0 | K30: =ROUND(F30*H30,0) -> 189720 | L30: =ROUND(J30+K30,0) -> 189720
A31: 2.8 | B31: Блок А | C31: Комплекс работ по устройству плиты пола АБК в осях 1/4-1/5 | D31: Нанесение упрочняющего покрытия производства «Master Builders Solutions», «Durocem», «Sika» RAL7004 | E31: м2 | F31: 1054 | G31: 140 | H31: 140 | I31: =ROUND(G31+H31,0) -> 280 | J31: =ROUND(F31*G31,0) -> 147560 | K31: =ROUND(F31*H31,0) -> 147560 | L31: =ROUND(J31+K31,0) -> 295120
A32: 2.9 | B32: Блок А | C32: Комплекс работ по устройству плиты пола АБК в осях 1/4-1/5 | D32: Нарезка усадочных швов (3х3), шириной не более 5 мм с последующим заполнением герметиком (твердостью по Шору А70) | E32: м2 | F32: 1054 | G32: 130 | H32: 170 | I32: =ROUND(G32+H32,0) -> 300 | J32: =ROUND(F32*G32,0) -> 137020 | K32: =ROUND(F32*H32,0) -> 179180 | L32: =ROUND(J32+K32,0) -> 316200 | M32: Единица измерения принята по исходной ведомости.
A33: Блок U1.U2
A34: 3 | B34: Блок U1.U2 | D34: Комплекс работ по устройству плиты пола производственно-складской части блока здания | M34: 37-ИЧ/24/1-КЖ5-U1.U2
A35: 3.1 | B35: Блок U1.U2 | C35: Комплекс работ по устройству плиты пола производственно-складской части блока здания | D35: Послойная укладка геосетки Славрос СД-40 / 5 слоёв | E35: м2 | F35: 1387 | G35: 130 | H35: 90 | I35: =ROUND(G35+H35,0) -> 220 | J35: =ROUND(F35*G35,0) -> 180310 | K35: =ROUND(F35*H35,0) -> 124830 | L35: =ROUND(J35+K35,0) -> 305140
A36: 3.2 | B36: Блок U1.U2 | C36: Комплекс работ по устройству плиты пола производственно-складской части блока здания | D36: Песчаная подготовка (песок ср.крупности с коэф. уплотнения Кcom=0.97) | E36: м3 | F36: 800 | G36: 1800 | H36: 850 | I36: =ROUND(G36+H36,0) -> 2650 | J36: =ROUND(F36*G36,0) -> 1440000 | K36: =ROUND(F36*H36,0) -> 680000 | L36: =ROUND(J36+K36,0) -> 2120000 | M36: Объем с учетом коэффициента уплотнения песка.
A37: 3.3 | B37: Блок U1.U2 | C37: Комплекс работ по устройству плиты пола производственно-складской части блока здания | D37: Укладка слоя утеплителя пеноплекс 45C по периметру, t=80, шириной 900 мм | E37: м2 | F37: 245 | G37: 400 | H37: 180 | I37: =ROUND(G37+H37,0) -> 580 | J37: =ROUND(F37*G37,0) -> 98000 | K37: =ROUND(F37*H37,0) -> 44100 | L37: =ROUND(J37+K37,0) -> 142100
A38: 3.4 | B38: Блок U1.U2 | C38: Комплекс работ по устройству плиты пола производственно-складской части блока здания | D38: Штамповые испытания подстилающего слоя | E38: испыт. | F38: 6 | G38: 0 | H38: 60000 | I38: =ROUND(G38+H38,0) -> 60000 | J38: =ROUND(F38*G38,0) -> 0 | K38: =ROUND(F38*H38,0) -> 360000 | L38: =ROUND(J38+K38,0) -> 360000 | M38: Количество принято по норме PDF: не менее 1 испытания на 1000 м2.
A39: 3.5 | B39: Блок U1.U2 | C39: Комплекс работ по устройству плиты пола производственно-складской части блока здания | D39: Укладка слоя геотекстиля 60 г/м2 | E39: м2 | F39: 6500 | G39: 25 | H39: 35 | I39: =ROUND(G39+H39,0) -> 60 | J39: =ROUND(F39*G39,0) -> 162500 | K39: =ROUND(F39*H39,0) -> 227500 | L39: =ROUND(J39+K39,0) -> 390000 | M39: Объем с учетом перехлеста.
A40: 3.6 | B40: Блок U1.U2 | C40: Комплекс работ по устройству плиты пола производственно-складской части блока здания | D40: Изоляция периметра и примыкания других конструкций швом в виде прослойки листового вспененного полиэтилена (изолона) 10 мм | E40: м2 | F40: 80 | G40: 180 | H40: 120 | I40: =ROUND(G40+H40,0) -> 300 | J40: =ROUND(F40*G40,0) -> 14400 | K40: =ROUND(F40*H40,0) -> 9600 | L40: =ROUND(J40+K40,0) -> 24000
A41: 3.7 | B41: Блок U1.U2 | C41: Комплекс работ по устройству плиты пола производственно-складской части блока здания | D41: Армирование плиты пола арматурной сеткой ∅10 А500С, арматурой ∅8 А500С, штифты для компенсационного шва ∅16 А240 | E41: т | F41: 62.6 | G41: 75000 | H41: 28000 | I41: =ROUND(G41+H41,0) -> 103000 | J41: =ROUND(F41*G41,0) -> 4695000 | K41: =ROUND(F41*H41,0) -> 1752800 | L41: =ROUND(J41+K41,0) -> 6447800
...

Sheet Перекрытия
A1: Коммерческая смета. Плиты перекрытия
A2: Объект: Производственно-складской комплекс «Цифровой промышленный коворкинг Индастриал Сити «Дмитровский I», Московская область, Дмитровский район, г/п Икша, д. Спас-Каменка
A3: Коммерческие расценки, Москва и Московская область, дата составления 12.05.2026. Цены указаны в рублях, НДС не выделен.
A5: № | B5: Блок | C5: Раздел | D5: Наименование работ, материалов, оборудования | E5: Тип, марка | F5: Ед. изм. | G5: Кол-во | H5: Материалы, руб./ед. | I5: Работа и механизация, руб./ед. | J5: Итого, руб./ед. | K5: Материалы, руб. | L5: Работа и механизация, руб. | M5: Итого, руб. | N5: Примечание
A6: Блок А ПЛИТЫ ПЕРЕКРЫТИЯ
A7: 9 | B7: Блок А ПЛИТЫ ПЕРЕКРЫТИЯ | D7: Плита перекрытия | N7: 37-ИЧ/24/1-КЖ6-А изм.1
A8: 9.1 | B8: Блок А ПЛИТЫ ПЕРЕКРЫТИЯ | C8: Плита перекрытия | D8: В25, W6, F150 | E8: ГОСТ 7473-2010 | F8: м3 | G8: 105 | H8: 7000 | I8: 3200 | J8: =ROUND(H8+I8,0) -> 10200 | K8: =ROUND(G8*H8,0) -> 735000 | L8: =ROUND(G8*I8,0) -> 336000 | M8: =ROUND(K8+L8,0) -> 1071000 | N8: Объем принят по проектной документации.
A9: 9.2 | B9: Блок А ПЛИТЫ ПЕРЕКРЫТИЯ | C9: Плита перекрытия | D9: В30, W6, F150 | E9: ГОСТ 7473-2010 | F9: м3 | G9: 429 | H9: 7000 | I9: 3300 | J9: =ROUND(H9+I9,0) -> 10300 | K9: =ROUND(G9*H9,0) -> 3003000 | L9: =ROUND(G9*I9,0) -> 1415700 | M9: =ROUND(K9+L9,0) -> 4418700 | N9: Объем принят по проектной документации.
A10: 9.3 | B10: Блок А ПЛИТЫ ПЕРЕКРЫТИЯ | C10: Плита перекрытия | D10: Профилированный лист Н114-750-0,7 | E10: СТО 57398459-18-2006 | F10: кг | G10: 35792 | H10: 130 | I10: 65 | J10: =ROUND(H10+I10,0) -> 195 | K10: =ROUND(G10*H10,0) -> 4652960 | L10: =ROUND(G10*I10,0) -> 2326480 | M10: =ROUND(K10+L10,0) -> 6979440
B11: Блок А ПЛИТЫ ПЕРЕКРЫТИЯ | D11: Изделия Арматурные
A12: 9.4 | B12: Блок А ПЛИТЫ ПЕРЕКРЫТИЯ | C12: Изделия Арматурные | D12: ∅10 А500С | E12: ГОСТ 34028-2016 | F12: т | G12: 22.18076 | H12: 75000 | I12: 28000 | J12: =ROUND(H12+I12,0) -> 103000 | K12: =ROUND(G12*H12,0) -> 1663557 | L12: =ROUND(G12*I12,0) -> 621061 | M12: =ROUND(K12+L12,0) -> 2284618
A13: 9.6 | B13: Блок А ПЛИТЫ ПЕРЕКРЫТИЯ | C13: Изделия Арматурные | D13: ∅12 А500С | E13: ГОСТ 34028-2016 | F13: т | G13: 9.23427 | H13: 75000 | I13: 28000 | J13: =ROUND(H13+I13,0) -> 103000 | K13: =ROUND(G13*H13,0) -> 692570 | L13: =ROUND(G13*I13,0) -> 258560 | M13: =ROUND(K13+L13,0) -> 951130
A14: 9.7 | B14: Блок А ПЛИТЫ ПЕРЕКРЫТИЯ | C14: Изделия Арматурные | D14: ∅16 А500С | E14: ГОСТ 34028-2016 | F14: т | G14: 17.94766 | H14: 75000 | I14: 28000 | J14: =ROUND(H14+I14,0) -> 103000 | K14: =ROUND(G14*H14,0) -> 1346075 | L14: =ROUND(G14*I14,0) -> 502534 | M14: =ROUND(K14+L14,0) -> 1848609
A15: 9.8 | B15: Блок А ПЛИТЫ ПЕРЕКРЫТИЯ | C15: Изделия Арматурные | D15: ∅5 Bp-I | E15: ГОСТ 6727-80 | F15: т | G15: 3.0582 | H15: 78000 | I15: 28000 | J15: =ROUND(H15+I15,0) -> 106000 | K15: =ROUND(G15*H15,0) -> 238540 | L15: =ROUND(G15*I15,0) -> 85630 | M15: =ROUND(K15+L15,0) -> 324170
B16: Блок А ПЛИТЫ ПЕРЕКРЫТИЯ | D16: Изделия Закладные
A17: 9.10 | B17: Блок А ПЛИТЫ ПЕРЕКРЫТИЯ | C17: Изделия Закладные | D17: ∅10 А500С | E17: ГОСТ 34028-2016 | F17: т | G17: 0.28656 | H17: 75000 | I17: 28000 | J17: =ROUND(H17+I17,0) -> 103000 | K17: =ROUND(G17*H17,0) -> 21492 | L17: =ROUND(G17*I17,0) -> 8024 | M17: =ROUND(K17+L17,0) -> 29516
A18: 9.11 | B18: Блок А ПЛИТЫ ПЕРЕКРЫТИЯ | C18: Изделия Закладные | D18: 180x80x5 | E18: ГОСТ 8278-83 | F18: т | G18: 1.69356 | H18: 120000 | I18: 45000 | J18: =ROUND(H18+I18,0) -> 165000 | K18: =ROUND(G18*H18,0) -> 203227 | L18: =ROUND(G18*I18,0) -> 76210 | M18: =ROUND(K18+L18,0) -> 279437
A19: 9.12 | B19: Блок А ПЛИТЫ ПЕРЕКРЫТИЯ | C19: Изделия Закладные | D19: 125х125х10 | E19: ГОСТ 8509-93 | F19: т | G19: 0.33624 | H19: 120000 | I19: 45000 | J19: =ROUND(H19+I19,0) -> 165000 | K19: =ROUND(G19*H19,0) -> 40349 | L19: =ROUND(G19*I19,0) -> 15131 | M19: =ROUND(K19+L19,0) -> 55480
A20: 9.13 | B20: Блок А ПЛИТЫ ПЕРЕКРЫТИЯ | C20: Изделия Закладные | D20: Прокат листовой горячекатаный t6 | E20: ГОСТ 19903-2015 | F20: т | G20: 3.7314 | H20: 120000 | I20: 45000 | J20: =ROUND(H20+I20,0) -> 165000 | K20: =ROUND(G20*H20,0) -> 447768 | L20: =ROUND(G20*I20,0) -> 167913 | M20: =ROUND(K20+L20,0) -> 615681
A21: Блок U1.U2 ПЛИТЫ ПЕРЕКРЫТИЯ
A22: 10 | B22: Блок U1.U2 ПЛИТЫ ПЕРЕКРЫТИЯ | D22: Плита перекрытия | N22: 37-ИЧ/24/1-КЖ6-U1.U2
A23: 10.1 | B23: Блок U1.U2 ПЛИТЫ ПЕРЕКРЫТИЯ | C23: Плита перекрытия | D23: В25 W6 F150 | E23: ГОСТ 7473-2010 | F23: м3 | G23: 45 | H23: 7000 | I23: 3200 | J23: =ROUND(H23+I23,0) -> 10200 | K23: =ROUND(G23*H23,0) -> 315000 | L23: =ROUND(G23*I23,0) -> 144000 | M23: =ROUND(K23+L23,0) -> 459000 | N23: Объем принят по проектной документации.
B24: Блок U1.U2 ПЛИТЫ ПЕРЕКРЫТИЯ | D24: Изделия Арматурные
A25: 10.2 | B25: Блок U1.U2 ПЛИТЫ ПЕРЕКРЫТИЯ | C25: Изделия Арматурные | D25: ∅12 А500С | E25: ГОСТ 34028-2016 | F25: т | G25: 1.9 | H25: 75000 | I25: 28000 | J25: =ROUND(H25+I25,0) -> 103000 | K25: =ROUND(G25*H25,0) -> 142500 | L25: =ROUND(G25*I25,0) -> 53200 | M25: =ROUND(K25+L25,0) -> 195700 | N25: Объем принят по проектной документации.
A26: 10.3 | B26: Блок U1.U2 ПЛИТЫ ПЕРЕКРЫТИЯ | C26: Изделия Арматурные | D26: ∅5 B500C | E26: ГОСТ 23279-2012 | F26: т | G26: 1.4 | H26: 78000 | I26: 28000 | J26: =ROUND(H26+I26,0) -> 106000 | K26: =ROUND(G26*H26,0) -> 109200 | L26: =ROUND(G26*I26,0) -> 39200 | M26: =ROUND(K26+L26,0) -> 148400 | N26: Объем принят по проектной документации.
B27: Блок U1.U2 ПЛИТЫ ПЕРЕКРЫТИЯ | D27: Изделия Закладные
A28: 10.4 | B28: Блок U1.U2 ПЛИТЫ ПЕРЕКРЫТИЯ | C28: Изделия Закладные | D28: ∅10А500С | E28: ГОСТ 34028-2016 | F28: т | G28: 0.0095 | H28: 75000 | I28: 28000 | J28: =ROUND(H28+I28,0) -> 103000 | K28: =ROUND(G28*H28,0) -> 713 | L28: =ROUND(G28*I28,0) -> 266 | M28: =ROUND(K28+L28,0) -> 979
A29: 10.5 | B29: Блок U1.U2 ПЛИТЫ ПЕРЕКРЫТИЯ | C29: Изделия Закладные | D29: L100х7 С255 | E29: ГОСТ 8509-93 | F29: т | G29: 0.0081 | H29: 120000 | I29: 45000 | J29: =ROUND(H29+I29,0) -> 165000 | K29: =ROUND(G29*H29,0) -> 972 | L29: =ROUND(G29*I29,0) -> 365 | M29: =ROUND(K29+L29,0) -> 1337
A30: 10.6 | B30: Блок U1.U2 ПЛИТЫ ПЕРЕКРЫТИЯ | C30: Изделия Закладные | D30: Прокат листовой горячекатаный t10 | E30: ГОСТ 19903-2015 | F30: т | G30: 0.0033 | H30: 120000 | I30: 45000 | J30: =ROUND(H30+I30,0) -> 165000 | K30: =ROUND(G30*H30,0) -> 396 | L30: =ROUND(G30*I30,0) -> 149 | M30: =ROUND(K30+L30,0) -> 545
A31: 10.7 | B31: Блок U1.U2 ПЛИТЫ ПЕРЕКРЫТИЯ | C31: Изделия Закладные | D31: [ 180х80х5 | E31: ГОСТ 8278-83 | F31: т | G31: 0.1484 | H31: 120000 | I31: 45000 | J31: =ROUND(H31+I31,0) -> 165000 | K31: =ROUND(G31*H31,0) -> 17808 | L31: =ROUND(G31*I31,0) -> 6678 | M31: =ROUND(K31+L31,0) -> 24486
A32: 10.8 | B32: Блок U1.U2 ПЛИТЫ ПЕРЕКРЫТИЯ | C32: Изделия Закладные | D32: Профилированный лист Н114-750-0,7 | E32: СТО 57398459-18-2006 | F32: кг | G32: 3525.4 | H32: 130 | I32: 65 | J32: =ROUND(H32+I32,0) -> 195 | K32: =ROUND(G32*H32,0) -> 458302 | L32: =ROUND(G32*I32,0) -> 229151 | M32: =ROUND(K32+L32,0) -> 687453
A33: 11 | B33: Блок U1.U2 ПЛИТЫ ПЕРЕКРЫТИЯ | D33: Ограждения ОГ-1, ОГ-1а | N33: 37-ИЧ/24/1-КЖ6-U1.U2
A34: 11.1 | B34: Блок U1.U2 ПЛИТЫ ПЕРЕКРЫТИЯ | C34: Ограждения ОГ-1, ОГ-1а | D34: Стекло "Триплекс" (или аналог) | E34: Многослойное стекло по ГОСТ 30826-2014 | F34: м2 | G34: 10.2 | H34: 4600 | I34: 1800 | J34: =ROUND(H34+I34,0) -> 6400 | K34: =ROUND(G34*H34,0) -> 46920 | L34: =ROUND(G34*I34,0) -> 18360 | M34: =ROUND(K34+L34,0) -> 65280
A35: 11.2 | B35: Блок U1.U2 ПЛИТЫ ПЕРЕКРЫТИЯ | C35: Ограждения ОГ-1, ОГ-1а | D35: Квадр. стальные гнутые замкнутые сварные профили □40х3 | E35: ГОСТ 30245-2003 | F35: кг | G35: 143.2 | H35: 130 | I35: 65 | J35: =ROUND(H35+I35,0) -> 195 | K35: =ROUND(G35*H35,0) -> 18616 | L35: =ROUND(G35*I35,0) -> 9308 | M35: =ROUND(K35+L35,0) -> 27924
A36: 11.3 | B36: Блок U1.U2 ПЛИТЫ ПЕРЕКРЫТИЯ | C36: Ограждения ОГ-1, ОГ-1а | D36: Распорный анкер M8x75 HiltiHST-3 (или аналог) | F36: шт. | G36: 64 | H36: 360 | I36: 140 | J36: =ROUND(H36+I36,0) -> 500 | K36: =ROUND(G36*H36,0) -> 23040 | L36: =ROUND(G36*I36,0) -> 8960 | M36: =ROUND(K36+L36,0) -> 32000
A37: 11.4 | B37: Блок U1.U2 ПЛИТЫ ПЕРЕКРЫТИЯ | C37: Ограждения ОГ-1, ОГ-1а | D37: Прокат листовой горячекатаный t8 | E37: ГОСТ 27772-2021 | F37: кг | G37: 11 | H37: 130 | I37: 65 | J37: =ROUND(H37+I37,0) -> 195 | K37: =ROUND(G37*H37,0) -> 1430 | L37: =ROUND(G37*I37,0) -> 715 | M37: =ROUND(K37+L37,0) -> 2145
A38: 11.5 | B38: Блок U1.U2 ПЛИТЫ ПЕРЕКРЫТИЯ | C38: Ограждения ОГ-1, ОГ-1а | D38: Прокат листовой горячекатаный t4 | E38: ГОСТ 27772-2021 | F38: кг | G38: 0.2 | H38: 130 | I38: 65 | J38: =ROUND(H38+I38,0) -> 195 | K38: =ROUND(G38*H38,0) -> 26 | L38: =ROUND(G38*I38,0) -> 13 | M38: =ROUND(K38+L38,0) -> 39
A39: Блок U3.U4 ПЛИТЫ ПЕРЕКРЫТИЯ
A40: 12 | B40: Блок U3.U4 ПЛИТЫ ПЕРЕКРЫТИЯ | D40: Плита перекрытия | N40: 37-ИЧ/24/1-КЖ6-U3.U4
A41: 12.1 | B41: Блок U3.U4 ПЛИТЫ ПЕРЕКРЫТИЯ | C41: Плита перекрытия | D41: В25 W6 F150 | E41: ГОСТ 7473-2010 | F41: м3 | G41: 45 | H41: 7000 | I41: 3200 | J41: =ROUND(H41+I41,0) -> 10200 | K41: =ROUND(G41*H41,0) -> 315000 | L41: =ROUND(G41*I41,0) -> 144000 | M41: =ROUND(K41+L41,0) -> 459000 | N41: Объем принят по проектной документации.
...
